BEGIN:VCALENDAR
VERSION:2.0
PRODID:-//Davai Group - ECPv6.15.18//NONSGML v1.0//EN
CALSCALE:GREGORIAN
METHOD:PUBLISH
X-WR-CALNAME:Davai Group
X-ORIGINAL-URL:https://davai-group.org
X-WR-CALDESC:Events for Davai Group
REFRESH-INTERVAL;VALUE=DURATION:PT1H
X-Robots-Tag:noindex
X-PUBLISHED-TTL:PT1H
BEGIN:VTIMEZONE
TZID:Europe/Helsinki
BEGIN:DAYLIGHT
TZOFFSETFROM:+0200
TZOFFSETTO:+0300
TZNAME:EEST
DTSTART:20230326T010000
END:DAYLIGHT
BEGIN:STANDARD
TZOFFSETFROM:+0300
TZOFFSETTO:+0200
TZNAME:EET
DTSTART:20231029T010000
END:STANDARD
BEGIN:DAYLIGHT
TZOFFSETFROM:+0200
TZOFFSETTO:+0300
TZNAME:EEST
DTSTART:20240331T010000
END:DAYLIGHT
BEGIN:STANDARD
TZOFFSETFROM:+0300
TZOFFSETTO:+0200
TZNAME:EET
DTSTART:20241027T010000
END:STANDARD
BEGIN:DAYLIGHT
TZOFFSETFROM:+0200
TZOFFSETTO:+0300
TZNAME:EEST
DTSTART:20250330T010000
END:DAYLIGHT
BEGIN:STANDARD
TZOFFSETFROM:+0300
TZOFFSETTO:+0200
TZNAME:EET
DTSTART:20251026T010000
END:STANDARD
END:VTIMEZONE
BEGIN:VEVENT
DTSTART;TZID=Europe/Helsinki:20241024T203000
DTEND;TZID=Europe/Helsinki:20241024T213000
DTSTAMP:20260420T134823
CREATED:20240819T155009Z
LAST-MODIFIED:20241020T080057Z
UID:10000110-1729801800-1729805400@davai-group.org
SUMMARY:עומאר טריו(12+) @ שער העמקים טחנת הקמח
DESCRIPTION:עומאר טריו – פרפרזה מוזיקלית בהשראת סיפורו של סמואל בקט.\nשני עומארים מקיימים קונצרט ומחכים לעומאר השלישי. האם יבוא?\nהקונצרט כולל שירים מקוריים באנגלית ואולי בספרדית\, מוזיקה מקורית\, עיבוד אלטרנטיבי ליצירה הקלאסית של בטהובן\, עיבוד של שיר ילדים בשפה ערבית\, ביצוע חופשי של להיט עולמי שפת מקור\, תהיות מלנכוליות בנושא זהותֿ מטושטשת ורגעי שקט טעונים בהומור. \nקונטראבס שירה ופסנתר\, חצוצרה מסור וחותך ביצים ביצירה אחת. \n\n\n״הטריו של עומאר הוא ריטואל מוזיקלי עוצמתי ועתיק יומין\, המבוצע לאחר החשיכה\, וחוגג את אורה הפנימי של דת העומארים הסודית\, ברוח העומאריזם ועל פי העקרונות העומאריים הקדומים. בקונצרט ינגנו עומאר\, עומאר וכמובן… עומאר\, שירים מתוך הקנון העומארי המסורתי..אוסף לטיהור הנשמה המורכב מטקסטים עומאריסטים מקוריים\, לצד קטעים קלאסיים המקבלים פרשנות עומארית   חדשנית״ \nאלעד סדן\, פסנתרן \n\nֿ\n\nמשתתפים:\nעומאר גולדמן – ויטלי אזרין\nעומאר מאסטרו – אלעד סדן \nתמונות: ולדימיר פופוב \n  \n[vc_row][vc_column width=’1/3′] [/vc_column][vc_column width=’1/3′][/vc_column][vc_column width=’1/3′][/vc_column][/vc_row] \n  \n  \n  \n[vc_video link=’https://youtu.be/5I7lkHZhy_Y’]
URL:https://davai-group.org/event/omar-mill-october-24/
LOCATION:טחנת הקמח\, שער העמקים
ATTACH;FMTTYPE=image/jpeg:https://davai-group.org/wp-content/uploads/2024/06/1.jpg
ORGANIZER;CN="Davai Clown Theatre":MAILTO:davai.group@gmail.com
END:VEVENT
END:VCALENDAR