BEGIN:VCALENDAR
VERSION:2.0
PRODID:-//Davai Group - ECPv6.15.18//NONSGML v1.0//EN
CALSCALE:GREGORIAN
METHOD:PUBLISH
X-WR-CALNAME:Davai Group
X-ORIGINAL-URL:https://davai-group.org
X-WR-CALDESC:Events for Davai Group
REFRESH-INTERVAL;VALUE=DURATION:PT1H
X-Robots-Tag:noindex
X-PUBLISHED-TTL:PT1H
BEGIN:VTIMEZONE
TZID:Europe/Helsinki
BEGIN:DAYLIGHT
TZOFFSETFROM:+0200
TZOFFSETTO:+0300
TZNAME:EEST
DTSTART:20250330T010000
END:DAYLIGHT
BEGIN:STANDARD
TZOFFSETFROM:+0300
TZOFFSETTO:+0200
TZNAME:EET
DTSTART:20251026T010000
END:STANDARD
BEGIN:DAYLIGHT
TZOFFSETFROM:+0200
TZOFFSETTO:+0300
TZNAME:EEST
DTSTART:20260329T010000
END:DAYLIGHT
BEGIN:STANDARD
TZOFFSETFROM:+0300
TZOFFSETTO:+0200
TZNAME:EET
DTSTART:20261025T010000
END:STANDARD
BEGIN:DAYLIGHT
TZOFFSETFROM:+0200
TZOFFSETTO:+0300
TZNAME:EEST
DTSTART:20270328T010000
END:DAYLIGHT
BEGIN:STANDARD
TZOFFSETFROM:+0300
TZOFFSETTO:+0200
TZNAME:EET
DTSTART:20271031T010000
END:STANDARD
END:VTIMEZONE
BEGIN:VEVENT
DTSTART;TZID=Europe/Helsinki:20260509T203000
DTEND;TZID=Europe/Helsinki:20260509T213000
DTSTAMP:20260419T230802
CREATED:20260419T133237Z
LAST-MODIFIED:20260419T193110Z
UID:10000351-1778358600-1778362200@davai-group.org
SUMMARY:טיטו והטעויות (16+) | הצגה אורחת
DESCRIPTION:טיטו והטעויות 16+ \n\n\n\n\n\n\n\nליצן ופילוסוף של טעויות מגיע באיחור של עשרות שנים למסיבת יום הולדת — ומגלה שהילדים כבר מזמן התבגרו. המופע נע בין סלפסטיק פרוע \n\n\n\nלווידויים אישיים\, בין קומדיה שחורה לחמלה. מופע ליצנות למבוגרים מצחיק\, חשוף\, ולא צפוי. \n\n\n\n\n\n\n\n\n\n\n\n\n\n\n\n\n\n\n\n \n\n\n\nאורך המופע: 50 דקותמגיל 16+ \n\n\n\nיוצר ומבצע: משה טיטו טויטו צ’ודס הראשוןתודה מיוחדת לדוש (דויד בראשי) ולרותם לוי וגה על התמיכה והליווי האמנותי. \n\n\n\n\n\n\n\n\n\nמהביקורות : \n\n\n\n\n\n\n“טיטו והטעויות” הוא מופע ליצנות שנון\, מצחיק ואנושי המצליח לרתק ולחבר את הילדים והמבוגרים כאחד.משה טויטו בדמותו הכנה והרגישה הפך טעויות ובלאגן לרגעי קסם\, גרם לצחוק משותף הנגע בכל הקהלים\,האלתורים היו חכמים ומדויקים וההתייחסות לקהל ולמרחב היתה מלאת תשומת לב וחמלה\,זה הוא מופע המזכיר לכולנו כמה יופי יש בטעות וכמה יצירתיות דרושה להפוך אותה להצלחה.
URL:https://davai-group.org/event/tito-9-may/
LOCATION:DAVAI Theatre Studio\, Franzos St 12\, Tel Aviv-Yafo
ATTACH;FMTTYPE=image/jpeg:https://davai-group.org/wp-content/uploads/2026/04/tito-2.jpg
GEO:32.05551725605;34.763571924569
X-APPLE-STRUCTURED-LOCATION;VALUE=URI;X-ADDRESS=DAVAI Theatre Studio Franzos St 12 Tel Aviv-Yafo;X-APPLE-RADIUS=500;X-TITLE=Franzos St 12:geo:34.763571924569,32.05551725605
END:VEVENT
BEGIN:VEVENT
DTSTART;TZID=Europe/Helsinki:20260606T110000
DTEND;TZID=Europe/Helsinki:20260606T120000
DTSTAMP:20260419T230802
CREATED:20260419T192426Z
LAST-MODIFIED:20260419T193303Z
UID:10000352-1780743600-1780747200@davai-group.org
SUMMARY:טיטו והטעויות (4+) | הצגה אורחת
DESCRIPTION:טיטו והטעויות 4+ \n\n\n\n\n\n\n\nמופע ליצנות אינטראקטיבי לכל המשפחהמופע סוחף שבו ילדים והורים לא רק צופים – אלא משתתפים\, צוחקים\,ונכנסים לעולם שבו טעויות הן חלק מהקסם. \n\n\n\n\n\n\n\nעל המופע:כשהיינו ילדים אמרו לנו: “אל תטעה\, תיזהר\, תפסיק לעשות שטויות”אבל טיטו? הוא עושה בדיוק ההפך.טיטו מגיע לחגוג יום הולדת לכולם — ועם כל הטעויות שלו הוא יוצר מופע מצחיק\, מפתיע ומלא לב\, שבו הקהל הופך לחלק בלתי נפרד מהחוויה. \n\n\n\nזו חוויה שבה כולם בפנים — צוחקים\, משתתפים\, ומרגישים חלק מהקסם. \n\n\n\n\n\n\n\n\nהמופע “טיטו והטעויות” זכה בפרס קיפוד הזהב 2025 כהצגה הטובה \n\n\n\nיצירה וביצוע : משה טיטו וויטו צ’ודס הראשוןתודה מיוחדת לדוש (דויד בראשי) ולרותם לוי וגה על התמיכה והליווי האמנותי. \n\n\n\n\n\n\n\n\nמהביקורות : \n\n\n\n\n\n\n“טיטו והטעויות” הוא מופע ליצנות שנון\, מצחיק ואנושי המצליח לרתק ולחבר את הילדים והמבוגרים כאחד.משה טויטו בדמותו הכנה והרגישה הפך טעויות ובלאגן לרגעי קסם\, גרם לצחוק משותף הנגע בכל הקהלים\,האלתורים היו חכמים ומדויקים וההתייחסות לקהל ולמרחב היתה מלאת תשומת לב וחמלה\,זה הוא מופע המזכיר לכולנו כמה יופי יש בטעות וכמה יצירתיות דרושה להפוך אותה להצלחה.
URL:https://davai-group.org/event/tito-kids-6-june/
LOCATION:DAVAI Theatre Studio\, Franzos St 12\, Tel Aviv-Yafo
ATTACH;FMTTYPE=image/jpeg:https://davai-group.org/wp-content/uploads/2026/04/tito-kids-1.jpg
GEO:32.05551725605;34.763571924569
X-APPLE-STRUCTURED-LOCATION;VALUE=URI;X-ADDRESS=DAVAI Theatre Studio Franzos St 12 Tel Aviv-Yafo;X-APPLE-RADIUS=500;X-TITLE=Franzos St 12:geo:34.763571924569,32.05551725605
END:VEVENT
END:VCALENDAR