BEGIN:VCALENDAR
VERSION:2.0
PRODID:-//Davai Group - ECPv6.15.18//NONSGML v1.0//EN
CALSCALE:GREGORIAN
METHOD:PUBLISH
X-WR-CALNAME:Davai Group
X-ORIGINAL-URL:https://davai-group.org
X-WR-CALDESC:Events for Davai Group
REFRESH-INTERVAL;VALUE=DURATION:PT1H
X-Robots-Tag:noindex
X-PUBLISHED-TTL:PT1H
BEGIN:VTIMEZONE
TZID:Europe/Helsinki
BEGIN:DAYLIGHT
TZOFFSETFROM:+0200
TZOFFSETTO:+0300
TZNAME:EEST
DTSTART:20240331T010000
END:DAYLIGHT
BEGIN:STANDARD
TZOFFSETFROM:+0300
TZOFFSETTO:+0200
TZNAME:EET
DTSTART:20241027T010000
END:STANDARD
BEGIN:DAYLIGHT
TZOFFSETFROM:+0200
TZOFFSETTO:+0300
TZNAME:EEST
DTSTART:20250330T010000
END:DAYLIGHT
BEGIN:STANDARD
TZOFFSETFROM:+0300
TZOFFSETTO:+0200
TZNAME:EET
DTSTART:20251026T010000
END:STANDARD
BEGIN:DAYLIGHT
TZOFFSETFROM:+0200
TZOFFSETTO:+0300
TZNAME:EEST
DTSTART:20260329T010000
END:DAYLIGHT
BEGIN:STANDARD
TZOFFSETFROM:+0300
TZOFFSETTO:+0200
TZNAME:EET
DTSTART:20261025T010000
END:STANDARD
END:VTIMEZONE
BEGIN:VEVENT
DTSTART;TZID=Europe/Helsinki:20251025T110000
DTEND;TZID=Europe/Helsinki:20251025T120000
DTSTAMP:20260421T125927
CREATED:20250616T211157Z
LAST-MODIFIED:20251024T222321Z
UID:10000256-1761390000-1761393600@davai-group.org
SUMMARY:ללא היסוס - סוס! (5+) | הצגה אורחת @ סטודיו דוואי
DESCRIPTION:ללא היסוס – סוס! 5+ \n\n\n\nמיטל רז וקרן דמבינסקי \n\n\n\n\n\n\n\nגברות נפלאות\, אדונים נכבדים בואו לראות:שני מופעים קצרים של תיאטרון בובות מקורי\,סוחף\, מלא דמיון והמצאותשפמים מעופפים \, ריקודים הודים\, בישולים בארבע ידיים\, זוג גמדים\, נמר אחד רעב ועוד!שני מופעים בזה אחר זה\, ואחרי זה? החיים כבר לא יהיו אותו דבר!שני מופעים בזה אחר זה של תיאטרון בובות פרוע\, מקורי\, סוחף\, מלא דמיון\, הומור והמצאות: "הסיפור על דומי ודומה“"ללא היסוס - סוס!"
URL:https://davai-group.org/event/of-course-a-horse-25-october/
LOCATION:DAVAI Theatre Studio\, Franzos St 12\, Tel Aviv-Yafo
ATTACH;FMTTYPE=image/jpeg:https://davai-group.org/wp-content/uploads/2025/05/sus-last-1.jpg
GEO:32.05551725605;34.763571924569
X-APPLE-STRUCTURED-LOCATION;VALUE=URI;X-ADDRESS=DAVAI Theatre Studio Franzos St 12 Tel Aviv-Yafo;X-APPLE-RADIUS=500;X-TITLE=Franzos St 12:geo:34.763571924569,32.05551725605
END:VEVENT
BEGIN:VEVENT
DTSTART;TZID=Europe/Helsinki:20250913T110000
DTEND;TZID=Europe/Helsinki:20250913T120000
DTSTAMP:20260421T125927
CREATED:20250616T210101Z
LAST-MODIFIED:20250911T203623Z
UID:10000255-1757761200-1757764800@davai-group.org
SUMMARY:ללא היסוס - סוס! (5+) | הצגה אורחת @ סטודיו דוואי
DESCRIPTION:ללא היסוס – סוס! 5+ \n\n\n\nמיטל רז וקרן דמבינסקי \n\n\n\n\n\n\n\nגברות נפלאות\, אדונים נכבדים בואו לראות:שני מופעים קצרים של תיאטרון בובות מקורי\,סוחף\, מלא דמיון והמצאותשפמים מעופפים \, ריקודים הודים\, בישולים בארבע ידיים\, זוג גמדים\, נמר אחד רעב ועוד!שני מופעים בזה אחר זה\, ואחרי זה? החיים כבר לא יהיו אותו דבר!שני מופעים בזה אחר זה של תיאטרון בובות פרוע\, מקורי\, סוחף\, מלא דמיון\, הומור והמצאות: "הסיפור על דומי ודומה“"ללא היסוס - סוס!"
URL:https://davai-group.org/event/of-course-a-horse-13-september/
LOCATION:DAVAI Theatre Studio\, Franzos St 12\, Tel Aviv-Yafo
ATTACH;FMTTYPE=image/jpeg:https://davai-group.org/wp-content/uploads/2025/05/sus-last-1.jpg
GEO:32.05551725605;34.763571924569
X-APPLE-STRUCTURED-LOCATION;VALUE=URI;X-ADDRESS=DAVAI Theatre Studio Franzos St 12 Tel Aviv-Yafo;X-APPLE-RADIUS=500;X-TITLE=Franzos St 12:geo:34.763571924569,32.05551725605
END:VEVENT
BEGIN:VEVENT
DTSTART;TZID=Europe/Helsinki:20250607T110000
DTEND;TZID=Europe/Helsinki:20250607T120000
DTSTAMP:20260421T125927
CREATED:20250502T095137Z
LAST-MODIFIED:20250616T154831Z
UID:10000229-1749294000-1749297600@davai-group.org
SUMMARY:ללא היסוס\, סוס (5+) | הצגה אורחת @ סטודיו דוואי
DESCRIPTION:ללא היסוס\, סוס \nמיטל רז וקרן דמבינסקי \nגברות נפלאות\, אדונים נכבדים בואו לראות:\nשני מופעים קצרים של תיאטרון בובות מקורי\,סוחף\, מלא דמיון והמצאות\nשפמים מעופפים \, ריקודים הודים\, בישולים בארבע ידיים\, זוג גמדים\, נמר אחד רעב ועוד!\nשני מופעים בזה אחר זה\, ואחרי זה? החיים כבר לא יהיו אותו דבר!\nשני מופעים בזה אחר זה של תיאטרון בובות פרוע\, מקורי\, סוחף\, מלא דמיון\, הומור והמצאות: “הסיפור על דומי ודומה“ \, ” ללא היסוס – סוס! “ \nיוצרות ומבצעות: מיטל רז וקרן דמבינסקי
URL:https://davai-group.org/event/of-course-a-horse/
LOCATION:DAVAI Theatre Studio\, Franzos St 12\, Tel Aviv-Yafo
ATTACH;FMTTYPE=image/jpeg:https://davai-group.org/wp-content/uploads/2025/05/sus-soldout.jpg
GEO:32.05551725605;34.763571924569
X-APPLE-STRUCTURED-LOCATION;VALUE=URI;X-ADDRESS=DAVAI Theatre Studio Franzos St 12 Tel Aviv-Yafo;X-APPLE-RADIUS=500;X-TITLE=Franzos St 12:geo:34.763571924569,32.05551725605
END:VEVENT
END:VCALENDAR