BEGIN:VCALENDAR
VERSION:2.0
PRODID:-//Davai Group - ECPv6.15.18//NONSGML v1.0//EN
CALSCALE:GREGORIAN
METHOD:PUBLISH
X-ORIGINAL-URL:https://davai-group.org
X-WR-CALDESC:Events for Davai Group
REFRESH-INTERVAL;VALUE=DURATION:PT1H
X-Robots-Tag:noindex
X-PUBLISHED-TTL:PT1H
BEGIN:VTIMEZONE
TZID:Europe/Helsinki
BEGIN:DAYLIGHT
TZOFFSETFROM:+0200
TZOFFSETTO:+0300
TZNAME:EEST
DTSTART:20230326T010000
END:DAYLIGHT
BEGIN:STANDARD
TZOFFSETFROM:+0300
TZOFFSETTO:+0200
TZNAME:EET
DTSTART:20231029T010000
END:STANDARD
BEGIN:DAYLIGHT
TZOFFSETFROM:+0200
TZOFFSETTO:+0300
TZNAME:EEST
DTSTART:20240331T010000
END:DAYLIGHT
BEGIN:STANDARD
TZOFFSETFROM:+0300
TZOFFSETTO:+0200
TZNAME:EET
DTSTART:20241027T010000
END:STANDARD
BEGIN:DAYLIGHT
TZOFFSETFROM:+0200
TZOFFSETTO:+0300
TZNAME:EEST
DTSTART:20250330T010000
END:DAYLIGHT
BEGIN:STANDARD
TZOFFSETFROM:+0300
TZOFFSETTO:+0200
TZNAME:EET
DTSTART:20251026T010000
END:STANDARD
END:VTIMEZONE
BEGIN:VEVENT
DTSTART;TZID=Europe/Helsinki:20240713T203000
DTEND;TZID=Europe/Helsinki:20240713T220000
DTSTAMP:20260420T070525
CREATED:20240624T161504Z
LAST-MODIFIED:20240713T165912Z
UID:10000090-1720902600-1720908000@davai-group.org
SUMMARY:מפריעות(16+) - הצגה אורחת
DESCRIPTION:ההצגה מצטלמת ופתוחה לקהל במחיר מוזל* \nתיאטרון הקוקיה \nשלוש נשים נפגשות בחדר המתנה אחד\,ממתינות. \nבתווך שבין כניסה ליציאה נוצרת הזדמנות נדירה.\nהאם פגישה מקרית תאפשר הכרות? הכרה? \nבעולמן הפנטסטי\, שלל רגעים נוטפים כאב\, צחוק\, בלבול\, כמיהה\, פחד\, עונג\, תשוקה\, נחמה\, אחווה \nוהכל בין בחירה לבחירה בין מה שעכשיו למה שבא. \nמפריעות. למה?\nבואו שנפריע לכם קצת\nבואו לעוף איתנו רחוק\nואז לחזור\nמבטיחות♥️ \nההצגה עוסקת בהתמודדות של הפרט עם העולם המודרני המשתנה תדיר\, ומציע הפרעות בלי סוף\, אל מול הכמיהה לקבלה\, חמלה ונחמה. \nכתבו עלינו: \n״אתמול בערב\, בזמן שהכל מתפרק פה לחתיכות\, נכנסתי לחדר המתנה ירקרק וצפיתי בהצגה המטורפת מפריעות של תיאטרון הקוקיה. שלוש נשים\, שחקניות בחסד\, מעלות מופע רגיש\, מצחיק\, עצוב\, מטריד\, מעורר שאלות\, מחשבות\, עם עבודה מדהימה של כל שריר בפנים\, בגוף\, מנעד ווקלי יפהפה\nמוסיקה עדינה ומפלחת נפש\, תפאורה והלבשה מעולמות אחרים….״ ענת מור אילת \n״וואו וואו. ועוד וואו.\nמפגן עוצמתי של איכות… רמת משחק מעולה.. אחת מההצגות הטובות שראיתי…\nדמעות\, צחוק והשתאות התערבבו להן יחד…״ ערן מוסקוביץ׳ \nבימוי: גילי עברי \nשותפות ליצירה ומבצעות:\nאילת שדמון עברי\, לי אלוני\, רוני גריי \nדרמטורגיה:\nיעל ציטרון \nעיצוב במה ותלבושות:\nיערה צדוק \nתפירת תלבושות:\nליאוניד אליסוב \nעיצוב תאורה:\nמרטין עדין\n​\nמוסיקה מקורית וניהול מוסיקלי:\nאסף לוינבוק\n​\nמוזיקאים נוספים:\nראם הראובני\nרוני גריי
URL:https://davai-group.org/event/mafriot-13-july/
LOCATION:DAVAI Theatre Studio\, Franzos St 12\, Tel Aviv-Yafo
ATTACH;FMTTYPE=image/jpeg:https://davai-group.org/wp-content/uploads/2024/05/mafriot-rec-Large.jpeg
GEO:32.05551725605;34.763571924569
X-APPLE-STRUCTURED-LOCATION;VALUE=URI;X-ADDRESS=DAVAI Theatre Studio Franzos St 12 Tel Aviv-Yafo;X-APPLE-RADIUS=500;X-TITLE=Franzos St 12:geo:34.763571924569,32.05551725605
END:VEVENT
BEGIN:VEVENT
DTSTART;TZID=Europe/Helsinki:20240712T210000
DTEND;TZID=Europe/Helsinki:20240712T223000
DTSTAMP:20260420T070525
CREATED:20240705T123623Z
LAST-MODIFIED:20240712T171754Z
UID:10000093-1720818000-1720823400@davai-group.org
SUMMARY:Drunk'N'Brass Orchestra
DESCRIPTION:“Drunk’N’Brass Orchestra” \nערב פאנק קברט צועני \nזוכרים את האחים קוצ’ר?\nהם חוזרים להופיע בפרויקט חדש!\nבואו להתבשל איתנו במרק צועני עם ניכוח קרקסי המתובל בסקא ופוקסטרוט ואפילו טנגו.\nיהיו שירים חדשים ושירים ישנים שרבים זוכרים מ…\n“Doolee Band”\,”Kriminal Project”\,”Goy Division” \nהרכב המשתתפים:\nנדיה קוצ’ר – שירה\nאנטושה קוצ’ר – גיטרה\, שירה\nואדים יגמן – חצוצרה\nסרגיי בורקוב – טובה\nולד רוש – תופים\nבוריס מרצינובסקי – אקורדיון \nבערב עצמו אנו נשען על כתפיו הרחבות של \nיבגני לשצ’נקו DJ.WC\nהוא ייקח אותנו אל הלא נודע ואל ריקודי הפולחן של בסרביים. \n  \n  \n[vc_row][vc_column width=’1/3′] \n[/vc_column][vc_column width=’1/3′] \n[/vc_column][vc_column width=’1/3′] \n[/vc_column][/vc_row]
URL:https://davai-group.org/event/drunk-and-brass/
LOCATION:DAVAI Theatre Studio\, Franzos St 12\, Tel Aviv-Yafo
ATTACH;FMTTYPE=image/jpeg:https://davai-group.org/wp-content/uploads/2024/07/frame-000257.jpg
GEO:32.05551725605;34.763571924569
X-APPLE-STRUCTURED-LOCATION;VALUE=URI;X-ADDRESS=DAVAI Theatre Studio Franzos St 12 Tel Aviv-Yafo;X-APPLE-RADIUS=500;X-TITLE=Franzos St 12:geo:34.763571924569,32.05551725605
END:VEVENT
BEGIN:VEVENT
DTSTART;TZID=Europe/Helsinki:20240703T173000
DTEND;TZID=Europe/Helsinki:20240703T182000
DTSTAMP:20260420T070525
CREATED:20240627T105407Z
LAST-MODIFIED:20240703T110014Z
UID:10000092-1720027800-1720030800@davai-group.org
SUMMARY:פסטיבל דוואיצ׳יק | קברט ״סגירה פתוחה״ (4+)
DESCRIPTION:הפעם! \nשום ליצנות\, שום בדיחות\, שום שמיר\, \nרק קונצרט רציני מאוד עם מיטב המוזיקאים של תיאטרון דוואי! \nבדיקה של חומרים חדשים על קהל וותיק\, באירוע פתוח של סגירת הפסטיבל דוואיצ׳ק. \n  \n \n  \n\nתביאו את המחברות הישנות….\nנאכיל איתם את הגרסן המצוי וביחד ניצור דוואי-צורים וסיכות מגניבות!!! \nלכבוד היום האחרון ללימודים\, אנחנו מזמינים אתכם לפסטיבל דוואיצ’יק – ארבעה ימים של הצגות לכל המשפחה באווירה ליצנית\, צבעונית ו-מ-ש-ו-ג-ע-ת!\nאכן\, תקופה מלחיצה ומטלטלת\, הגיע הזמן לצאת ולשמוח יחד עם הילדים.\nמה מצפה לכם בפסטיבל?\n✨ הצגות ליצנות משעשעות מבית תיאטרון דוואי ואורחים מיוחדים\n🍭 דוכני כיבוד לילדים ודוכני שיכר להורים\n🎪 פעילויות יצירה מדהימות (תביאו את המחברות מהשנה שעברה!)\n🤹‍♀️ אווירה פסטיבלית\, שמחה ומרגשת\nבואו לחגוג איתנו את סיום שנת הלימודים\, לצחוק יחד ולהנות מרגעי אושר משפחתיים. כי אחרי התקופה הקשה\, כולנו ראויים לשמחה.\nהפסטיבל יתקיים בתיאטרון דוואי ברחוב פרנצ’ויז 12 בתל אביב\, בין התאריכים 1-4.7. \n  \n﻿ \n\n *הנחה -25% לכרטיס משפחתי (4 כרטיסים ומעלה) – קוד קופון:   משפחה
URL:https://davai-group.org/event/open-close-kabaret/
LOCATION:DAVAI Theatre Studio\, Franzos St 12\, Tel Aviv-Yafo
CATEGORIES:Festival Davaichik
ATTACH;FMTTYPE=image/jpeg:https://davai-group.org/wp-content/uploads/2024/06/kabaret-small-new.jpg
ORGANIZER;CN="Davai Clown Theatre":MAILTO:davai.group@gmail.com
GEO:32.05551725605;34.763571924569
X-APPLE-STRUCTURED-LOCATION;VALUE=URI;X-ADDRESS=DAVAI Theatre Studio Franzos St 12 Tel Aviv-Yafo;X-APPLE-RADIUS=500;X-TITLE=Franzos St 12:geo:34.763571924569,32.05551725605
END:VEVENT
BEGIN:VEVENT
DTSTART;TZID=Europe/Helsinki:20240701T110000
DTEND;TZID=Europe/Helsinki:20240701T120000
DTSTAMP:20260420T070525
CREATED:20240615T122341Z
LAST-MODIFIED:20240630T152719Z
UID:10000083-1719831600-1719835200@davai-group.org
SUMMARY:פסטיבל דוואיצ׳יק | המזיענים (4+)
DESCRIPTION:מופע ספורט ליצני לכל המשפחה \nגבוה יותר\, רחוק יותר\, חזק יותר! \nשלושה נוודים מרופטים מגיעים לבמה שעליה כיכבו עוד במאה הקודמת\, ולמרבה הפתעתם\, מוצאים שם את הצלע הרביעית שחיפשו במשך כל השנים האלה! \nנשאר לנער אבק מהתלבושות ולקוות שכולם זוכרים את המופע! \nקבלו את נבחרת הליצנים האולימפית: \nואדים אקסטרים – מרסק הלבנים עומאר המוזר – הצולף בבלונים קסיאן הקפצן – הממריא לעננים זאק החזק – שכל דבר מרים \nמופע מצחיק\, צבעוני ודינמי\, חגיגה תיאטרלית בשיתוף הקהל. \nמשך: 45 ד׳ קהל יעד: מגיל 3 ועד בכלל כולל הכול שפה: ללא \n  \n\n\n﻿ \n\n  \n\n\nתביאו את המחברות הישנות…. נאכיל איתם את הגרסן המצוי וביחד ניצור דוואי-צורים וסיכות מגניבות!!! \nלכבוד היום האחרון ללימודים\, אנחנו מזמינים אתכם לפסטיבל דוואיצ’יק – ארבעה ימים של הצגות לכל המשפחה באווירה ליצנית\, צבעונית ו-מ-ש-ו-ג-ע-ת! אכן\, תקופה מלחיצה ומטלטלת\, הגיע הזמן לצאת ולשמוח יחד עם הילדים. מה מצפה לכם בפסטיבל? ✨ הצגות ליצנות משעשעות מבית תיאטרון דוואי ואורחים מיוחדים 🍭 דוכני כיבוד לילדים ודוכני שיכר להורים 🎪 פעילויות יצירה מדהימות (תביאו את המחברות מהשנה שעברה!) 🤹‍♀️ אווירה פסטיבלית\, שמחה ומרגשת בואו לחגוג איתנו את סיום שנת הלימודים\, לצחוק יחד ולהנות מרגעי אושר משפחתיים. כי אחרי התקופה הקשה\, כולנו ראויים לשמחה. הפסטיבל יתקיים בתיאטרון דוואי ברחוב פרנצ’ויז 12 בתל אביב\, בין התאריכים 1-4.7. \n \n \n \n \n *הנחה -25% לכרטיס משפחתי (4 כרטיסים ומעלה) – קוד קופון:   משפחה\n \n\n  \n\n\n\n \n\n 
URL:https://davai-group.org/event/kakamaika1-davaichik/
LOCATION:DAVAI Theatre Studio\, Franzos St 12\, Tel Aviv-Yafo
CATEGORIES:Festival Davaichik
ATTACH;FMTTYPE=image/jpeg:https://davai-group.org/wp-content/uploads/2024/06/mazianin-1-7-ahronim-sm.jpg
ORGANIZER;CN="Davai Clown Theatre":MAILTO:davai.group@gmail.com
GEO:32.05551725605;34.763571924569
X-APPLE-STRUCTURED-LOCATION;VALUE=URI;X-ADDRESS=DAVAI Theatre Studio Franzos St 12 Tel Aviv-Yafo;X-APPLE-RADIUS=500;X-TITLE=Franzos St 12:geo:34.763571924569,32.05551725605
END:VEVENT
BEGIN:VEVENT
DTSTART;TZID=Europe/Helsinki:20240615T110000
DTEND;TZID=Europe/Helsinki:20240615T120000
DTSTAMP:20260420T070525
CREATED:20240303T152211Z
LAST-MODIFIED:20240613T222738Z
UID:10000047-1718449200-1718452800@davai-group.org
SUMMARY:אפצי(3+) @ סטודיו דוואי
DESCRIPTION:אפצ’י הוא מופע של תיאטרון חזותי-פיזי ללא מילים הפונה לילדים הקטנים שבחבורה\, ויענג במיוחד את בני 3-6. \nשיחת טלפון חשובה מזרזת את הליצן להתארגן ולצאת מביתו כדי לדוג דג גדול. למרות הגשם המפתיע\, מחליט הליצן שזו הזדמנות שאסור לפספס ומתוך כל ההתארגנות המהירה שוכח לנעול  את נעליו וכך דורך על שלולית גדולה… האפצ’י הראשון לא מאחר להגיע וכך גם הבאים אחריו. מתוסכל\, חולה ומנוזל\, נשאר הליצן בביתו\, מוקף ברחמים עצמיים ובחפצים שמקבלים לפתע חיים ובחכה שכבר לא תתפוס היום דגים. מתוך כך\, מחליט לרפא את עצמו ולא להיכנע לרחמים העצמיים ובצורה משעשעת יוצר לעצמו תרופת פלא ולומד להתגבר לגמרי לבד על קשייו. *מבוסס על צינון אמיתי” יצירה\, בימוי\,עיצוב תפאורה\, עריכה מוסיקלית ומשחק: לושה גבריאלוב \n 
URL:https://davai-group.org/event/apchee-june-15/
LOCATION:DAVAI Theatre Studio\, Franzos St 12\, Tel Aviv-Yafo
ATTACH;FMTTYPE=image/jpeg:https://davai-group.org/wp-content/uploads/2024/03/apchi-ahronim.jpg
ORGANIZER;CN="Davai Clown Theatre":MAILTO:davai.group@gmail.com
GEO:32.05551725605;34.763571924569
X-APPLE-STRUCTURED-LOCATION;VALUE=URI;X-ADDRESS=DAVAI Theatre Studio Franzos St 12 Tel Aviv-Yafo;X-APPLE-RADIUS=500;X-TITLE=Franzos St 12:geo:34.763571924569,32.05551725605
END:VEVENT
BEGIN:VEVENT
DTSTART;TZID=Europe/Helsinki:20240603T200000
DTEND;TZID=Europe/Helsinki:20240603T213000
DTSTAMP:20260420T070525
CREATED:20240508T095246Z
LAST-MODIFIED:20240603T134638Z
UID:10000067-1717444800-1717450200@davai-group.org
SUMMARY:סטנגה
DESCRIPTION:התקופה קשה\nהמצב ממש ממש גרוע\nהעתיד לא נראה ורוד \nאז קבלו את סטנגה בסגול חציל\n3/6 תיאטרון דוואי 20:00 \n*המבצע עד גמר המלאי או עד סוף החיים\, מילים כמו פירעון ותוקף וכל הכסף שלכם שלנו עכשיו לכו תזדיינו יא זונות
URL:https://davai-group.org/event/stange-june-3/
LOCATION:DAVAI Theatre Studio\, Franzos St 12\, Tel Aviv-Yafo
ORGANIZER;CN="Davai Clown Theatre":MAILTO:davai.group@gmail.com
GEO:32.05551725605;34.763571924569
X-APPLE-STRUCTURED-LOCATION;VALUE=URI;X-ADDRESS=DAVAI Theatre Studio Franzos St 12 Tel Aviv-Yafo;X-APPLE-RADIUS=500;X-TITLE=Franzos St 12:geo:34.763571924569,32.05551725605
END:VEVENT
END:VCALENDAR