BEGIN:VCALENDAR
VERSION:2.0
PRODID:-//Davai Group - ECPv6.15.18//NONSGML v1.0//EN
CALSCALE:GREGORIAN
METHOD:PUBLISH
X-ORIGINAL-URL:https://davai-group.org
X-WR-CALDESC:Events for Davai Group
REFRESH-INTERVAL;VALUE=DURATION:PT1H
X-Robots-Tag:noindex
X-PUBLISHED-TTL:PT1H
BEGIN:VTIMEZONE
TZID:Europe/Helsinki
BEGIN:DAYLIGHT
TZOFFSETFROM:+0200
TZOFFSETTO:+0300
TZNAME:EEST
DTSTART:20240331T010000
END:DAYLIGHT
BEGIN:STANDARD
TZOFFSETFROM:+0300
TZOFFSETTO:+0200
TZNAME:EET
DTSTART:20241027T010000
END:STANDARD
BEGIN:DAYLIGHT
TZOFFSETFROM:+0200
TZOFFSETTO:+0300
TZNAME:EEST
DTSTART:20250330T010000
END:DAYLIGHT
BEGIN:STANDARD
TZOFFSETFROM:+0300
TZOFFSETTO:+0200
TZNAME:EET
DTSTART:20251026T010000
END:STANDARD
BEGIN:DAYLIGHT
TZOFFSETFROM:+0200
TZOFFSETTO:+0300
TZNAME:EEST
DTSTART:20260329T010000
END:DAYLIGHT
BEGIN:STANDARD
TZOFFSETFROM:+0300
TZOFFSETTO:+0200
TZNAME:EET
DTSTART:20261025T010000
END:STANDARD
END:VTIMEZONE
BEGIN:VEVENT
DTSTART;TZID=Europe/Helsinki:20250905T203000
DTEND;TZID=Europe/Helsinki:20250905T213000
DTSTAMP:20260419T200625
CREATED:20250604T161934Z
LAST-MODIFIED:20250610T163447Z
UID:10000243-1757104200-1757107800@davai-group.org
SUMMARY:אור(16+) @ סטודיו דוואי
DESCRIPTION:אור \n\n\n\nמחשבות על מלחמה \n\n\n\n\n\n\n\n\n\n\n\n\n״יצרתי את ההצגה הזאת בזמן שהצבא הרוסי החל להפציץ תחנות כוח באוקראינה.  \n\n\n\nאוקראינה צללה לתוך קור וחושך כל העולם התחיל לתרום שמיכות וגנרטורים. מכאן הגיע השם להצגה-“אור”. אני\, כמו כולם\, תהיתי\,  \n\n\n\nמה אני יכול לעשות כדי לעצור את המלחמה? \n\n\n\nהכל פשוט.. כדי להביס את החושך\, עליך להדליק את האור. יש את מי שידליק גפרור\, פנס\, נר\, חתיכת פחם\, יחשוב מחשבה טובה\, יזרוק חיוך.  \n\n\n\nהנשק שלי הוא צחוק. צחוק הורג את הפחד צחוק מוליד טוב “אור” אלו המחשבות הטובות שלי על המלחמה הרעה״ \n\n\n\nלושה גבריאלוב  \n\n\n\n\n\n\n\n\n\n\n\n\n\n\n\n\n\n\n\n\n\n\n\n\n\n\n\n\n\n\n\n\n\n\n\n\nמידע כללי: \n\n\n\n\n\n\n\nללא מילים \n\n\n\nמשך ההצגה: 60 דק׳ \n\n\n\nלגילי 16+ \n\n\n\n\n\n\n\nיוצרים: \n\n\n\n\n\n\n\nבימוי וביצוע: לושה גבריאלוב \n\n\n\nסאונד: דניאל קורונקביץ׳ \n\n\n\nתאורה: איליה גרצ׳יקוב \n\n\n\nתלבושות: ורברה גווזדיק  \n\n\n\nתפאורה: לושה גבריאלוב \n\n\n\n\n\n\n[vc_video link=’https://www.youtube.com/watch?v=YRzRM8SNOuE&ab_channel=DavaiTheatre’]
URL:https://davai-group.org/event/light-5-september/
ATTACH;FMTTYPE=image/jpeg:https://davai-group.org/wp-content/uploads/2025/01/FB_IMG_1738179986541.jpg
ORGANIZER;CN="Davai Clown Theatre":MAILTO:davai.group@gmail.com
END:VEVENT
BEGIN:VEVENT
DTSTART;TZID=Europe/Helsinki:20250906T203000
DTEND;TZID=Europe/Helsinki:20250906T213000
DTSTAMP:20260419T200625
CREATED:20250604T162151Z
LAST-MODIFIED:20250610T162244Z
UID:10000244-1757190600-1757194200@davai-group.org
SUMMARY:אור(16+) @ סטודיו דוואי
DESCRIPTION:אור \n\n\n\nמחשבות על מלחמה \n\n\n\n\n\n\n\n\n\n\n\n\n״יצרתי את ההצגה הזאת בזמן שהצבא הרוסי החל להפציץ תחנות כוח באוקראינה.  \n\n\n\nאוקראינה צללה לתוך קור וחושך כל העולם התחיל לתרום שמיכות וגנרטורים. מכאן הגיע השם להצגה-“אור”. אני\, כמו כולם\, תהיתי\,  \n\n\n\nמה אני יכול לעשות כדי לעצור את המלחמה? \n\n\n\nהכל פשוט.. כדי להביס את החושך\, עליך להדליק את האור. יש את מי שידליק גפרור\, פנס\, נר\, חתיכת פחם\, יחשוב מחשבה טובה\, יזרוק חיוך.  \n\n\n\nהנשק שלי הוא צחוק. צחוק הורג את הפחד צחוק מוליד טוב “אור” אלו המחשבות הטובות שלי על המלחמה הרעה״ \n\n\n\nלושה גבריאלוב  \n\n\n\n\n\n\n\n\n\n\n\n\n\n\n\n\n\n\n\n\n\n\n\n\n\n\n\n\n\n\n\n\n\n\n\n\nמידע כללי: \n\n\n\n\n\n\n\nללא מילים \n\n\n\nמשך ההצגה: 60 דק׳ \n\n\n\nלגילי 16+ \n\n\n\n\n\n\n\nיוצרים: \n\n\n\n\n\n\n\nבימוי וביצוע: לושה גבריאלוב \n\n\n\nסאונד: דניאל קורונקביץ׳ \n\n\n\nתאורה: איליה גרצ׳יקוב \n\n\n\nתלבושות: ורברה גווזדיק  \n\n\n\nתפאורה: לושה גבריאלוב \n\n\n\n\n\n\n[vc_video link=’https://www.youtube.com/watch?v=YRzRM8SNOuE&ab_channel=DavaiTheatre’]
URL:https://davai-group.org/event/light-6-september/
ATTACH;FMTTYPE=image/jpeg:https://davai-group.org/wp-content/uploads/2025/01/FB_IMG_1738179986541.jpg
ORGANIZER;CN="Davai Clown Theatre":MAILTO:davai.group@gmail.com
END:VEVENT
BEGIN:VEVENT
DTSTART;TZID=Europe/Helsinki:20250911T203000
DTEND;TZID=Europe/Helsinki:20250911T220000
DTSTAMP:20260419T200625
CREATED:20250625T095612Z
LAST-MODIFIED:20250625T095614Z
UID:10000262-1757622600-1757628000@davai-group.org
SUMMARY:UNDER CONSTRUCTION(12+) @ Jerusalem Karon Theatre
DESCRIPTION:UNDER CONSTRUCTION 12+ \n\n\n\n\n\n\n\nמופע תיאטרון פיזי ללא מילים \n\n\n\n\n\n\n\nשלושה רווקים מתעוררים בבוקר בדירתם הצפוצה והמתפרקת ומנסים להרתיח קומקום. \n\n\n\nהתוצאה – 80 דקות של הומור מטורף ללא מלים שסוחפות את הצופה לעולם אבסורדי\, בדיוני\, ואמיתי עד כדי דגדוג. \n\n\n\n\n\n\n\nהמופע הוצג בפסטיבלים בינלאומיים לתיאטרון במקסיקו\, ספרד\, הודו\, סרביה\, רוסיה וארה׳׳ב וזכה בפרס קיפוד הזהב. \n\n\n\n\n\n\n\n\n\n\n Jerusalem Post: ״מצחיק בטירוף\, תוצר דמיונם הפרוע של שלושה ליצנים וירטואוזים״   \n\n\n\n Times Of India: ״המופע קרע את הקהל מצחוק״…  \n\n\n\nCleveland News: “…שבעיים דקות מהפנטות ללא מילים”  \n\n\n\n פסטיבל אינפנט\, סרביה: ״אקספרסיביות בלתי רגילה שחוצה את גבולות התיאטרון  מנימוקי חבר השופטים“ \n\n\n\nמגזין ״מרתה יודעת״: פרינג’ במיטבו – “בועט\, חדשני\, חוויה מסעירה לכל החושים\, המתובלת במנה גדושה של פעלולים  \n\n\n\nטכניים ופיזיים המבוצעים לעילא על ידי השחקנים. \n\n\n\n\n\n\n\n\n\n\n\n\n\n\n\n\n\n\nוצרים: \n\n\n\n\n\n\n\nבימוי\,ביצוע ומשחק:  \n\n\n\nלושה גבריאלוב\, פיודור מקרוב\, ויטלי אזרין \n\n\n\nמלחין: דניאל סינייסקי \n\n\n\nתאורה: איליה גרצ׳יקוב | דורון דודין \n\n\n\nסאונד: דניאל קורונקביץ׳ \n\n\n\nתלבושות: יסמין וולק \n\n\n\nתפאורה: לושה גבריאלוב \n\n\n\n\n\n\n\n\n\n\n\nומידע כללי: \n\n\n\n\n\n\n\nללא מילים \n\n\n\nמשך ההצגה: 80 דק׳ \n\n\n\nמתאים מגיל 12+* \n\n\n\n*בהצגה יש עירום חלקי \n\n\n\n\n\n\n\n\n\n\n\n\n\n\n\n\n\n\n[vc_video link=’https://www.youtube.com/watch?v=k168onFuDko&embeds_referring_euri=https%3A%2F%2Fdavai-group.org%2F&source_ve_path=Mjg2NjY’]
URL:https://davai-group.org/event/under-11-september-karon/
ATTACH;FMTTYPE=image/jpeg:https://davai-group.org/wp-content/uploads/2024/11/Under-Jerusalem-1.jpg
ORGANIZER;CN="Davai Clown Theatre":MAILTO:davai.group@gmail.com
END:VEVENT
BEGIN:VEVENT
DTSTART;TZID=Europe/Helsinki:20250913T110000
DTEND;TZID=Europe/Helsinki:20250913T120000
DTSTAMP:20260419T200625
CREATED:20250616T210101Z
LAST-MODIFIED:20250911T203623Z
UID:10000255-1757761200-1757764800@davai-group.org
SUMMARY:ללא היסוס - סוס! (5+) | הצגה אורחת @ סטודיו דוואי
DESCRIPTION:ללא היסוס – סוס! 5+ \n\n\n\nמיטל רז וקרן דמבינסקי \n\n\n\n\n\n\n\nגברות נפלאות\, אדונים נכבדים בואו לראות:שני מופעים קצרים של תיאטרון בובות מקורי\,סוחף\, מלא דמיון והמצאותשפמים מעופפים \, ריקודים הודים\, בישולים בארבע ידיים\, זוג גמדים\, נמר אחד רעב ועוד!שני מופעים בזה אחר זה\, ואחרי זה? החיים כבר לא יהיו אותו דבר!שני מופעים בזה אחר זה של תיאטרון בובות פרוע\, מקורי\, סוחף\, מלא דמיון\, הומור והמצאות: "הסיפור על דומי ודומה“"ללא היסוס - סוס!"
URL:https://davai-group.org/event/of-course-a-horse-13-september/
LOCATION:DAVAI Theatre Studio\, Franzos St 12\, Tel Aviv-Yafo
ATTACH;FMTTYPE=image/jpeg:https://davai-group.org/wp-content/uploads/2025/05/sus-last-1.jpg
GEO:32.05551725605;34.763571924569
X-APPLE-STRUCTURED-LOCATION;VALUE=URI;X-ADDRESS=DAVAI Theatre Studio Franzos St 12 Tel Aviv-Yafo;X-APPLE-RADIUS=500;X-TITLE=Franzos St 12:geo:34.763571924569,32.05551725605
END:VEVENT
BEGIN:VEVENT
DTSTART;TZID=Europe/Helsinki:20250918T203000
DTEND;TZID=Europe/Helsinki:20250918T220000
DTSTAMP:20260419T200625
CREATED:20250714T145852Z
LAST-MODIFIED:20250816T050311Z
UID:10000265-1758227400-1758232800@davai-group.org
SUMMARY:UNDER CONSTRUCTION(12+) @ Studio Davai
DESCRIPTION:UNDER CONSTRUCTION 12+ \n\n\n\n\n\n\n\nמופע תיאטרון פיזי ללא מילים \n\n\n\n\n\n\n\nשלושה רווקים מתעוררים בבוקר בדירתם הצפוצה והמתפרקת ומנסים להרתיח קומקום. \n\n\n\nהתוצאה – 80 דקות של הומור מטורף ללא מלים שסוחפות את הצופה לעולם אבסורדי\, בדיוני\, ואמיתי עד כדי דגדוג. \n\n\n\n\n\n\n\nהמופע הוצג בפסטיבלים בינלאומיים לתיאטרון במקסיקו\, ספרד\, הודו\, סרביה\, רוסיה וארה׳׳ב וזכה בפרס קיפוד הזהב. \n\n\n\n\n\n\n\n\n\n\n Jerusalem Post: ״מצחיק בטירוף\, תוצר דמיונם הפרוע של שלושה ליצנים וירטואוזים״   \n\n\n\n Times Of India: ״המופע קרע את הקהל מצחוק״…  \n\n\n\nCleveland News: “…שבעיים דקות מהפנטות ללא מילים”  \n\n\n\n פסטיבל אינפנט\, סרביה: ״אקספרסיביות בלתי רגילה שחוצה את גבולות התיאטרון  מנימוקי חבר השופטים“ \n\n\n\nמגזין ״מרתה יודעת״: פרינג’ במיטבו – “בועט\, חדשני\, חוויה מסעירה לכל החושים\, המתובלת במנה גדושה של פעלולים  \n\n\n\nטכניים ופיזיים המבוצעים לעילא על ידי השחקנים. \n\n\n\n\n\n\n\n\n\n\n\n\n\n\n\n\n\n\nוצרים: \n\n\n\n\n\n\n\nבימוי\,ביצוע ומשחק:  \n\n\n\nלושה גבריאלוב\, פיודור מקרוב\, ויטלי אזרין \n\n\n\nמלחין: דניאל סינייסקי \n\n\n\nתאורה: איליה גרצ׳יקוב | דורון דודין \n\n\n\nסאונד: דניאל קורונקביץ׳ \n\n\n\nתלבושות: יסמין וולק \n\n\n\nתפאורה: לושה גבריאלוב \n\n\n\n\n\n\n\n\n\n\n\nומידע כללי: \n\n\n\n\n\n\n\nללא מילים \n\n\n\nמשך ההצגה: 80 דק׳ \n\n\n\nמתאים מגיל 12+* \n\n\n\n*בהצגה יש עירום חלקי \n\n\n\n\n\n\n\n\n\n\n\n\n\n\n\n\n\n\n[vc_video link=’https://www.youtube.com/watch?v=k168onFuDko&embeds_referring_euri=https%3A%2F%2Fdavai-group.org%2F&source_ve_path=Mjg2NjY’]
URL:https://davai-group.org/event/under-18-september/
LOCATION:DAVAI Theatre Studio\, Franzos St 12\, Tel Aviv-Yafo
ATTACH;FMTTYPE=image/jpeg:https://davai-group.org/wp-content/uploads/2024/12/under-sold-down-strong.jpg
ORGANIZER;CN="Davai Clown Theatre":MAILTO:davai.group@gmail.com
GEO:32.05551725605;34.763571924569
X-APPLE-STRUCTURED-LOCATION;VALUE=URI;X-ADDRESS=DAVAI Theatre Studio Franzos St 12 Tel Aviv-Yafo;X-APPLE-RADIUS=500;X-TITLE=Franzos St 12:geo:34.763571924569,32.05551725605
END:VEVENT
BEGIN:VEVENT
DTSTART;TZID=Europe/Helsinki:20250919T203000
DTEND;TZID=Europe/Helsinki:20250919T220000
DTSTAMP:20260419T200625
CREATED:20250715T143445Z
LAST-MODIFIED:20250908T093200Z
UID:10000267-1758313800-1758319200@davai-group.org
SUMMARY:UNDER CONSTRUCTION(12+) @ Studio Davai
DESCRIPTION:UNDER CONSTRUCTION 12+ \n\n\n\n\n\n\n\nמופע תיאטרון פיזי ללא מילים \n\n\n\n\n\n\n\nשלושה רווקים מתעוררים בבוקר בדירתם הצפוצה והמתפרקת ומנסים להרתיח קומקום. \n\n\n\nהתוצאה – 80 דקות של הומור מטורף ללא מלים שסוחפות את הצופה לעולם אבסורדי\, בדיוני\, ואמיתי עד כדי דגדוג. \n\n\n\n\n\n\n\nהמופע הוצג בפסטיבלים בינלאומיים לתיאטרון במקסיקו\, ספרד\, הודו\, סרביה\, רוסיה וארה׳׳ב וזכה בפרס קיפוד הזהב. \n\n\n\n\n\n\n\n\n\n\n Jerusalem Post: ״מצחיק בטירוף\, תוצר דמיונם הפרוע של שלושה ליצנים וירטואוזים״   \n\n\n\n Times Of India: ״המופע קרע את הקהל מצחוק״…  \n\n\n\nCleveland News: “…שבעיים דקות מהפנטות ללא מילים”  \n\n\n\n פסטיבל אינפנט\, סרביה: ״אקספרסיביות בלתי רגילה שחוצה את גבולות התיאטרון  מנימוקי חבר השופטים“ \n\n\n\nמגזין ״מרתה יודעת״: פרינג’ במיטבו – “בועט\, חדשני\, חוויה מסעירה לכל החושים\, המתובלת במנה גדושה של פעלולים  \n\n\n\nטכניים ופיזיים המבוצעים לעילא על ידי השחקנים. \n\n\n\n\n\n\n\n\n\n\n\n\n\n\n\n\n\n\nוצרים: \n\n\n\n\n\n\n\nבימוי\,ביצוע ומשחק:  \n\n\n\nלושה גבריאלוב\, פיודור מקרוב\, ויטלי אזרין \n\n\n\nמלחין: דניאל סינייסקי \n\n\n\nתאורה: איליה גרצ׳יקוב | דורון דודין \n\n\n\nסאונד: דניאל קורונקביץ׳ \n\n\n\nתלבושות: יסמין וולק \n\n\n\nתפאורה: לושה גבריאלוב \n\n\n\n\n\n\n\n\n\n\n\nומידע כללי: \n\n\n\n\n\n\n\nללא מילים \n\n\n\nמשך ההצגה: 80 דק׳ \n\n\n\nמתאים מגיל 12+* \n\n\n\n*בהצגה יש עירום חלקי \n\n\n\n\n\n\n\n\n\n\n\n\n\n\n\n\n\n\n[vc_video link=’https://www.youtube.com/watch?v=k168onFuDko&embeds_referring_euri=https%3A%2F%2Fdavai-group.org%2F&source_ve_path=Mjg2NjY’]
URL:https://davai-group.org/event/under-19-september/
ATTACH;FMTTYPE=image/jpeg:https://davai-group.org/wp-content/uploads/2024/12/under-sold-down-strong.jpg
END:VEVENT
BEGIN:VEVENT
DTSTART;TZID=Europe/Helsinki:20250920T203000
DTEND;TZID=Europe/Helsinki:20250920T220000
DTSTAMP:20260419T200625
CREATED:20250715T144716Z
LAST-MODIFIED:20250919T102424Z
UID:10000268-1758400200-1758405600@davai-group.org
SUMMARY:UNDER CONSTRUCTION(12+) @ Studio Davai
DESCRIPTION:UNDER CONSTRUCTION 12+ \n\n\n\n\n\n\n\nמופע תיאטרון פיזי ללא מילים \n\n\n\n\n\n\n\nשלושה רווקים מתעוררים בבוקר בדירתם הצפוצה והמתפרקת ומנסים להרתיח קומקום. \n\n\n\nהתוצאה – 80 דקות של הומור מטורף ללא מלים שסוחפות את הצופה לעולם אבסורדי\, בדיוני\, ואמיתי עד כדי דגדוג. \n\n\n\n\n\n\n\nהמופע הוצג בפסטיבלים בינלאומיים לתיאטרון במקסיקו\, ספרד\, הודו\, סרביה\, רוסיה וארה׳׳ב וזכה בפרס קיפוד הזהב. \n\n\n\n\n\n\n\n\n\n\n Jerusalem Post: ״מצחיק בטירוף\, תוצר דמיונם הפרוע של שלושה ליצנים וירטואוזים״   \n\n\n\n Times Of India: ״המופע קרע את הקהל מצחוק״…  \n\n\n\nCleveland News: “…שבעיים דקות מהפנטות ללא מילים”  \n\n\n\n פסטיבל אינפנט\, סרביה: ״אקספרסיביות בלתי רגילה שחוצה את גבולות התיאטרון  מנימוקי חבר השופטים“ \n\n\n\nמגזין ״מרתה יודעת״: פרינג’ במיטבו – “בועט\, חדשני\, חוויה מסעירה לכל החושים\, המתובלת במנה גדושה של פעלולים  \n\n\n\nטכניים ופיזיים המבוצעים לעילא על ידי השחקנים. \n\n\n\n\n\n\n\n\n\n\n\n\n\n\n\n\n\n\nוצרים: \n\n\n\n\n\n\n\nבימוי\,ביצוע ומשחק:  \n\n\n\nלושה גבריאלוב\, פיודור מקרוב\, ויטלי אזרין \n\n\n\nמלחין: דניאל סינייסקי \n\n\n\nתאורה: איליה גרצ׳יקוב | דורון דודין \n\n\n\nסאונד: דניאל קורונקביץ׳ \n\n\n\nתלבושות: יסמין וולק \n\n\n\nתפאורה: לושה גבריאלוב \n\n\n\n\n\n\n\n\n\n\n\nומידע כללי: \n\n\n\n\n\n\n\nללא מילים \n\n\n\nמשך ההצגה: 80 דק׳ \n\n\n\nמתאים מגיל 12+* \n\n\n\n*בהצגה יש עירום חלקי \n\n\n\n\n\n\n\n\n\n\n\n\n\n\n\n\n\n\n[vc_video link=’https://www.youtube.com/watch?v=k168onFuDko&embeds_referring_euri=https%3A%2F%2Fdavai-group.org%2F&source_ve_path=Mjg2NjY’]
URL:https://davai-group.org/event/under-20-september/
ATTACH;FMTTYPE=image/jpeg:https://davai-group.org/wp-content/uploads/2024/12/under-sold-down-strong.jpg
END:VEVENT
BEGIN:VEVENT
DTSTART;TZID=Europe/Helsinki:20250927T110000
DTEND;TZID=Europe/Helsinki:20250927T120000
DTSTAMP:20260419T200625
CREATED:20250824T115603Z
LAST-MODIFIED:20250927T062043Z
UID:10000280-1758970800-1758974400@davai-group.org
SUMMARY:סבתא פרידה (4+) @ סטודיו דוואי
DESCRIPTION:סבתא פרידה 4+  \n\n\n\n\n\n\n\nאי שם בדירה קטנה חיה לה סבתא בודדה ושמה פרידה. אין לה אף אחד\, רק דג זהב אחד קטן. אבל האם משעמם לה בחיים? הלוואי!  \n\n\n\nהחיים שלה זה לונה פארק\, רכבת הרים\, קרקס!  \n\n\n\nניקיון הבית הופך לג׳אגלינג\, החלפת נורה לאקרובטיקה\, צפייה בטלוויזיה למחול של זומבים וטיפול תרופתי בגב תפוס – למסע ביערות הגשם\, שם פוגשת פרידה את נסיך חלומותיה! \n\n\n\nחוץ מזה\, כן\, זאת סבתא בודדה בדירה קטנה עם דג זהב. \n\n\n\n\n\n\n\nההצגה היא מבול של הומור והפתעות\, מסע לתוך עולם מצחיק ותמים עם דמות מופרעת שמתחבבת מיד על הקטנים והגדולים ומשאירה אחריה מצב רוח טוב וריח של פופקורן. \n\n\n\n\n\n\n\n\n\n\n\n\n\nמידע כללי: \n\n\n\nשפה: עברית \n\n\n\nמשך ההצגה: 45 דק׳ \n\n\n\nלגילאי 4-10 והוריה \n\n\n\n\n\n\n\n\n\n\n\nיוצרים: \n\n\n\nכתיבה\, בימוי\, משחק\, עריכה מוסיקלית\, עיצוב\, כוריאוגרפיה: פיודור מקרובייעוץ בימתי: לושה גבריאלוב\, מריה נמירובסקיעיצוב תאורה: איליה גרצ׳יקובעיצוב סאונד: דניאל קורונקביץ׳ \n\n\n\n\n\n\n\n\n[vc_video link=’https://www.youtube.com/watch?v=KWmi5e7KwMs’]
URL:https://davai-group.org/event/frida-27-september/
ATTACH;FMTTYPE=image/jpeg:https://davai-group.org/wp-content/uploads/2025/01/frida-soldout.jpg
END:VEVENT
END:VCALENDAR