BEGIN:VCALENDAR
VERSION:2.0
PRODID:-//Davai Group - ECPv6.15.18//NONSGML v1.0//EN
CALSCALE:GREGORIAN
METHOD:PUBLISH
X-ORIGINAL-URL:https://davai-group.org
X-WR-CALDESC:Events for Davai Group
REFRESH-INTERVAL;VALUE=DURATION:PT1H
X-Robots-Tag:noindex
X-PUBLISHED-TTL:PT1H
BEGIN:VTIMEZONE
TZID:Europe/Helsinki
BEGIN:DAYLIGHT
TZOFFSETFROM:+0200
TZOFFSETTO:+0300
TZNAME:EEST
DTSTART:20240331T010000
END:DAYLIGHT
BEGIN:STANDARD
TZOFFSETFROM:+0300
TZOFFSETTO:+0200
TZNAME:EET
DTSTART:20241027T010000
END:STANDARD
BEGIN:DAYLIGHT
TZOFFSETFROM:+0200
TZOFFSETTO:+0300
TZNAME:EEST
DTSTART:20250330T010000
END:DAYLIGHT
BEGIN:STANDARD
TZOFFSETFROM:+0300
TZOFFSETTO:+0200
TZNAME:EET
DTSTART:20251026T010000
END:STANDARD
BEGIN:DAYLIGHT
TZOFFSETFROM:+0200
TZOFFSETTO:+0300
TZNAME:EEST
DTSTART:20260329T010000
END:DAYLIGHT
BEGIN:STANDARD
TZOFFSETFROM:+0300
TZOFFSETTO:+0200
TZNAME:EET
DTSTART:20261025T010000
END:STANDARD
END:VTIMEZONE
BEGIN:VEVENT
DTSTART;TZID=Europe/Helsinki:20250705T213000
DTEND;TZID=Europe/Helsinki:20250726T223000
DTSTAMP:20260419T235306
CREATED:20250524T091944Z
LAST-MODIFIED:20250620T195708Z
UID:10000238-1751751000-1753569000@davai-group.org
SUMMARY:TRAVAUX EN COURS @ Théâtre Buffon\, Avignon
DESCRIPTION:Travaux en cours\n\nDu 5 au 26 juillet 2025 – tous les jours à 21h30 – relâche les mercredis \nOù sommes-nous? On ne sait pas.\n D’où venons-nous ? On ne se souvient plus. \nUne seule chose est sûre : c’est l’heure du thé!\nUne comédie visuelle où trois excentriques partagent un logement exigu et délabré. \nY préparer une tasse de thé devient une quête dangereuse\, où nos héros seront électrocutés\, \nprendront feu\, se perdront dans leur propre logement\, et livreront combat aux cafards\, moustiques et même aux extraterrestres … \nMais si ces messieurs désirent prendre le thé\, ils iront jusqu’au bout pour l’avoir\, même si le monde entier doit s’écrouler!\nUn univers poétique\, fantasmagorique et saturé d’humour absurde.\nDélire de 3 clowns d’origine juive\, ukrainienne et russe vivant à Tel Aviv!
URL:https://davai-group.org/event/travaux-en-cours-theatre-buffon-avignon/
LOCATION:Théâtre Buffon\, 18 Rue Buffon\, Avignon\, France
ATTACH;FMTTYPE=image/jpeg:https://davai-group.org/wp-content/uploads/2025/05/FLYER-no-qr.jpg
ORGANIZER;CN="Davai Clown Theatre":MAILTO:davai.group@gmail.com
GEO:43.946530314601;4.8153804112552
X-APPLE-STRUCTURED-LOCATION;VALUE=URI;X-ADDRESS=Théâtre Buffon 18 Rue Buffon Avignon France;X-APPLE-RADIUS=500;X-TITLE=18 Rue Buffon:geo:4.8153804112552,43.946530314601
END:VEVENT
BEGIN:VEVENT
DTSTART;TZID=Europe/Helsinki:20250717T202800
DTEND;TZID=Europe/Helsinki:20250717T213000
DTSTAMP:20260419T235306
CREATED:20250627T131539Z
LAST-MODIFIED:20250629T112827Z
UID:10000263-1752784080-1752787800@davai-group.org
SUMMARY:אסימטריה (16+) | הצגה אורחת @ סטודיו דוואי
DESCRIPTION:אסימטריה 16+ \n\n\n\nהצגה ליצנית / פילוסופית \n\n\n\n \n\n\n\nפרופסור אלון קיש לוקח אותנו למסע אל תוך עולמו האסימטרי \n\n\n\nבימוי: גבי כהןשחקן: אלן סוסלוביץעיצוב תלבושת ובמה: יסמין וולקתאורה: מיכל קורמןכוראוגרפיה: תמר ברביקרדיט תמונה: יוסי סעד
URL:https://davai-group.org/event/asymmetry-17-july/
LOCATION:DAVAI Theatre Studio\, Franzos St 12\, Tel Aviv-Yafo
ATTACH;FMTTYPE=image/jpeg:https://davai-group.org/wp-content/uploads/2025/05/asymmetry-1-scaled.jpg
GEO:32.05551725605;34.763571924569
X-APPLE-STRUCTURED-LOCATION;VALUE=URI;X-ADDRESS=DAVAI Theatre Studio Franzos St 12 Tel Aviv-Yafo;X-APPLE-RADIUS=500;X-TITLE=Franzos St 12:geo:34.763571924569,32.05551725605
END:VEVENT
BEGIN:VEVENT
DTSTART;TZID=Europe/Helsinki:20250731T183000
DTEND;TZID=Europe/Helsinki:20250731T193000
DTSTAMP:20260419T235306
CREATED:20250504T180637Z
LAST-MODIFIED:20250731T092101Z
UID:10000230-1753986600-1753990200@davai-group.org
SUMMARY:הוא ורבינוביץ׳ (16+) | הצגה אורחת @ סטודיו דוואי
DESCRIPTION:  \n  \nהוא ורבינוביץ’\n  \nיוחנן לא בא לבד.\nהוא אף פעם לא לבד.\nתקלה בתחנת הרכבת עוצרת את כל תנועת הרכבות\nויוחנן רבינוביץ נשלח להסביר לציבור הנוסעים את המצב. ועכשיו מחכים…\nבינתיים הוא מספר והמילים מציירות עולם מלא בשמחת חיים מלא בתמימות אך גם בכעס ובחשדנות.\nהומור וכאב נשזרים להם יחד ודמותו המורכבת נחשפת בפנינו עד שהרכבות יוצאות שוב לדרך והגיע הזמן להיפרד. \n  \n  \nמשחק: גילי עברי\nבימוי: צביקה פישזון\nבמאית משנה: לי אלוני\nמאת: גילי עברי\nעריכה מוסיקלית: ראם הראובני\nעיצוב תאורה: מרטין עדין\nעיצוב תפאורה: יערה צדוק\nתפירת תלבושת: לאוניד אליסוב \n  \n  \n  \nבכורה תיאטרונטו 2025 ופרס ציון לשבח\nמנימוקי השופטים על הפרס:\nמהו החלק הסמוי מן העין שמפעיל אותנו? כיצד שוכנים באותו אדם הפחד\, התום והתוקפנות?\nגילי עברי חושף בפנינו את הפרימה האנושית בוירטואוזיות גופנית קרקסית ובלב רוטט הוא מספר סיפור על פיצול בריחה וגורל. \n  \n  \nתודות: נועה בן ארי\, גליה בכרך\, ‘ניסן נתיב’ תל-אביב\, ליהי ודולב\, רוני גריי\nותודה לאילת שדמון\, אהובתי\nמוקדש לזכרו של ראם הראובני; חבר\, יוצר ושותף לדרך
URL:https://davai-group.org/event/him-and-rabinovich-31-7-18-30/
LOCATION:DAVAI Theatre Studio\, Franzos St 12\, Tel Aviv-Yafo
ATTACH;FMTTYPE=image/jpeg:https://davai-group.org/wp-content/uploads/2025/05/Gili-rabinovich-1.jpg
GEO:32.05551725605;34.763571924569
X-APPLE-STRUCTURED-LOCATION;VALUE=URI;X-ADDRESS=DAVAI Theatre Studio Franzos St 12 Tel Aviv-Yafo;X-APPLE-RADIUS=500;X-TITLE=Franzos St 12:geo:34.763571924569,32.05551725605
END:VEVENT
BEGIN:VEVENT
DTSTART;TZID=Europe/Helsinki:20250731T203000
DTEND;TZID=Europe/Helsinki:20250731T213000
DTSTAMP:20260419T235306
CREATED:20250529T104726Z
LAST-MODIFIED:20250731T092059Z
UID:10000241-1753993800-1753997400@davai-group.org
SUMMARY:הוא ורבינוביץ׳ (16+) | הצגה אורחת @ סטודיו דוואי
DESCRIPTION:  \n  \nהוא ורבינוביץ’\n  \nיוחנן לא בא לבד.\nהוא אף פעם לא לבד.\nתקלה בתחנת הרכבת עוצרת את כל תנועת הרכבות\nויוחנן רבינוביץ נשלח להסביר לציבור הנוסעים את המצב. ועכשיו מחכים…\nבינתיים הוא מספר והמילים מציירות עולם מלא בשמחת חיים מלא בתמימות אך גם בכעס ובחשדנות.\nהומור וכאב נשזרים להם יחד ודמותו המורכבת נחשפת בפנינו עד שהרכבות יוצאות שוב לדרך והגיע הזמן להיפרד. \n  \n  \nמשחק: גילי עברי\nבימוי: צביקה פישזון\nבמאית משנה: לי אלוני\nמאת: גילי עברי\nעריכה מוסיקלית: ראם הראובני\nעיצוב תאורה: מרטין עדין\nעיצוב תפאורה: יערה צדוק\nתפירת תלבושת: לאוניד אליסוב \n  \n  \n  \nבכורה תיאטרונטו 2025 ופרס ציון לשבח\nמנימוקי השופטים על הפרס:\nמהו החלק הסמוי מן העין שמפעיל אותנו? כיצד שוכנים באותו אדם הפחד\, התום והתוקפנות?\nגילי עברי חושף בפנינו את הפרימה האנושית בוירטואוזיות גופנית קרקסית ובלב רוטט הוא מספר סיפור על פיצול בריחה וגורל. \n  \n  \nתודות: נועה בן ארי\, גליה בכרך\, ‘ניסן נתיב’ תל-אביב\, ליהי ודולב\, רוני גריי\nותודה לאילת שדמון\, אהובתי\nמוקדש לזכרו של ראם הראובני; חבר\, יוצר ושותף לדרך
URL:https://davai-group.org/event/him-and-rabinovich-31-7-20-20/
LOCATION:DAVAI Theatre Studio\, Franzos St 12\, Tel Aviv-Yafo
ATTACH;FMTTYPE=image/jpeg:https://davai-group.org/wp-content/uploads/2025/05/Gili-rabinovich-1.jpg
GEO:32.05551725605;34.763571924569
X-APPLE-STRUCTURED-LOCATION;VALUE=URI;X-ADDRESS=DAVAI Theatre Studio Franzos St 12 Tel Aviv-Yafo;X-APPLE-RADIUS=500;X-TITLE=Franzos St 12:geo:34.763571924569,32.05551725605
END:VEVENT
END:VCALENDAR