BEGIN:VCALENDAR
VERSION:2.0
PRODID:-//Davai Group - ECPv6.15.18//NONSGML v1.0//EN
CALSCALE:GREGORIAN
METHOD:PUBLISH
X-WR-CALNAME:Davai Group
X-ORIGINAL-URL:https://davai-group.org
X-WR-CALDESC:Events for Davai Group
REFRESH-INTERVAL;VALUE=DURATION:PT1H
X-Robots-Tag:noindex
X-PUBLISHED-TTL:PT1H
BEGIN:VTIMEZONE
TZID:Europe/Helsinki
BEGIN:DAYLIGHT
TZOFFSETFROM:+0200
TZOFFSETTO:+0300
TZNAME:EEST
DTSTART:20240331T010000
END:DAYLIGHT
BEGIN:STANDARD
TZOFFSETFROM:+0300
TZOFFSETTO:+0200
TZNAME:EET
DTSTART:20241027T010000
END:STANDARD
BEGIN:DAYLIGHT
TZOFFSETFROM:+0200
TZOFFSETTO:+0300
TZNAME:EEST
DTSTART:20250330T010000
END:DAYLIGHT
BEGIN:STANDARD
TZOFFSETFROM:+0300
TZOFFSETTO:+0200
TZNAME:EET
DTSTART:20251026T010000
END:STANDARD
BEGIN:DAYLIGHT
TZOFFSETFROM:+0200
TZOFFSETTO:+0300
TZNAME:EEST
DTSTART:20260329T010000
END:DAYLIGHT
BEGIN:STANDARD
TZOFFSETFROM:+0300
TZOFFSETTO:+0200
TZNAME:EET
DTSTART:20261025T010000
END:STANDARD
END:VTIMEZONE
BEGIN:VEVENT
DTSTART;TZID=Europe/Helsinki:20250503T110000
DTEND;TZID=Europe/Helsinki:20250503T120000
DTSTAMP:20260420T033104
CREATED:20250223T131921Z
LAST-MODIFIED:20250502T100114Z
UID:10000205-1746270000-1746273600@davai-group.org
SUMMARY:אפצ׳י(3+) @ תיאטרון אלמינא
DESCRIPTION:אפצ’י הוא מופע של תיאטרון חזותי-פיזי ללא מילים הפונה לילדים הקטנים שבחבורה\, ויענג במיוחד את בני 3-6. \nשיחת טלפון חשובה מזרזת את הליצן להתארגן ולצאת מביתו כדי לדוג דג גדול. למרות הגשם המפתיע\, מחליט הליצן שזו הזדמנות שאסור לפספס ומתוך כל ההתארגנות המהירה שוכח לנעול  את נעליו וכך דורך על שלולית גדולה… האפצ’י הראשון לא מאחר להגיע וכך גם הבאים אחריו. מתוסכל\, חולה ומנוזל\, נשאר הליצן בביתו\, מוקף ברחמים עצמיים ובחפצים שמקבלים לפתע חיים ובחכה שכבר לא תתפוס היום דגים. מתוך כך\, מחליט לרפא את עצמו ולא להיכנע לרחמים העצמיים ובצורה משעשעת יוצר לעצמו תרופת פלא ולומד להתגבר לגמרי לבד על קשייו. *מבוסס על צינון אמיתי” יצירה\, בימוי\,עיצוב תפאורה\, עריכה מוסיקלית ומשחק: לושה גבריאלוב \n 
URL:https://davai-group.org/event/apchee-almina-3-may/
LOCATION:תיאטרון אלמינא\, רח. נמל יפו 2\, תל אביב
ATTACH;FMTTYPE=image/jpeg:https://davai-group.org/wp-content/uploads/2025/02/apchi-ahronim-telaviv.jpg
ORGANIZER;CN="Davai Clown Theatre":MAILTO:davai.group@gmail.com
END:VEVENT
BEGIN:VEVENT
DTSTART;TZID=Europe/Helsinki:20250503T110000
DTEND;TZID=Europe/Helsinki:20250503T120000
DTSTAMP:20260420T033104
CREATED:20250225T103123Z
LAST-MODIFIED:20250824T115310Z
UID:10000208-1746270000-1746273600@davai-group.org
SUMMARY:סבתא פרידה (4+) @ סטודיו דוואי
DESCRIPTION:אי שם בדירה קטנה חיה לה סבתא בודדה ושמה פרידה. אין לה אף אחד\, רק דג זהב אחד קטן. אבל האם משעמם לה בחיים? הלוואי! \nהחיים שלה זה לונה פארק\, רכבת הרים\, קרקס! \nניקיון הבית הופך לג׳אגלינג\, החלפת נורה לאקרובטיקה\, צפייה בטלוויזיה למחול של זומבים וטיפול תרופתי בגב תפוס – למסע ביערות הגשם\, שם פוגשת פרידה את נסיך חלומותיה!  \nחוץ מזה\, כן\, זאת סבתא בודדה בדירה קטנה עם דג זהב. \nההצגה היא מבול של הומור והפתעות\, מסע לתוך עולם מצחיק ותמים עם דמות מופרעת שמתחבבת מיד על הקטנים והגדולים ומשאירה אחריה מצב רוח טוב וריח של פופקורן. \n45 דקות\, לגילאי 4-10 והוריהם \nכתיבה\, בימוי\, משחק\, עריכה מוסיקלית\, עיצוב\, כוריאוגרפיה: פיודור מקרוב\nייעוץ בימתי: לושה גבריאלוב\, מריה נמירובסקי\nעיצוב תאורה: איליה גרצ׳יקוב\nעיצוב סאונד: דניאל קורונקביץ׳ \n \n\n \n[vc_video link=’https://youtu.be/KWmi5e7KwMs’]
URL:https://davai-group.org/event/frida-3-may/
LOCATION:DAVAI Theatre Studio\, Franzos St 12\, Tel Aviv-Yafo
ATTACH;FMTTYPE=image/jpeg:https://davai-group.org/wp-content/uploads/2025/03/frida-last-tickets.jpg
ORGANIZER;CN="Davai Clown Theatre":MAILTO:davai.group@gmail.com
GEO:32.05551725605;34.763571924569
X-APPLE-STRUCTURED-LOCATION;VALUE=URI;X-ADDRESS=DAVAI Theatre Studio Franzos St 12 Tel Aviv-Yafo;X-APPLE-RADIUS=500;X-TITLE=Franzos St 12:geo:34.763571924569,32.05551725605
END:VEVENT
BEGIN:VEVENT
DTSTART;TZID=Europe/Helsinki:20250508T203000
DTEND;TZID=Europe/Helsinki:20250508T213000
DTSTAMP:20260420T033104
CREATED:20250317T183950Z
LAST-MODIFIED:20250424T152842Z
UID:10000213-1746736200-1746739800@davai-group.org
SUMMARY:מונוגמיה (16+) | הצגה אורחת
DESCRIPTION:תיאטרון קנטינה בכיכובם של זוג השחקנים טוני ומריה מציגים את ההצגה:\n״מונוגמיה״ \nקיטי\, עקרת בית בגיל העמידה מחליטה לקחת לידיה את השליטה על חיי הזוגיות שלה ורוכשת ערכה שתסייע לה להתאהב שוב בבעלה ג׳ון. \nהצטרפו גם אתם להרפתקאה ובואו להתאהב. \nכתיבה ומשחק: קרן ברומר\, נועם ענבר\nבימוי: חביאר כץ\nעיצוב תאורה וסאונד: מיכל קורמן
URL:https://davai-group.org/event/monogamy-5-may/
LOCATION:DAVAI Theatre Studio\, Franzos St 12\, Tel Aviv-Yafo
ATTACH;FMTTYPE=image/jpeg:https://davai-group.org/wp-content/uploads/2025/03/monogamy-up.jpg
GEO:32.05551725605;34.763571924569
X-APPLE-STRUCTURED-LOCATION;VALUE=URI;X-ADDRESS=DAVAI Theatre Studio Franzos St 12 Tel Aviv-Yafo;X-APPLE-RADIUS=500;X-TITLE=Franzos St 12:geo:34.763571924569,32.05551725605
END:VEVENT
BEGIN:VEVENT
DTSTART;TZID=Europe/Helsinki:20250508T203000
DTEND;TZID=Europe/Helsinki:20250508T220000
DTSTAMP:20260420T033104
CREATED:20250213T120946Z
LAST-MODIFIED:20250213T193248Z
UID:10000201-1746736200-1746741600@davai-group.org
SUMMARY:UNDER CONSTRUCTION(12+) @ כפר ויתקין
DESCRIPTION:מופע תיאטרון פיזי ללא מילים  \n\n\n\nשלושה רווקים מתעוררים בבוקר בדירתם הצפוצה והמתפרקת ומנסים להרתיח קומקום. \n\n\n\nהתוצאה – 80 דקות של הומור מטורף ללא מלים שסוחפות את הצופה לעולם אבסורדי\, בדיוני\, ואמיתי עד כדי דגדוג. \n\n\n\nהמופע הוצג בפסטיבלים בינלאומיים לתיאטרון במקסיקו\, ספרד\, הודו\, סרביה\, רוסיה וארה׳׳ב וזכה בפרס “קיפוד הזהב”. \n\n\n\n״מצחיק בטירוף\, תוצר דמיונם הפרוע של שלושה ליצנים וירטואוזים״ – Jerusalem Post \n״המופע קרע את הקהל מצחוק״… – Times Of India \n“…שבעיים דקות מהפנטות ללא מילים” – Cleveland News \n “פסטיבל אינפנט\, סרביה- ״אקספרסיביות בלתי רגילה שחוצה את גבולות התיאטרון  מנימוקי חבר השופטים\, \n–מגזין ״מרתה יודעת״- פרינג’ במיטבו – “בועט\, חדשני\, חוויה מסעירה לכל החושים\, המתובלת במנה גדושה של פעלולים טכניים ופיזיים המבוצעים לעילא על ידי השחקנים“ \nקבוצת תיאטרון דוואי יוצרת ומקדמת תיאטרון ללא מלים. מאז הקמת הקבוצה ב-2015\, נוצר רפרטואר של כעשרה מופעים בתסגנון ליצנות תיאטרלית\, שהועלו בפסטיבלים לתיאטרון בארץ ובעולם. \n  \n 
URL:https://davai-group.org/event/under-vitkin-8-may/
LOCATION:כפר ויתקין אולם בית העם
ATTACH;FMTTYPE=image/jpeg:https://davai-group.org/wp-content/uploads/2025/02/Under-vitkin.jpg
ORGANIZER;CN="Davai Clown Theatre":MAILTO:davai.group@gmail.com
END:VEVENT
BEGIN:VEVENT
DTSTART;TZID=Europe/Helsinki:20250510T110000
DTEND;TZID=Europe/Helsinki:20250510T114000
DTSTAMP:20260420T033104
CREATED:20250424T151627Z
LAST-MODIFIED:20250424T151627Z
UID:10000226-1746874800-1746877200@davai-group.org
SUMMARY:בעיניים של פרח (2.5 +) | הצגה אורחת
DESCRIPTION:עם לינו וכוכבית\nאתם מוזמנים למסע מופלא בעולם הפרחים! ✨\nתיאטרון זברה מציג: “עם עיניים של פרח” – הצגה קסומה ומלאת דמיון לילדים בגילאי 2.5–6. \nיחד עם הגננים הצעירים מאשה ומשה\, נגלה איך פרחים חיים\, גדלים\, ישנים ומתעוררים\, מי החברים שלהם בטבע\, ומה משותף להם ולילדים. האם הם אוהבים שירים? \nהאם הם סקרנים כמו ילדים? נצטרף להרפתקה עדינה ומשמחת\, ובסופה – כל ילד יזכה לשתול פרח משלו!  \n מוזיקה חיה\, שירים ואינטראקציה מהנה\n מתי? 10 במאי\, תל-אביב (תיאטרון “דוואי”)\n⏳ משך ההצגה: 35 דקות\n ההצגה ברוסית (מתאימה לכולם!)
URL:https://davai-group.org/event/flower-eye-10-may/
LOCATION:DAVAI Theatre Studio\, Franzos St 12\, Tel Aviv-Yafo
ATTACH;FMTTYPE=image/jpeg:https://davai-group.org/wp-content/uploads/2025/04/Glazami_tsvetka3-scaled.jpg
GEO:32.05551725605;34.763571924569
X-APPLE-STRUCTURED-LOCATION;VALUE=URI;X-ADDRESS=DAVAI Theatre Studio Franzos St 12 Tel Aviv-Yafo;X-APPLE-RADIUS=500;X-TITLE=Franzos St 12:geo:34.763571924569,32.05551725605
END:VEVENT
BEGIN:VEVENT
DTSTART;TZID=Europe/Helsinki:20250510T110000
DTEND;TZID=Europe/Helsinki:20250510T120000
DTSTAMP:20260420T033104
CREATED:20250117T190445Z
LAST-MODIFIED:20250504T102207Z
UID:10000172-1746874800-1746878400@davai-group.org
SUMMARY:הדבר העגול הזה(3+) @ מוזיאון תל אביב
DESCRIPTION:החברים יוצאים להרפתקה בלב ים בחיפוש אחר השמש האבודה. בדרכם צוברים חוויות\, ויכוחים\, פרידה ולבסוף איחוד מרגש! \n“יצירתי\, קלאסי\, מתוק ומומלץ מאוד\, לצפייה משפחתית רב-גילאית.” מאקו \nהצגת ליצנות ללא מלים לכל המשפחה \nמופע ייחודי המגולל את סיפורם של שני חברים טובים אשר בטעות מפילים את השמש לים. הצמד יוצא להרפתקה בלב ים בחיפוש אחר השמש מעל ומתחת לפני המים… בדרכם צוברים חוויות\, ויכוחים\, פרידה ולבסוף איחוד מרגש! אבל לאן נעלמה השמש? כיצד ימצאו אותה? \nהמופע הוצג מעל 200 פעמים בישראל\, רוסיה\, אוקראינה\, אנגליה\, גרמניה\, תורכיה ואזרבייג׳אן. \nיוצרים ומבצעים: לושה גבריאלוב ופיודור מקרוב \nתלבושות: אולגה דומובה \nתפאורה: אוקסנה וליאוניד אליסוב \nמשך ההצגה: 50 דקות. \nלגילאים 3 ומעלה. מומלץ גם להורים. \nללא מילים. \n\n\n\n\n\n  \n  \n[vc_video link=’https://www.youtube.com/watch?v=SE7l5gE5XP0&ab_channel=DavaiClownTheatre-%D7%93%D7%95%D7%95%D7%90%D7%99%D7%AA%D7%99%D7%90%D7%98%D7%A8%D7%95%D7%9F%D7%9C%D7%99%D7%A6%D7%A0%D7%95%D7%AA’] \n 
URL:https://davai-group.org/event/%d7%94%d7%93%d7%91%d7%a8-%d7%94%d7%a2%d7%92%d7%95%d7%9c-%d7%94%d7%96%d7%943-%d7%9e%d7%95%d7%96%d7%99%d7%90%d7%95%d7%9f-%d7%aa%d7%9c-%d7%90%d7%91%d7%99%d7%91-2/
LOCATION:מוזיאון תל אביב
ATTACH;FMTTYPE=image/jpeg:https://davai-group.org/wp-content/uploads/2025/01/round-tel-aviv-ahronim-1-scaled.jpg
ORGANIZER;CN="Davai Clown Theatre":MAILTO:davai.group@gmail.com
END:VEVENT
BEGIN:VEVENT
DTSTART;TZID=Europe/Helsinki:20250515T203000
DTEND;TZID=Europe/Helsinki:20250515T220000
DTSTAMP:20260420T033104
CREATED:20250204T101928Z
LAST-MODIFIED:20250513T181857Z
UID:10000194-1747341000-1747346400@davai-group.org
SUMMARY:UNDER CONSTRUCTION(12+) @ Studio Davai
DESCRIPTION:מופע תיאטרון פיזי ללא מילים  \n\n\n\nשלושה רווקים מתעוררים בבוקר בדירתם הצפוצה והמתפרקת ומנסים להרתיח קומקום. \n\n\n\nהתוצאה – 80 דקות של הומור מטורף ללא מלים שסוחפות את הצופה לעולם אבסורדי\, בדיוני\, ואמיתי עד כדי דגדוג. \n\n\n\nהמופע הוצג בפסטיבלים בינלאומיים לתיאטרון במקסיקו\, ספרד\, הודו\, סרביה\, רוסיה וארה׳׳ב וזכה בפרס “קיפוד הזהב”. \n\n\n\n״מצחיק בטירוף\, תוצר דמיונם הפרוע של שלושה ליצנים וירטואוזים״ – Jerusalem Post \n״המופע קרע את הקהל מצחוק״… – Times Of India \n“…שבעיים דקות מהפנטות ללא מילים” – Cleveland News \n “פסטיבל אינפנט\, סרביה- ״אקספרסיביות בלתי רגילה שחוצה את גבולות התיאטרון  מנימוקי חבר השופטים\, \n–מגזין ״מרתה יודעת״- פרינג’ במיטבו – “בועט\, חדשני\, חוויה מסעירה לכל החושים\, המתובלת במנה גדושה של פעלולים טכניים ופיזיים המבוצעים לעילא על ידי השחקנים“ \nקבוצת תיאטרון דוואי יוצרת ומקדמת תיאטרון ללא מלים. מאז הקמת הקבוצה ב-2015\, נוצר רפרטואר של כעשרה מופעים בתסגנון ליצנות תיאטרלית\, שהועלו בפסטיבלים לתיאטרון בארץ ובעולם. \n  \n  \nמידע כללי \n \nללא מילים \nמשך ההצגה: 80 דק׳ \nמתאים מגיל +12* \n*בהצגה יש עירום חלקי \n  \n[vc_separator type=’normal’ position=’center’ color=” thickness=” up=” down=”] \n  \n[vc_video link=’https://www.youtube.com/watch?v=k168onFuDko&embeds_referring_euri=https%3A%2F%2Fdavai-group.org%2F&source_ve_path=Mjg2NjY’] \n  \n 
URL:https://davai-group.org/event/under-studio-15-may/
LOCATION:DAVAI Theatre Studio\, Franzos St 12\, Tel Aviv-Yafo
ATTACH;FMTTYPE=image/jpeg:https://davai-group.org/wp-content/uploads/2024/12/under-sold-down-strong.jpg
ORGANIZER;CN="Davai Clown Theatre":MAILTO:davai.group@gmail.com
GEO:32.05551725605;34.763571924569
X-APPLE-STRUCTURED-LOCATION;VALUE=URI;X-ADDRESS=DAVAI Theatre Studio Franzos St 12 Tel Aviv-Yafo;X-APPLE-RADIUS=500;X-TITLE=Franzos St 12:geo:34.763571924569,32.05551725605
END:VEVENT
BEGIN:VEVENT
DTSTART;TZID=Europe/Helsinki:20250516T203000
DTEND;TZID=Europe/Helsinki:20250516T220000
DTSTAMP:20260420T033104
CREATED:20250204T102111Z
LAST-MODIFIED:20250516T131325Z
UID:10000195-1747427400-1747432800@davai-group.org
SUMMARY:UNDER CONSTRUCTION(12+) @ Studio Davai
DESCRIPTION:מופע תיאטרון פיזי ללא מילים  \n\n\n\nשלושה רווקים מתעוררים בבוקר בדירתם הצפוצה והמתפרקת ומנסים להרתיח קומקום. \n\n\n\nהתוצאה – 80 דקות של הומור מטורף ללא מלים שסוחפות את הצופה לעולם אבסורדי\, בדיוני\, ואמיתי עד כדי דגדוג. \n\n\n\nהמופע הוצג בפסטיבלים בינלאומיים לתיאטרון במקסיקו\, ספרד\, הודו\, סרביה\, רוסיה וארה׳׳ב וזכה בפרס “קיפוד הזהב”. \n\n\n\n״מצחיק בטירוף\, תוצר דמיונם הפרוע של שלושה ליצנים וירטואוזים״ – Jerusalem Post \n״המופע קרע את הקהל מצחוק״… – Times Of India \n“…שבעיים דקות מהפנטות ללא מילים” – Cleveland News \n “פסטיבל אינפנט\, סרביה- ״אקספרסיביות בלתי רגילה שחוצה את גבולות התיאטרון  מנימוקי חבר השופטים\, \n–מגזין ״מרתה יודעת״- פרינג’ במיטבו – “בועט\, חדשני\, חוויה מסעירה לכל החושים\, המתובלת במנה גדושה של פעלולים טכניים ופיזיים המבוצעים לעילא על ידי השחקנים“ \nקבוצת תיאטרון דוואי יוצרת ומקדמת תיאטרון ללא מלים. מאז הקמת הקבוצה ב-2015\, נוצר רפרטואר של כעשרה מופעים בתסגנון ליצנות תיאטרלית\, שהועלו בפסטיבלים לתיאטרון בארץ ובעולם. \n  \nמידע כללי \n \nללא מילים \nמשך ההצגה: 80 דק׳ \nמתאים מגיל +12* \n*בהצגה יש עירום חלקי \n  \n[vc_separator type=’normal’ position=’center’ color=” thickness=” up=” down=”] \n  \n[vc_video link=’https://www.youtube.com/watch?v=k168onFuDko&embeds_referring_euri=https%3A%2F%2Fdavai-group.org%2F&source_ve_path=Mjg2NjY’] \n  \n 
URL:https://davai-group.org/event/under-studio-16-may/
LOCATION:DAVAI Theatre Studio\, Franzos St 12\, Tel Aviv-Yafo
ATTACH;FMTTYPE=image/jpeg:https://davai-group.org/wp-content/uploads/2024/12/under-sold-down-strong.jpg
ORGANIZER;CN="Davai Clown Theatre":MAILTO:davai.group@gmail.com
GEO:32.05551725605;34.763571924569
X-APPLE-STRUCTURED-LOCATION;VALUE=URI;X-ADDRESS=DAVAI Theatre Studio Franzos St 12 Tel Aviv-Yafo;X-APPLE-RADIUS=500;X-TITLE=Franzos St 12:geo:34.763571924569,32.05551725605
END:VEVENT
BEGIN:VEVENT
DTSTART;TZID=Europe/Helsinki:20250517T203000
DTEND;TZID=Europe/Helsinki:20250517T220000
DTSTAMP:20260420T033104
CREATED:20250204T102227Z
LAST-MODIFIED:20250504T074645Z
UID:10000196-1747513800-1747519200@davai-group.org
SUMMARY:UNDER CONSTRUCTION(12+) @ Studio Davai
DESCRIPTION:מופע תיאטרון פיזי ללא מילים  \n\n\n\nשלושה רווקים מתעוררים בבוקר בדירתם הצפוצה והמתפרקת ומנסים להרתיח קומקום. \n\n\n\nהתוצאה – 80 דקות של הומור מטורף ללא מלים שסוחפות את הצופה לעולם אבסורדי\, בדיוני\, ואמיתי עד כדי דגדוג. \n\n\n\nהמופע הוצג בפסטיבלים בינלאומיים לתיאטרון במקסיקו\, ספרד\, הודו\, סרביה\, רוסיה וארה׳׳ב וזכה בפרס “קיפוד הזהב”. \n\n\n\n״מצחיק בטירוף\, תוצר דמיונם הפרוע של שלושה ליצנים וירטואוזים״ – Jerusalem Post \n״המופע קרע את הקהל מצחוק״… – Times Of India \n“…שבעיים דקות מהפנטות ללא מילים” – Cleveland News \n “פסטיבל אינפנט\, סרביה- ״אקספרסיביות בלתי רגילה שחוצה את גבולות התיאטרון  מנימוקי חבר השופטים\, \n–מגזין ״מרתה יודעת״- פרינג’ במיטבו – “בועט\, חדשני\, חוויה מסעירה לכל החושים\, המתובלת במנה גדושה של פעלולים טכניים ופיזיים המבוצעים לעילא על ידי השחקנים“ \nקבוצת תיאטרון דוואי יוצרת ומקדמת תיאטרון ללא מלים. מאז הקמת הקבוצה ב-2015\, נוצר רפרטואר של כעשרה מופעים בתסגנון ליצנות תיאטרלית\, שהועלו בפסטיבלים לתיאטרון בארץ ובעולם. \n  \n  \nמידע כללי \n \nללא מילים \nמשך ההצגה: 80 דק׳ \nמתאים מגיל +12* \n*בהצגה יש עירום חלקי \n  \n[vc_separator type=’normal’ position=’center’ color=” thickness=” up=” down=”] \n  \n[vc_video link=’https://www.youtube.com/watch?v=k168onFuDko&embeds_referring_euri=https%3A%2F%2Fdavai-group.org%2F&source_ve_path=Mjg2NjY’] \n 
URL:https://davai-group.org/event/under-studio-17-may/
LOCATION:DAVAI Theatre Studio\, Franzos St 12\, Tel Aviv-Yafo
ATTACH;FMTTYPE=image/jpeg:https://davai-group.org/wp-content/uploads/2024/12/under-sold-down-strong.jpg
ORGANIZER;CN="Davai Clown Theatre":MAILTO:davai.group@gmail.com
GEO:32.05551725605;34.763571924569
X-APPLE-STRUCTURED-LOCATION;VALUE=URI;X-ADDRESS=DAVAI Theatre Studio Franzos St 12 Tel Aviv-Yafo;X-APPLE-RADIUS=500;X-TITLE=Franzos St 12:geo:34.763571924569,32.05551725605
END:VEVENT
BEGIN:VEVENT
DTSTART;TZID=Europe/Helsinki:20250521T080000
DTEND;TZID=Europe/Helsinki:20250521T170000
DTSTAMP:20260420T033104
CREATED:20250521T115940Z
LAST-MODIFIED:20250521T165943Z
UID:10000236-1747814400-1747846800@davai-group.org
SUMMARY:test yehuda
DESCRIPTION:test yehuda
URL:https://davai-group.org/event/test-yehuda/
END:VEVENT
BEGIN:VEVENT
DTSTART;TZID=Europe/Helsinki:20250521T080000
DTEND;TZID=Europe/Helsinki:20250521T170000
DTSTAMP:20260420T033104
CREATED:20250521T163305Z
LAST-MODIFIED:20250521T163308Z
UID:10000237-1747814400-1747846800@davai-group.org
SUMMARY:test
DESCRIPTION:description
URL:https://davai-group.org/event/test/
END:VEVENT
BEGIN:VEVENT
DTSTART;TZID=Europe/Helsinki:20250522T210000
DTEND;TZID=Europe/Helsinki:20250522T223000
DTSTAMP:20260420T033104
CREATED:20250311T101622Z
LAST-MODIFIED:20250311T101622Z
UID:10000212-1747947600-1747953000@davai-group.org
SUMMARY:UNDER CONSTRUCTION(12+) @ ראשון לציון
DESCRIPTION:מופע תיאטרון פיזי ללא מילים  \n\n\n\nשלושה רווקים מתעוררים בבוקר בדירתם הצפוצה והמתפרקת ומנסים להרתיח קומקום. \n\n\n\nהתוצאה – 80 דקות של הומור מטורף ללא מלים שסוחפות את הצופה לעולם אבסורדי\, בדיוני\, ואמיתי עד כדי דגדוג. \n\n\n\nהמופע הוצג בפסטיבלים בינלאומיים לתיאטרון במקסיקו\, ספרד\, הודו\, סרביה\, רוסיה וארה׳׳ב וזכה בפרס “קיפוד הזהב”. \n\n\n\n״מצחיק בטירוף\, תוצר דמיונם הפרוע של שלושה ליצנים וירטואוזים״ – Jerusalem Post \n״המופע קרע את הקהל מצחוק״… – Times Of India \n“…שבעיים דקות מהפנטות ללא מילים” – Cleveland News \n “פסטיבל אינפנט\, סרביה- ״אקספרסיביות בלתי רגילה שחוצה את גבולות התיאטרון  מנימוקי חבר השופטים\, \n–מגזין ״מרתה יודעת״- פרינג’ במיטבו – “בועט\, חדשני\, חוויה מסעירה לכל החושים\, המתובלת במנה גדושה של פעלולים טכניים ופיזיים המבוצעים לעילא על ידי השחקנים“ \nקבוצת תיאטרון דוואי יוצרת ומקדמת תיאטרון ללא מלים. מאז הקמת הקבוצה ב-2015\, נוצר רפרטואר של כעשרה מופעים בתסגנון ליצנות תיאטרלית\, שהועלו בפסטיבלים לתיאטרון בארץ ובעולם. \n  \n 
URL:https://davai-group.org/event/under-rishon-22-may/
LOCATION:אולם מופת Friends\, רוטשילד 62\, ראשון לציון
ATTACH;FMTTYPE=image/jpeg:https://davai-group.org/wp-content/uploads/2025/03/under-rishon.jpg
ORGANIZER;CN="Davai Clown Theatre":MAILTO:davai.group@gmail.com
END:VEVENT
BEGIN:VEVENT
DTSTART;TZID=Europe/Helsinki:20250523T120000
DTEND;TZID=Europe/Helsinki:20250523T180000
DTSTAMP:20260420T033104
CREATED:20250411T181258Z
LAST-MODIFIED:20250413T140953Z
UID:10000222-1748001600-1748023200@davai-group.org
SUMMARY:קו וצליל | סדנא אורחת
DESCRIPTION:ЗВУК И ЛИНИЯ\nАрт-терапевтический Семинар обрушится на театр «Давай» 23 мая 2025 года в 12 часов дня. \nВедущие: Елена Макарова и театр «ДАВАЙ».\nЖивая музыка! И все остальное тоже. \nДо 18.00 мы рисуем\, лепим\, танцуем\, поем\, играем\, и что-то\, в конце концов\, с нами происходит. \nТо есть происходить будет все время\, а к концу семинара\, глядишь\, и произойдет. \nПриходить вовремя! В одежде\, которую нестрашно запачкать углем\, глиной и красками.\nСеминар как отдушина для взрослых. Однако\, если совсем уж ни на шаг без детей\, берите их с собой. \nСтоимость: 180 шек. взрослый\, 100 шек. ребенок до 12 лет. \nСеминар будет проводиться на русском/иврите/английском по обстоятельствам. \n  \nקו וצליל\nסשן תרפיה באמנות יתחולל בתיאטרון דוואי ב-23 למאי 2025 בשעה 12:00. \nמנחים: ילנה מקרוב ותיאטרון דוואי.\nנעשה חיים בליווי מוסיקה חיה! \nבין השעות 12:00 ל- 18:00 נצייר\, נפסל\, נרקוד וכל הזמן משהו יקרה. \nחשוב להגיע בזמן! מוזמנים להגיע עם בגדים שאפשר ללכלך בפחם\, חימר וצבעים. בעקרון\, \nמטרת הסדנה היא התרעננות יצירתית למבוגרים\, אבל אם ממש אין לכם אפשרות להתרחק מהילדים\, הביאו אותם אתכן. \nעלות: 180 ש׳׳ח מבוגר\, 100 ש׳׳ח ילד (עד גיל 12) \nשפה: עברית\רוסית\אנגלית לפי הצורך \n 
URL:https://davai-group.org/event/line-and-sound-23-may/
LOCATION:DAVAI Theatre Studio\, Franzos St 12\, Tel Aviv-Yafo
ATTACH;FMTTYPE=image/jpeg:https://davai-group.org/wp-content/uploads/2025/04/lena-sadna-scaled.jpg
GEO:32.05551725605;34.763571924569
X-APPLE-STRUCTURED-LOCATION;VALUE=URI;X-ADDRESS=DAVAI Theatre Studio Franzos St 12 Tel Aviv-Yafo;X-APPLE-RADIUS=500;X-TITLE=Franzos St 12:geo:34.763571924569,32.05551725605
END:VEVENT
BEGIN:VEVENT
DTSTART;TZID=Europe/Helsinki:20250524T203000
DTEND;TZID=Europe/Helsinki:20250524T213000
DTSTAMP:20260420T033104
CREATED:20250302T114230Z
LAST-MODIFIED:20250509T122352Z
UID:10000210-1748118600-1748122200@davai-group.org
SUMMARY:UNDER CONSTRUCTION(12+) @ הוד השרון
DESCRIPTION:מופע תיאטרון פיזי ללא מילים  \n\n\n\nשלושה רווקים מתעוררים בבוקר בדירתם הצפוצה והמתפרקת ומנסים להרתיח קומקום. \n\n\n\nהתוצאה – 80 דקות של הומור מטורף ללא מלים שסוחפות את הצופה לעולם אבסורדי\, בדיוני\, ואמיתי עד כדי דגדוג. \n\n\n\nהמופע הוצג בפסטיבלים בינלאומיים לתיאטרון במקסיקו\, ספרד\, הודו\, סרביה\, רוסיה וארה׳׳ב וזכה בפרס “קיפוד הזהב”. \n\n\n\n״מצחיק בטירוף\, תוצר דמיונם הפרוע של שלושה ליצנים וירטואוזים״ – Jerusalem Post \n״המופע קרע את הקהל מצחוק״… – Times Of India \n“…שבעיים דקות מהפנטות ללא מילים” – Cleveland News \n “פסטיבל אינפנט\, סרביה- ״אקספרסיביות בלתי רגילה שחוצה את גבולות התיאטרון  מנימוקי חבר השופטים\, \n–מגזין ״מרתה יודעת״- פרינג’ במיטבו – “בועט\, חדשני\, חוויה מסעירה לכל החושים\, המתובלת במנה גדושה של פעלולים טכניים ופיזיים המבוצעים לעילא על ידי השחקנים“ \nקבוצת תיאטרון דוואי יוצרת ומקדמת תיאטרון ללא מלים. מאז הקמת הקבוצה ב-2015\, נוצר רפרטואר של כעשרה מופעים בתסגנון ליצנות תיאטרלית\, שהועלו בפסטיבלים לתיאטרון בארץ ובעולם. \n  \n 
URL:https://davai-group.org/event/under-hodasharon-24-may/
LOCATION:בית מקומי לתרבות\, הוד השרון
ATTACH;FMTTYPE=image/jpeg:https://davai-group.org/wp-content/uploads/2025/03/under-ahronim-hodasharon.jpg
ORGANIZER;CN="Davai Clown Theatre":MAILTO:davai.group@gmail.com
END:VEVENT
BEGIN:VEVENT
DTSTART;TZID=Europe/Helsinki:20250530T203000
DTEND;TZID=Europe/Helsinki:20250530T213000
DTSTAMP:20260420T033104
CREATED:20250324T192950Z
LAST-MODIFIED:20250530T085103Z
UID:10000218-1748637000-1748640600@davai-group.org
SUMMARY:אור(16+) @ סטודיו דוואי
DESCRIPTION:русский ниже \n\n\n \n  \n\nיצרתי את ההצגה הזאת בזמן שהצבא הרוסי החל להפציץ תחנות כוח באוקראינה . אוקראינה צללה לתוך קור וחושך כל העולם התחיל לתרום שמיכות וגנרטורים. מכאן הגיע השם להצגה-“אור”. אני\, כמו כולם\, תהיתי\, מה אני יכול לעשות כדי לעצור את המלחמה? הכל פשוט.. כדי להביס את החושך\, עליך להדליק את האור. יש את מי שידליק גפרור\, פנס\, נר\, חתיכת פחם\, יחשוב מחשבה טובה\, יזרוק חיוך. הנשק שלי הוא צחוק. צחוק הורג את הפחד צחוק מוליד טוב “אור” אלו המחשבות הטובות שלי על המלחמה הרעה . \n\n\n \nלושה גבריאלוב. \n\n\n\n \n*הצגה ללא מילים \n\n\n \n  \n \n  \n\n\n“Когда создавался этот спектакль\, Российская армия начала бомбить электростанции Украины. Украина погрузилась в холод и тьму. Весь мир начал скидываться на одеяла и генераторы. Тут и пришло название для спектакля – “Свет”.  Я\, как и все\, задавался вопросом\, а что я то могу сделать\, чтобы война прекратилась? Все просто.. Чтобы победить тьму\, надо зажечь свет. Кто что может\, спичка\, фонарик\, свеча\, уголек\, добрая мысль\, улыбка. Моё оружие – смех. Смех убивает страх. Смех рождает добро. \n“Свет”  это мои добрые мысли о страшной войне…” \nЛеша Гавриэлов \n\n*спектакль без слов \n\n  \n 
URL:https://davai-group.org/event/light-30-may/
LOCATION:DAVAI Theatre Studio\, Franzos St 12\, Tel Aviv-Yafo
ATTACH;FMTTYPE=image/jpeg:https://davai-group.org/wp-content/uploads/2025/03/light-sold-out.jpg
ORGANIZER;CN="Davai Clown Theatre":MAILTO:davai.group@gmail.com
GEO:32.05551725605;34.763571924569
X-APPLE-STRUCTURED-LOCATION;VALUE=URI;X-ADDRESS=DAVAI Theatre Studio Franzos St 12 Tel Aviv-Yafo;X-APPLE-RADIUS=500;X-TITLE=Franzos St 12:geo:34.763571924569,32.05551725605
END:VEVENT
BEGIN:VEVENT
DTSTART;TZID=Europe/Helsinki:20250531T110000
DTEND;TZID=Europe/Helsinki:20250531T120000
DTSTAMP:20260420T033104
CREATED:20250302T112101Z
LAST-MODIFIED:20250528T160225Z
UID:10000209-1748689200-1748692800@davai-group.org
SUMMARY:אפצ׳י(3+) @ תיאטרון תוצרת בית
DESCRIPTION:אפצ’י הוא מופע של תיאטרון חזותי-פיזי ללא מילים הפונה לילדים הקטנים שבחבורה\, ויענג במיוחד את בני 3-6. \nשיחת טלפון חשובה מזרזת את הליצן להתארגן ולצאת מביתו כדי לדוג דג גדול. למרות הגשם המפתיע\, מחליט הליצן שזו הזדמנות שאסור לפספס ומתוך כל ההתארגנות המהירה שוכח לנעול  את נעליו וכך דורך על שלולית גדולה… האפצ’י הראשון לא מאחר להגיע וכך גם הבאים אחריו. מתוסכל\, חולה ומנוזל\, נשאר הליצן בביתו\, מוקף ברחמים עצמיים ובחפצים שמקבלים לפתע חיים ובחכה שכבר לא תתפוס היום דגים. מתוך כך\, מחליט לרפא את עצמו ולא להיכנע לרחמים העצמיים ובצורה משעשעת יוצר לעצמו תרופת פלא ולומד להתגבר לגמרי לבד על קשייו. *מבוסס על צינון אמיתי” יצירה\, בימוי\,עיצוב תפאורה\, עריכה מוסיקלית ומשחק: לושה גבריאלוב \n 
URL:https://davai-group.org/event/apchee-31-may/
LOCATION:תיאטרון תוצרת בית\, רח שביל המרץ\, 3\, תל אביב
ATTACH;FMTTYPE=image/jpeg:https://davai-group.org/wp-content/uploads/2025/03/apchi-ahronim-telaviv.jpg
ORGANIZER;CN="Davai Clown Theatre":MAILTO:davai.group@gmail.com
END:VEVENT
BEGIN:VEVENT
DTSTART;TZID=Europe/Helsinki:20250531T203000
DTEND;TZID=Europe/Helsinki:20250531T213000
DTSTAMP:20260420T033104
CREATED:20250324T193135Z
LAST-MODIFIED:20250507T172620Z
UID:10000217-1748723400-1748727000@davai-group.org
SUMMARY:אור(16+) @ סטודיו דוואי
DESCRIPTION:русский ниже \n\n\n \n  \n\nיצרתי את ההצגה הזאת בזמן שהצבא הרוסי החל להפציץ תחנות כוח באוקראינה . אוקראינה צללה לתוך קור וחושך כל העולם התחיל לתרום שמיכות וגנרטורים. מכאן הגיע השם להצגה-“אור”. אני\, כמו כולם\, תהיתי\, מה אני יכול לעשות כדי לעצור את המלחמה? הכל פשוט.. כדי להביס את החושך\, עליך להדליק את האור. יש את מי שידליק גפרור\, פנס\, נר\, חתיכת פחם\, יחשוב מחשבה טובה\, יזרוק חיוך. הנשק שלי הוא צחוק. צחוק הורג את הפחד צחוק מוליד טוב “אור” אלו המחשבות הטובות שלי על המלחמה הרעה . \n\n\n \nלושה גבריאלוב. \n\n\n\n \n*הצגה ללא מילים \n\n\n \n  \n \n  \n  \n\n\n“Когда создавался этот спектакль\, Российская армия начала бомбить электростанции Украины. Украина погрузилась в холод и тьму. Весь мир начал скидываться на одеяла и генераторы. Тут и пришло название для спектакля – “Свет”.  Я\, как и все\, задавался вопросом\, а что я то могу сделать\, чтобы война прекратилась? Все просто.. Чтобы победить тьму\, надо зажечь свет. Кто что может\, спичка\, фонарик\, свеча\, уголек\, добрая мысль\, улыбка. Моё оружие – смех. Смех убивает страх. Смех рождает добро. \n“Свет”  это мои добрые мысли о страшной войне…” \nЛеша Гавриэлов \n\n*спектакль без слов \n\n  \n 
URL:https://davai-group.org/event/light-31-may/
LOCATION:DAVAI Theatre Studio\, Franzos St 12\, Tel Aviv-Yafo
ATTACH;FMTTYPE=image/jpeg:https://davai-group.org/wp-content/uploads/2025/01/FB_IMG_1738179986541.jpg
ORGANIZER;CN="Davai Clown Theatre":MAILTO:davai.group@gmail.com
GEO:32.05551725605;34.763571924569
X-APPLE-STRUCTURED-LOCATION;VALUE=URI;X-ADDRESS=DAVAI Theatre Studio Franzos St 12 Tel Aviv-Yafo;X-APPLE-RADIUS=500;X-TITLE=Franzos St 12:geo:34.763571924569,32.05551725605
END:VEVENT
END:VCALENDAR