BEGIN:VCALENDAR
VERSION:2.0
PRODID:-//Davai Group - ECPv6.15.18//NONSGML v1.0//EN
CALSCALE:GREGORIAN
METHOD:PUBLISH
X-ORIGINAL-URL:https://davai-group.org
X-WR-CALDESC:Events for Davai Group
REFRESH-INTERVAL;VALUE=DURATION:PT1H
X-Robots-Tag:noindex
X-PUBLISHED-TTL:PT1H
BEGIN:VTIMEZONE
TZID:Europe/Helsinki
BEGIN:DAYLIGHT
TZOFFSETFROM:+0200
TZOFFSETTO:+0300
TZNAME:EEST
DTSTART:20240331T010000
END:DAYLIGHT
BEGIN:STANDARD
TZOFFSETFROM:+0300
TZOFFSETTO:+0200
TZNAME:EET
DTSTART:20241027T010000
END:STANDARD
BEGIN:DAYLIGHT
TZOFFSETFROM:+0200
TZOFFSETTO:+0300
TZNAME:EEST
DTSTART:20250330T010000
END:DAYLIGHT
BEGIN:STANDARD
TZOFFSETFROM:+0300
TZOFFSETTO:+0200
TZNAME:EET
DTSTART:20251026T010000
END:STANDARD
BEGIN:DAYLIGHT
TZOFFSETFROM:+0200
TZOFFSETTO:+0300
TZNAME:EEST
DTSTART:20260329T010000
END:DAYLIGHT
BEGIN:STANDARD
TZOFFSETFROM:+0300
TZOFFSETTO:+0200
TZNAME:EET
DTSTART:20261025T010000
END:STANDARD
END:VTIMEZONE
BEGIN:VEVENT
DTSTART;TZID=Europe/Helsinki:20250106T203000
DTEND;TZID=Europe/Helsinki:20250106T223000
DTSTAMP:20260420T103032
CREATED:20241210T175616Z
LAST-MODIFIED:20250106T174822Z
UID:10000162-1736195400-1736202600@davai-group.org
SUMMARY:סטנגה
DESCRIPTION:✨ מתקרבים לערב בלתי נשכח! ✨ \n“סטנגה” חוזרים ובגדול\, ואנחנו מתכבדים לארח את הכוכבת רוני קידר! \nבואו להצטרף אלינו לערב מלא בהפתעות\, צחוקים ואימפרוביזציה מהשורה הראשונה! \nתאריך: 6.1.2025\nשעה: 20:30\nמקום: תיאטרון דוואי \nשריינו מקומות!
URL:https://davai-group.org/event/stanga-6-january/
LOCATION:DAVAI Theatre Studio\, Franzos St 12\, Tel Aviv-Yafo
ATTACH;FMTTYPE=image/jpeg:https://davai-group.org/wp-content/uploads/2024/12/WhatsApp-Image-2024-12-10-at-07.30.34.jpeg
GEO:32.05551725605;34.763571924569
X-APPLE-STRUCTURED-LOCATION;VALUE=URI;X-ADDRESS=DAVAI Theatre Studio Franzos St 12 Tel Aviv-Yafo;X-APPLE-RADIUS=500;X-TITLE=Franzos St 12:geo:34.763571924569,32.05551725605
END:VEVENT
BEGIN:VEVENT
DTSTART;TZID=Europe/Helsinki:20250109T200000
DTEND;TZID=Europe/Helsinki:20250109T213000
DTSTAMP:20260420T103032
CREATED:20240908T185203Z
LAST-MODIFIED:20250109T042844Z
UID:10000119-1736452800-1736458200@davai-group.org
SUMMARY:UNDER CONSTRUCTION(12+) @ Studio Davai
DESCRIPTION:מופע תיאטרון פיזי ללא מילים  \n\n\n\nשלושה רווקים מתעוררים בבוקר בדירתם הצפוצה והמתפרקת ומנסים להרתיח קומקום. \n\n\n\nהתוצאה – 80 דקות של הומור מטורף ללא מלים שסוחפות את הצופה לעולם אבסורדי\, בדיוני\, ואמיתי עד כדי דגדוג. \n\n\n\nהמופע הוצג בפסטיבלים בינלאומיים לתיאטרון במקסיקו\, ספרד\, הודו\, סרביה\, רוסיה וארה׳׳ב וזכה בפרס “קיפוד הזהב”. \n\n\n\n״מצחיק בטירוף\, תוצר דמיונם הפרוע של שלושה ליצנים וירטואוזים״ – Jerusalem Post \n״המופע קרע את הקהל מצחוק״… – Times Of India \n“…שבעיים דקות מהפנטות ללא מילים” – Cleveland News \n “פסטיבל אינפנט\, סרביה- ״אקספרסיביות בלתי רגילה שחוצה את גבולות התיאטרון  מנימוקי חבר השופטים\, \n–מגזין ״מרתה יודעת״- פרינג’ במיטבו – “בועט\, חדשני\, חוויה מסעירה לכל החושים\, המתובלת במנה גדושה של פעלולים טכניים ופיזיים המבוצעים לעילא על ידי השחקנים“ \nקבוצת תיאטרון דוואי יוצרת ומקדמת תיאטרון ללא מלים. מאז הקמת הקבוצה ב-2015\, נוצר רפרטואר של כעשרה מופעים בתסגנון ליצנות תיאטרלית\, שהועלו בפסטיבלים לתיאטרון בארץ ובעולם.
URL:https://davai-group.org/event/under-january-9/
LOCATION:DAVAI Theatre Studio\, Franzos St 12\, Tel Aviv-Yafo
ATTACH;FMTTYPE=image/png:https://davai-group.org/wp-content/uploads/2024/03/photo_2024-05-20-19.47.png
ORGANIZER;CN="Davai Clown Theatre":MAILTO:davai.group@gmail.com
GEO:32.05551725605;34.763571924569
X-APPLE-STRUCTURED-LOCATION;VALUE=URI;X-ADDRESS=DAVAI Theatre Studio Franzos St 12 Tel Aviv-Yafo;X-APPLE-RADIUS=500;X-TITLE=Franzos St 12:geo:34.763571924569,32.05551725605
END:VEVENT
BEGIN:VEVENT
DTSTART;TZID=Europe/Helsinki:20250110T200000
DTEND;TZID=Europe/Helsinki:20250110T213000
DTSTAMP:20260420T103032
CREATED:20240908T185347Z
LAST-MODIFIED:20250109T100455Z
UID:10000120-1736539200-1736544600@davai-group.org
SUMMARY:UNDER CONSTRUCTION(12+) @ Studio Davai
DESCRIPTION:מופע תיאטרון פיזי ללא מילים  \n\n\n\nשלושה רווקים מתעוררים בבוקר בדירתם הצפוצה והמתפרקת ומנסים להרתיח קומקום. \n\n\n\nהתוצאה – 80 דקות של הומור מטורף ללא מלים שסוחפות את הצופה לעולם אבסורדי\, בדיוני\, ואמיתי עד כדי דגדוג. \n\n\n\nהמופע הוצג בפסטיבלים בינלאומיים לתיאטרון במקסיקו\, ספרד\, הודו\, סרביה\, רוסיה וארה׳׳ב וזכה בפרס “קיפוד הזהב”. \n\n\n\n״מצחיק בטירוף\, תוצר דמיונם הפרוע של שלושה ליצנים וירטואוזים״ – Jerusalem Post \n״המופע קרע את הקהל מצחוק״… – Times Of India \n“…שבעיים דקות מהפנטות ללא מילים” – Cleveland News \n “פסטיבל אינפנט\, סרביה- ״אקספרסיביות בלתי רגילה שחוצה את גבולות התיאטרון  מנימוקי חבר השופטים\, \n–מגזין ״מרתה יודעת״- פרינג’ במיטבו – “בועט\, חדשני\, חוויה מסעירה לכל החושים\, המתובלת במנה גדושה של פעלולים טכניים ופיזיים המבוצעים לעילא על ידי השחקנים“ \nקבוצת תיאטרון דוואי יוצרת ומקדמת תיאטרון ללא מלים. מאז הקמת הקבוצה ב-2015\, נוצר רפרטואר של כעשרה מופעים בתסגנון ליצנות תיאטרלית\, שהועלו בפסטיבלים לתיאטרון בארץ ובעולם.
URL:https://davai-group.org/event/under-january-10/
LOCATION:DAVAI Theatre Studio\, Franzos St 12\, Tel Aviv-Yafo
ATTACH;FMTTYPE=image/jpeg:https://davai-group.org/wp-content/uploads/2024/07/sold-out.jpg
ORGANIZER;CN="Davai Clown Theatre":MAILTO:davai.group@gmail.com
GEO:32.05551725605;34.763571924569
X-APPLE-STRUCTURED-LOCATION;VALUE=URI;X-ADDRESS=DAVAI Theatre Studio Franzos St 12 Tel Aviv-Yafo;X-APPLE-RADIUS=500;X-TITLE=Franzos St 12:geo:34.763571924569,32.05551725605
END:VEVENT
BEGIN:VEVENT
DTSTART;TZID=Europe/Helsinki:20250111T200000
DTEND;TZID=Europe/Helsinki:20250111T213000
DTSTAMP:20260420T103032
CREATED:20240908T185500Z
LAST-MODIFIED:20250104T122549Z
UID:10000118-1736625600-1736631000@davai-group.org
SUMMARY:UNDER CONSTRUCTION(12+) @ Studio Davai
DESCRIPTION:מופע תיאטרון פיזי ללא מילים  \n\n\n\nשלושה רווקים מתעוררים בבוקר בדירתם הצפוצה והמתפרקת ומנסים להרתיח קומקום. \n\n\n\nהתוצאה – 80 דקות של הומור מטורף ללא מלים שסוחפות את הצופה לעולם אבסורדי\, בדיוני\, ואמיתי עד כדי דגדוג. \n\n\n\nהמופע הוצג בפסטיבלים בינלאומיים לתיאטרון במקסיקו\, ספרד\, הודו\, סרביה\, רוסיה וארה׳׳ב וזכה בפרס “קיפוד הזהב”. \n\n\n\n״מצחיק בטירוף\, תוצר דמיונם הפרוע של שלושה ליצנים וירטואוזים״ – Jerusalem Post \n״המופע קרע את הקהל מצחוק״… – Times Of India \n“…שבעיים דקות מהפנטות ללא מילים” – Cleveland News \n “פסטיבל אינפנט\, סרביה- ״אקספרסיביות בלתי רגילה שחוצה את גבולות התיאטרון  מנימוקי חבר השופטים\, \n–מגזין ״מרתה יודעת״- פרינג’ במיטבו – “בועט\, חדשני\, חוויה מסעירה לכל החושים\, המתובלת במנה גדושה של פעלולים טכניים ופיזיים המבוצעים לעילא על ידי השחקנים“ \nקבוצת תיאטרון דוואי יוצרת ומקדמת תיאטרון ללא מלים. מאז הקמת הקבוצה ב-2015\, נוצר רפרטואר של כעשרה מופעים בתסגנון ליצנות תיאטרלית\, שהועלו בפסטיבלים לתיאטרון בארץ ובעולם.
URL:https://davai-group.org/event/under-january-11/
LOCATION:DAVAI Theatre Studio\, Franzos St 12\, Tel Aviv-Yafo
ATTACH;FMTTYPE=image/jpeg:https://davai-group.org/wp-content/uploads/2024/07/sold-out.jpg
ORGANIZER;CN="Davai Clown Theatre":MAILTO:davai.group@gmail.com
GEO:32.05551725605;34.763571924569
X-APPLE-STRUCTURED-LOCATION;VALUE=URI;X-ADDRESS=DAVAI Theatre Studio Franzos St 12 Tel Aviv-Yafo;X-APPLE-RADIUS=500;X-TITLE=Franzos St 12:geo:34.763571924569,32.05551725605
END:VEVENT
BEGIN:VEVENT
DTSTART;TZID=Europe/Helsinki:20250118T110000
DTEND;TZID=Europe/Helsinki:20250118T143000
DTSTAMP:20260420T103032
CREATED:20241206T192655Z
LAST-MODIFIED:20250117T191449Z
UID:10000160-1737198000-1737210600@davai-group.org
SUMMARY:סבתא פרידה (4+) @ סטודיו דוואי
DESCRIPTION:!אי שם בדירה קטנה חיה לה סבתא בודדה ושמה פרידה. אין לה אף אחד\, רק דג זהב אחד קטן. אבל האם משעמם לה בחיים? הלוואי \nהחיים שלה זה לונה פארק\, רכבת הרים\, קרקס! ניקיון הבית הופך לג׳אגלינג\, החלפת נורה לאקרובטיקה\, צפייה בטלוויזיה למחול של זומבים וטיפול תרופתי בגב תפוס – למסע ביערות הגשם\, שם פוגשת פרידה את נסיך חלומותיה! חוץ מזה\, כן\, .זאת סבתא בודדה בדירה קטנה עם דג זהב \nההצגה היא מבול של הומור והפתעות\, מסע לתוך עולם מצחיק ותמים עם דמות מופרעת שמתחבבת מיד על הקטנים והגדולים ומשאירה אחריה מצב רוח טוב וריח של פופקורן. \n45 דקות\, לגילאי 4-10 והוריהם\nכתיבה\, בימוי\, משחק\, עריכה מוסיקלית\, עיצוב\, כוריאוגרפיה: פיודור מקרוב\nייעוץ בימתי: לושה גבריאלוב\, מריה נמירובסקי\nעיצוב תאורה: איליה גרצ׳יקוב\nעיצוב סאונד: דניאל קורונקביץ׳ \n  \n[vc_video link=’https://youtu.be/KWmi5e7KwMs’]
URL:https://davai-group.org/event/frida-18-january/
LOCATION:DAVAI Theatre Studio\, Franzos St 12\, Tel Aviv-Yafo
ATTACH;FMTTYPE=image/jpeg:https://davai-group.org/wp-content/uploads/2018/05/FRIDA-photo-by-MARINA-WEISMAN-small.jpg
ORGANIZER;CN="Davai Clown Theatre":MAILTO:davai.group@gmail.com
GEO:32.05551725605;34.763571924569
X-APPLE-STRUCTURED-LOCATION;VALUE=URI;X-ADDRESS=DAVAI Theatre Studio Franzos St 12 Tel Aviv-Yafo;X-APPLE-RADIUS=500;X-TITLE=Franzos St 12:geo:34.763571924569,32.05551725605
END:VEVENT
BEGIN:VEVENT
DTSTART;TZID=Europe/Helsinki:20250123T203000
DTEND;TZID=Europe/Helsinki:20250123T213000
DTSTAMP:20260420T103032
CREATED:20250112T172145Z
LAST-MODIFIED:20250120T203918Z
UID:10000170-1737664200-1737667800@davai-group.org
SUMMARY:טיטו והטעויות(16+) | הצגה אורחת
DESCRIPTION:טיטו והטעויות  והפעם – מסיבת יום הולדת לילד הפנימי\nמתי בפעם האחרונה חגגתם את הילד הפנימי שלכם? מתי בפעם האחרונה חגגת לילדה הנצחית שחיה בתוכך? \nטיטו הליצן מגיע למסיבת יום ההולדת שהוזמן אליה – אבל באיחור של כמה עשרות שנים…\nהילדים שציפה לפגוש כבר הפכו מזמן למבוגרים.\nסקרן לגלות לאן נעלמו הילדים\, הוא יוצא לחיפוש ומזמין את המבוגרים להתחקות אחר הילדים שהיו פעם\, ולהעיר את הילד הפנימי שחבוי בתוכם.\nעל המופע: מופע ליצנות פרוע\, עדין ומלא לב\, של שחקן אחד שיוצא למסע דרך אינספור טעויות – וסוחף אתכם איתו. זוהי חגיגה של החיים עצמם\, זו חגיגה של ילדות נצחית. \nלמי זה מתאים?  למי שמרגיש מבוגר מדי בשביל שטויות (אבל עמוק בלב יודע שזה בדיוק מה שהוא צריך). \nכניסה מגיל 16 ומעלה.\nמשך המופע: 40 דקות. \nיצירה\, כתיבה ומשחק: משה טיטו טויטו צ’ודס הראשון.\nתודה מיוחדת לדוש (דויד בראשי) ולרותם לוי וגה על התמיכה והליווי האמנותי.\nאל תחכו עוד עשרות שנים – הילד הפנימי שלכם כבר מוכן למסיבה!
URL:https://davai-group.org/event/tito-23-january/
LOCATION:DAVAI Theatre Studio\, Franzos St 12\, Tel Aviv-Yafo
ATTACH;FMTTYPE=image/jpeg:https://davai-group.org/wp-content/uploads/2025/01/tito1-scaled.jpg
GEO:32.05551725605;34.763571924569
X-APPLE-STRUCTURED-LOCATION;VALUE=URI;X-ADDRESS=DAVAI Theatre Studio Franzos St 12 Tel Aviv-Yafo;X-APPLE-RADIUS=500;X-TITLE=Franzos St 12:geo:34.763571924569,32.05551725605
END:VEVENT
BEGIN:VEVENT
DTSTART;TZID=Europe/Helsinki:20250124T200000
DTEND;TZID=Europe/Helsinki:20250124T210000
DTSTAMP:20260420T103032
CREATED:20241206T103900Z
LAST-MODIFIED:20250122T233517Z
UID:10000158-1737748800-1737752400@davai-group.org
SUMMARY:אור(16+) @ סטודיו דוואי
DESCRIPTION:  \nрусский ниже \n\n\n \n\nיצרתי את ההצגה הזאת בזמן שהצבא הרוסי החל להפציץ תחנות כוח באוקראינה . אוקראינה צללה לתוך קור וחושך כל העולם התחיל לתרום שמיכות וגנרטורים. מכאן הגיע השם להצגה-“אור”. אני\, כמו כולם\, תהיתי\, מה אני יכול לעשות כדי לעצור את המלחמה? הכל פשוט.. כדי להביס את החושך\, עליך להדליק את האור. יש את מי שידליק גפרור\, פנס\, נר\, חתיכת פחם\, יחשוב מחשבה טובה\, יזרוק חיוך. הנשק שלי הוא צחוק. צחוק הורג את הפחד צחוק מוליד טוב “אור” אלו המחשבות הטובות שלי על המלחמה הרעה. \n\n\n \n           לושה גבריאלוב. \n\n\n\n \nהצגה ללא מילים \n\n\n \n \n\n\nКогда создавался этот спектакль\, Российская армия начала бомбить электростанции Украины. Украина погрузилась в холод и тьму. Весь мир начал скидываться на одеяла и генераторы. Тут и пришло название для спектакля – “Свет”.  Я\, как и все\, задавался вопросом\, а что я-то могу сделать\, чтобы война прекратилась? Все просто… Чтобы победить тьму\, надо зажечь свет. Кто что может\, спичка\, фонарик\, свеча\, уголек\, добрая мысль\, улыбка. Моё оружие – смех. Смех убивает страх. Смех рождает добро. “Свет”  это мои добрые мысли о страшной войне… \n          Леша Гавриэлов \n\nCпектакль без слов \n\n  \n 
URL:https://davai-group.org/event/light-24-january/
LOCATION:DAVAI Theatre Studio\, Franzos St 12\, Tel Aviv-Yafo
ATTACH;FMTTYPE=image/jpeg:https://davai-group.org/wp-content/uploads/2024/03/or-ahronim-Large.jpeg
ORGANIZER;CN="Davai Clown Theatre":MAILTO:davai.group@gmail.com
GEO:32.05551725605;34.763571924569
X-APPLE-STRUCTURED-LOCATION;VALUE=URI;X-ADDRESS=DAVAI Theatre Studio Franzos St 12 Tel Aviv-Yafo;X-APPLE-RADIUS=500;X-TITLE=Franzos St 12:geo:34.763571924569,32.05551725605
END:VEVENT
BEGIN:VEVENT
DTSTART;TZID=Europe/Helsinki:20250125T110000
DTEND;TZID=Europe/Helsinki:20250125T120000
DTSTAMP:20260420T103032
CREATED:20241113T103436Z
LAST-MODIFIED:20241114T174430Z
UID:10000150-1737802800-1737806400@davai-group.org
SUMMARY:אפצ׳י(3+) @ הרצליה
DESCRIPTION:אפצ’י הוא מופע של תיאטרון חזותי-פיזי ללא מילים הפונה לילדים הקטנים שבחבורה\, ויענג במיוחד את בני 3-6. \nשיחת טלפון חשובה מזרזת את הליצן להתארגן ולצאת מביתו כדי לדוג דג גדול. למרות הגשם המפתיע\, מחליט הליצן שזו הזדמנות שאסור לפספס ומתוך כל ההתארגנות המהירה שוכח לנעול  את נעליו וכך דורך על שלולית גדולה… האפצ’י הראשון לא מאחר להגיע וכך גם הבאים אחריו. מתוסכל\, חולה ומנוזל\, נשאר הליצן בביתו\, מוקף ברחמים עצמיים ובחפצים שמקבלים לפתע חיים ובחכה שכבר לא תתפוס היום דגים. מתוך כך\, מחליט לרפא את עצמו ולא להיכנע לרחמים העצמיים ובצורה משעשעת יוצר לעצמו תרופת פלא ולומד להתגבר לגמרי לבד על קשייו. *מבוסס על צינון אמיתי” יצירה\, בימוי\,עיצוב תפאורה\, עריכה מוסיקלית ומשחק: לושה גבריאלוב \n 
URL:https://davai-group.org/event/apchee-herzeliya-25-january/
LOCATION:אולם דידה\, יוסף נבו 18\, הרצליה
ATTACH;FMTTYPE=image/jpeg:https://davai-group.org/wp-content/uploads/2021/12/apchi887.jpg
ORGANIZER;CN="Davai Clown Theatre":MAILTO:davai.group@gmail.com
END:VEVENT
BEGIN:VEVENT
DTSTART;TZID=Europe/Helsinki:20250125T200000
DTEND;TZID=Europe/Helsinki:20250125T210000
DTSTAMP:20260420T103032
CREATED:20241206T104112Z
LAST-MODIFIED:20250125T150137Z
UID:10000159-1737835200-1737838800@davai-group.org
SUMMARY:אור(16+) @ סטודיו דוואי
DESCRIPTION:русский ниже \n\n\n \n\nיצרתי את ההצגה הזאת בזמן שהצבא הרוסי החל להפציץ תחנות כוח באוקראינה . אוקראינה צללה לתוך קור וחושך כל העולם התחיל לתרום שמיכות וגנרטורים. מכאן הגיע השם להצגה-“אור”. אני\, כמו כולם\, תהיתי\, מה אני יכול לעשות כדי לעצור את המלחמה? הכל פשוט.. כדי להביס את החושך\, עליך להדליק את האור. יש את מי שידליק גפרור\, פנס\, נר\, חתיכת פחם\, יחשוב מחשבה טובה\, יזרוק חיוך. הנשק שלי הוא צחוק. צחוק הורג את הפחד צחוק מוליד טוב “אור” אלו המחשבות הטובות שלי על המלחמה הרעה . \n\n\n\nלושה גבריאלוב. \n\n\n\n \n*הצגה ללא מילים \n\n\n \n  \n \n  \n\n\nКогда создавался этот спектакль\, Российская армия начала бомбить электростанции Украины. Украина погрузилась в холод и тьму. Весь мир начал скидываться на одеяла и генераторы. Тут и пришло название для спектакля – “Свет”.  Я\, как и все\, задавался вопросом\, а что я то могу сделать\, чтобы война прекратилась? Все просто.. Чтобы победить тьму\, надо зажечь свет. Кто что может\, спичка\, фонарик\, свеча\, уголек\, добрая мысль\, улыбка. Моё оружие – смех. Смех убивает страх. Смех рождает добро. \n“Свет”  это мои добрые мысли о страшной войне… \nЛеша Гавриэлов \n\n*спектакль без слов \n\n  \n 
URL:https://davai-group.org/event/light-25-january/
LOCATION:DAVAI Theatre Studio\, Franzos St 12\, Tel Aviv-Yafo
ATTACH;FMTTYPE=image/jpeg:https://davai-group.org/wp-content/uploads/2024/03/or-ahronim-Large.jpeg
ORGANIZER;CN="Davai Clown Theatre":MAILTO:davai.group@gmail.com
GEO:32.05551725605;34.763571924569
X-APPLE-STRUCTURED-LOCATION;VALUE=URI;X-ADDRESS=DAVAI Theatre Studio Franzos St 12 Tel Aviv-Yafo;X-APPLE-RADIUS=500;X-TITLE=Franzos St 12:geo:34.763571924569,32.05551725605
END:VEVENT
END:VCALENDAR