BEGIN:VCALENDAR
VERSION:2.0
PRODID:-//Davai Group - ECPv6.15.18//NONSGML v1.0//EN
CALSCALE:GREGORIAN
METHOD:PUBLISH
X-ORIGINAL-URL:https://davai-group.org
X-WR-CALDESC:Events for Davai Group
REFRESH-INTERVAL;VALUE=DURATION:PT1H
X-Robots-Tag:noindex
X-PUBLISHED-TTL:PT1H
BEGIN:VTIMEZONE
TZID:Europe/Helsinki
BEGIN:DAYLIGHT
TZOFFSETFROM:+0200
TZOFFSETTO:+0300
TZNAME:EEST
DTSTART:20230326T010000
END:DAYLIGHT
BEGIN:STANDARD
TZOFFSETFROM:+0300
TZOFFSETTO:+0200
TZNAME:EET
DTSTART:20231029T010000
END:STANDARD
BEGIN:DAYLIGHT
TZOFFSETFROM:+0200
TZOFFSETTO:+0300
TZNAME:EEST
DTSTART:20240331T010000
END:DAYLIGHT
BEGIN:STANDARD
TZOFFSETFROM:+0300
TZOFFSETTO:+0200
TZNAME:EET
DTSTART:20241027T010000
END:STANDARD
BEGIN:DAYLIGHT
TZOFFSETFROM:+0200
TZOFFSETTO:+0300
TZNAME:EEST
DTSTART:20250330T010000
END:DAYLIGHT
BEGIN:STANDARD
TZOFFSETFROM:+0300
TZOFFSETTO:+0200
TZNAME:EET
DTSTART:20251026T010000
END:STANDARD
END:VTIMEZONE
BEGIN:VEVENT
DTSTART;TZID=Europe/Helsinki:20241205T203000
DTEND;TZID=Europe/Helsinki:20241205T220000
DTSTAMP:20260420T122219
CREATED:20241113T101938Z
LAST-MODIFIED:20241117T120406Z
UID:10000149-1733430600-1733436000@davai-group.org
SUMMARY:UNDER CONSTRUCTION(12+) @ זכרון יעקב
DESCRIPTION:מופע תיאטרון פיזי ללא מילים  \n\n\n\nשלושה רווקים מתעוררים בבוקר בדירתם הצפוצה והמתפרקת ומנסים להרתיח קומקום. \n\n\n\nהתוצאה – 80 דקות של הומור מטורף ללא מלים שסוחפות את הצופה לעולם אבסורדי\, בדיוני\, ואמיתי עד כדי דגדוג. \n\n\n\nהמופע הוצג בפסטיבלים בינלאומיים לתיאטרון במקסיקו\, ספרד\, הודו\, סרביה\, רוסיה וארה׳׳ב וזכה בפרס “קיפוד הזהב”. \n\n\n\n״מצחיק בטירוף\, תוצר דמיונם הפרוע של שלושה ליצנים וירטואוזים״ – Jerusalem Post \n״המופע קרע את הקהל מצחוק״… – Times Of India \n“…שבעיים דקות מהפנטות ללא מילים” – Cleveland News \n “פסטיבל אינפנט\, סרביה- ״אקספרסיביות בלתי רגילה שחוצה את גבולות התיאטרון  מנימוקי חבר השופטים\, \n–מגזין ״מרתה יודעת״- פרינג’ במיטבו – “בועט\, חדשני\, חוויה מסעירה לכל החושים\, המתובלת במנה גדושה של פעלולים טכניים ופיזיים המבוצעים לעילא על ידי השחקנים“ \nקבוצת תיאטרון דוואי יוצרת ומקדמת תיאטרון ללא מלים. מאז הקמת הקבוצה ב-2015\, נוצר רפרטואר של כעשרה מופעים בתסגנון ליצנות תיאטרלית\, שהועלו בפסטיבלים לתיאטרון בארץ ובעולם.
URL:https://davai-group.org/event/under-zikhron-5-december/
LOCATION:בית ניר שרייבמן\, רח' שירה 5\, זכרון יעקב
ATTACH;FMTTYPE=image/png:https://davai-group.org/wp-content/uploads/2024/03/photo_2024-05-20-19.47.png
ORGANIZER;CN="Davai Clown Theatre":MAILTO:davai.group@gmail.com
END:VEVENT
BEGIN:VEVENT
DTSTART;TZID=Europe/Helsinki:20241207T110000
DTEND;TZID=Europe/Helsinki:20241207T120000
DTSTAMP:20260420T122219
CREATED:20241001T092832Z
LAST-MODIFIED:20251029T110934Z
UID:10000132-1733569200-1733572800@davai-group.org
SUMMARY:סבתא פרידה (4+) @ סטודיו דוואי
DESCRIPTION:ברוכים הבאים לביתה של סבתא פרידה!הגברת המצחיקה והמטורללת הזאת הופכת את כל מלאכות הבית לקרקס\, והיא תשמח לעזרתכם! \n50 דקות\, לגילאי 4-10 והוריהם \nכתיבה\, בימוי\, משחק\, עריכה מוסיקלית\, עיצוב תפאורה: פיודור מקרובייעוץ דרמטורגי: לושה גבריאלובֿתלבושת: אנה איצקוביץ׳ניהול טכני: איליה גרצ׳יקוב \n  \n  \n[vc_video link=’https://youtu.be/KWmi5e7KwMs’]
URL:https://davai-group.org/event/frida-december-7/
LOCATION:DAVAI Theatre Studio\, Franzos St 12\, Tel Aviv-Yafo
ATTACH;FMTTYPE=image/jpeg:https://davai-group.org/wp-content/uploads/2024/10/frida-ahronim-1-scaled.jpg
ORGANIZER;CN="Davai Clown Theatre":MAILTO:davai.group@gmail.com
GEO:32.05551725605;34.763571924569
X-APPLE-STRUCTURED-LOCATION;VALUE=URI;X-ADDRESS=DAVAI Theatre Studio Franzos St 12 Tel Aviv-Yafo;X-APPLE-RADIUS=500;X-TITLE=Franzos St 12:geo:34.763571924569,32.05551725605
END:VEVENT
BEGIN:VEVENT
DTSTART;TZID=Europe/Helsinki:20241212T200000
DTEND;TZID=Europe/Helsinki:20241212T213000
DTSTAMP:20260420T122219
CREATED:20240826T083018Z
LAST-MODIFIED:20241211T170355Z
UID:10000114-1734033600-1734039000@davai-group.org
SUMMARY:UNDER CONSTRUCTION(12+) @ Studio Davai
DESCRIPTION:מופע תיאטרון פיזי ללא מילים  \n\n\n\nשלושה רווקים מתעוררים בבוקר בדירתם הצפוצה והמתפרקת ומנסים להרתיח קומקום. \n\n\n\nהתוצאה – 80 דקות של הומור מטורף ללא מלים שסוחפות את הצופה לעולם אבסורדי\, בדיוני\, ואמיתי עד כדי דגדוג. \n\n\n\nהמופע הוצג בפסטיבלים בינלאומיים לתיאטרון במקסיקו\, ספרד\, הודו\, סרביה\, רוסיה וארה׳׳ב וזכה בפרס “קיפוד הזהב”. \n\n\n\n״מצחיק בטירוף\, תוצר דמיונם הפרוע של שלושה ליצנים וירטואוזים״ – Jerusalem Post \n״המופע קרע את הקהל מצחוק״… – Times Of India \n“…שבעיים דקות מהפנטות ללא מילים” – Cleveland News \n “פסטיבל אינפנט\, סרביה- ״אקספרסיביות בלתי רגילה שחוצה את גבולות התיאטרון  מנימוקי חבר השופטים\, \n–מגזין ״מרתה יודעת״- פרינג’ במיטבו – “בועט\, חדשני\, חוויה מסעירה לכל החושים\, המתובלת במנה גדושה של פעלולים טכניים ופיזיים המבוצעים לעילא על ידי השחקנים“ \nקבוצת תיאטרון דוואי יוצרת ומקדמת תיאטרון ללא מלים. מאז הקמת הקבוצה ב-2015\, נוצר רפרטואר של כעשרה מופעים בתסגנון ליצנות תיאטרלית\, שהועלו בפסטיבלים לתיאטרון בארץ ובעולם.
URL:https://davai-group.org/event/under-studio-12-december/
LOCATION:DAVAI Theatre Studio\, Franzos St 12\, Tel Aviv-Yafo
ATTACH;FMTTYPE=image/jpeg:https://davai-group.org/wp-content/uploads/2024/07/sold-out.jpg
ORGANIZER;CN="Davai Clown Theatre":MAILTO:davai.group@gmail.com
GEO:32.05551725605;34.763571924569
X-APPLE-STRUCTURED-LOCATION;VALUE=URI;X-ADDRESS=DAVAI Theatre Studio Franzos St 12 Tel Aviv-Yafo;X-APPLE-RADIUS=500;X-TITLE=Franzos St 12:geo:34.763571924569,32.05551725605
END:VEVENT
BEGIN:VEVENT
DTSTART;TZID=Europe/Helsinki:20241213T200000
DTEND;TZID=Europe/Helsinki:20241213T213000
DTSTAMP:20260420T122219
CREATED:20240826T083222Z
LAST-MODIFIED:20241201T181731Z
UID:10000115-1734120000-1734125400@davai-group.org
SUMMARY:UNDER CONSTRUCTION(12+) @ Studio Davai
DESCRIPTION:מופע תיאטרון פיזי ללא מילים  \n\n\n\nשלושה רווקים מתעוררים בבוקר בדירתם הצפוצה והמתפרקת ומנסים להרתיח קומקום. \n\n\n\nהתוצאה – 80 דקות של הומור מטורף ללא מלים שסוחפות את הצופה לעולם אבסורדי\, בדיוני\, ואמיתי עד כדי דגדוג. \n\n\n\nהמופע הוצג בפסטיבלים בינלאומיים לתיאטרון במקסיקו\, ספרד\, הודו\, סרביה\, רוסיה וארה׳׳ב וזכה בפרס “קיפוד הזהב”. \n\n\n\n״מצחיק בטירוף\, תוצר דמיונם הפרוע של שלושה ליצנים וירטואוזים״ – Jerusalem Post \n״המופע קרע את הקהל מצחוק״… – Times Of India \n“…שבעיים דקות מהפנטות ללא מילים” – Cleveland News \n “פסטיבל אינפנט\, סרביה- ״אקספרסיביות בלתי רגילה שחוצה את גבולות התיאטרון  מנימוקי חבר השופטים\, \n–מגזין ״מרתה יודעת״- פרינג’ במיטבו – “בועט\, חדשני\, חוויה מסעירה לכל החושים\, המתובלת במנה גדושה של פעלולים טכניים ופיזיים המבוצעים לעילא על ידי השחקנים“ \nקבוצת תיאטרון דוואי יוצרת ומקדמת תיאטרון ללא מלים. מאז הקמת הקבוצה ב-2015\, נוצר רפרטואר של כעשרה מופעים בתסגנון ליצנות תיאטרלית\, שהועלו בפסטיבלים לתיאטרון בארץ ובעולם.
URL:https://davai-group.org/event/under-studio-13-december/
LOCATION:DAVAI Theatre Studio\, Franzos St 12\, Tel Aviv-Yafo
ATTACH;FMTTYPE=image/jpeg:https://davai-group.org/wp-content/uploads/2024/07/sold-out.jpg
ORGANIZER;CN="Davai Clown Theatre":MAILTO:davai.group@gmail.com
GEO:32.05551725605;34.763571924569
X-APPLE-STRUCTURED-LOCATION;VALUE=URI;X-ADDRESS=DAVAI Theatre Studio Franzos St 12 Tel Aviv-Yafo;X-APPLE-RADIUS=500;X-TITLE=Franzos St 12:geo:34.763571924569,32.05551725605
END:VEVENT
BEGIN:VEVENT
DTSTART;TZID=Europe/Helsinki:20241214T200000
DTEND;TZID=Europe/Helsinki:20241214T213000
DTSTAMP:20260420T122219
CREATED:20240826T083409Z
LAST-MODIFIED:20241128T130751Z
UID:10000116-1734206400-1734211800@davai-group.org
SUMMARY:UNDER CONSTRUCTION(12+) @ Studio Davai
DESCRIPTION:מופע תיאטרון פיזי ללא מילים  \n\n\n\nשלושה רווקים מתעוררים בבוקר בדירתם הצפוצה והמתפרקת ומנסים להרתיח קומקום. \n\n\n\nהתוצאה – 80 דקות של הומור מטורף ללא מלים שסוחפות את הצופה לעולם אבסורדי\, בדיוני\, ואמיתי עד כדי דגדוג. \n\n\n\nהמופע הוצג בפסטיבלים בינלאומיים לתיאטרון במקסיקו\, ספרד\, הודו\, סרביה\, רוסיה וארה׳׳ב וזכה בפרס “קיפוד הזהב”. \n\n\n\n״מצחיק בטירוף\, תוצר דמיונם הפרוע של שלושה ליצנים וירטואוזים״ – Jerusalem Post \n״המופע קרע את הקהל מצחוק״… – Times Of India \n“…שבעיים דקות מהפנטות ללא מילים” – Cleveland News \n “פסטיבל אינפנט\, סרביה- ״אקספרסיביות בלתי רגילה שחוצה את גבולות התיאטרון  מנימוקי חבר השופטים\, \n–מגזין ״מרתה יודעת״- פרינג’ במיטבו – “בועט\, חדשני\, חוויה מסעירה לכל החושים\, המתובלת במנה גדושה של פעלולים טכניים ופיזיים המבוצעים לעילא על ידי השחקנים“ \nקבוצת תיאטרון דוואי יוצרת ומקדמת תיאטרון ללא מלים. מאז הקמת הקבוצה ב-2015\, נוצר רפרטואר של כעשרה מופעים בתסגנון ליצנות תיאטרלית\, שהועלו בפסטיבלים לתיאטרון בארץ ובעולם.
URL:https://davai-group.org/event/under-studio-14-december/
LOCATION:DAVAI Theatre Studio\, Franzos St 12\, Tel Aviv-Yafo
ATTACH;FMTTYPE=image/jpeg:https://davai-group.org/wp-content/uploads/2024/07/sold-out.jpg
ORGANIZER;CN="Davai Clown Theatre":MAILTO:davai.group@gmail.com
GEO:32.05551725605;34.763571924569
X-APPLE-STRUCTURED-LOCATION;VALUE=URI;X-ADDRESS=DAVAI Theatre Studio Franzos St 12 Tel Aviv-Yafo;X-APPLE-RADIUS=500;X-TITLE=Franzos St 12:geo:34.763571924569,32.05551725605
END:VEVENT
BEGIN:VEVENT
DTSTART;TZID=Europe/Helsinki:20241221T100000
DTEND;TZID=Europe/Helsinki:20241221T110000
DTSTAMP:20260420T122219
CREATED:20241216T131432Z
LAST-MODIFIED:20241216T131432Z
UID:10000164-1734775200-1734778800@davai-group.org
SUMMARY:הדבר העגול הזה(3+) @ תיאטרון אלמינא
DESCRIPTION:  \n  \n  \n  \n  \n  \n  \n\n\n  \n  \n\n\nהחברים יוצאים להרפתקה בלב ים בחיפוש אחר השמש האבודה. בדרכם צוברים חוויות\, ויכוחים\, פרידה ולבסוף איחוד מרגש! \n“יצירתי\, קלאסי\, מתוק ומומלץ מאוד\, לצפייה משפחתית רב-גילאית.” מאקו \nהצגת ליצנות ללא מלים לכל המשפחה \nמופע ייחודי המגולל את סיפורם של שני חברים טובים אשר בטעות מפילים את השמש לים. הצמד יוצא להרפתקה בלב ים בחיפוש אחר השמש מעל ומתחת לפני המים… בדרכם צוברים חוויות\, ויכוחים\, פרידה ולבסוף איחוד מרגש! אבל לאן נעלמה השמש? כיצד ימצאו אותה? \nהמופע הוצג מעל 200 פעמים בישראל\, רוסיה\, אוקראינה\, אנגליה\, גרמניה\, תורכיה ואזרבייג׳אן. \nיוצרים ומבצעים: לושה גבריאלוב ופיודור מקרוב \nתלבושות: אולגה דומובה \nתפאורה: אוקסנה וליאוניד אליסוב \nמשך ההצגה: 50 דקות. \nלגילאים 3 ומעלה. מומלץ גם להורים. \nללא מלים. \n\n\n\n\n\n  \n  \n[vc_video link=’https://www.youtube.com/watch?v=SE7l5gE5XP0&ab_channel=DavaiClownTheatre-%D7%93%D7%95%D7%95%D7%90%D7%99%D7%AA%D7%99%D7%90%D7%98%D7%A8%D7%95%D7%9F%D7%9C%D7%99%D7%A6%D7%A0%D7%95%D7%AA’] \n 
URL:https://davai-group.org/event/round-almina-21-december/
LOCATION:תיאטרון אלמינא\, רח. נמל יפו 2\, תל אביב
ATTACH;FMTTYPE=image/jpeg:https://davai-group.org/wp-content/uploads/2024/12/WhatsApp-Image-2024-12-16-at-13.27.31.jpeg
ORGANIZER;CN="Davai Clown Theatre":MAILTO:davai.group@gmail.com
END:VEVENT
BEGIN:VEVENT
DTSTART;TZID=Europe/Helsinki:20241221T203000
DTEND;TZID=Europe/Helsinki:20241221T213000
DTSTAMP:20260420T122219
CREATED:20241203T204324Z
LAST-MODIFIED:20241221T144223Z
UID:10000152-1734813000-1734816600@davai-group.org
SUMMARY:מונוגמיה (16+) | הצגה אורחת
DESCRIPTION:תיאטרון קנטינה בכיכובם של זוג השחקנים טוני ומריה מציגים את ההצגה:\n״מונוגמיה״ \nקיטי\, עקרת בית בגיל העמידה מחליטה לקחת לידיה את השליטה על חיי הזוגיות שלה ורוכשת ערכה שתסייע לה להתאהב שוב בבעלה ג׳ון. \nהצטרפו גם אתם להרפתקאה ובואו להתאהב. \nכתיבה ומשחק: קרן ברומר\, נועם ענבר\nבימוי: חביאר כץ\nעיצוב תאורה וסאונד: מיכל קורמן
URL:https://davai-group.org/event/monogamy-december-21/
LOCATION:DAVAI Theatre Studio\, Franzos St 12\, Tel Aviv-Yafo
ATTACH;FMTTYPE=image/jpeg:https://davai-group.org/wp-content/uploads/2024/08/mnogamy-1.jpg
GEO:32.05551725605;34.763571924569
X-APPLE-STRUCTURED-LOCATION;VALUE=URI;X-ADDRESS=DAVAI Theatre Studio Franzos St 12 Tel Aviv-Yafo;X-APPLE-RADIUS=500;X-TITLE=Franzos St 12:geo:34.763571924569,32.05551725605
END:VEVENT
BEGIN:VEVENT
DTSTART;TZID=Europe/Helsinki:20241224T190000
DTEND;TZID=Europe/Helsinki:20241224T233000
DTSTAMP:20260420T122219
CREATED:20241210T095542Z
LAST-MODIFIED:20241222T211231Z
UID:10000161-1735066800-1735083000@davai-group.org
SUMMARY:אירוע ״ערב בפריז״ @ סטודיו דוואי
DESCRIPTION:  \n \nאירוע שיא בDAVAI\n ״ערב בפריז״ הכל כלול\n\nתיאטרון DAVAI מזמין אתכם לערב צרפתי חד-פעמי: ‘ערב בפריז’ – חוויה שכולה תרבות\, צחוק וחיים!\n\n\nמה מצפה לכם?\n19:00 – קבלת פנים קסומה בליווי שנסונים צרפתיים בביצוע תום כהן (שירה) ואיליה מגלניק (אקורדיון).\nתהנו ממרק חם\, נשנושים\, יין חם או בירה קרה והפתעות נוספות – והכל תחת פטריות חימום.\nאל תשכחו להצטלם על רקע מגדל אייפל שיגרום לכם להרגיש ממש בלב פריז!\n\n\n20:00 – ‘סו לה קונסטרקשיון!’\nהצגת הדגל של התיאטרון על “שלושה רווקים וקומקום אחד” – קומדיה אבסורדית\, מלאת דמיון והומור ויזואלי. שלושה גברים\, קומקום אחד ומשימה בלתי אפשרית – להכין תה! תיאטרון ליצני\, מצחיק ומלא תובנות על החיים הקטנים של כולנו.\n\n\n21:30 – חוגגים את החיים עם מסיבת ריקודים\, שתייה ללא גבולות ומכירה פומבית של פריטים נדירים מההצגה.\n“מבטיחים שתחזרו הביתה עם חיוך גדול או לכל הפחות – מאהב.” \n\nאה וגם! מארז גלויות חתום ע״י השלושה!  \n  \n[vc_separator type=’small’ position=’center’ color=’black’ thickness=” up=” down=”] \n  \n[vc_video link=’https://youtu.be/g0wTWASiGdU’] \n  \n[vc_separator type=’small’ position=’center’ color=’black’ thickness=” up=” down=”] \n  \nUNDER CONSTRUCTION (12+) \n  \n  \n[vc_row][vc_column width=’1/4′][/vc_column] \n[vc_column width=’1/4′][/vc_column] \n[vc_column width=’1/4′][/vc_column] \n[vc_column width=’1/4′][/vc_column][/vc_row] \n  \n[vc_separator type=’small’ position=’center’ color=’black’ thickness=” up=” down=”]  \n  \nמופע תיאטרון פיזי ללא מילים  \n\n\n\nשלושה רווקים מתעוררים בבוקר בדירתם הצפוצה והמתפרקת ומנסים להרתיח קומקום. \n\n\n \nהתוצאה – 80 דקות של הומור מטורף ללא מלים שסוחפות את הצופה לעולם אבסורדי\, בדיוני\, ואמיתי עד כדי דגדוג. \n\n\n \nהמופע הוצג בפסטיבלים בינלאומיים לתיאטרון במקסיקו\, ספרד\, הודו\, סרביה\, רוסיה וארה׳׳ב וזכה בפרס “קיפוד הזהב”. \n\n\n \n״מצחיק בטירוף\, תוצר דמיונם הפרוע של שלושה ליצנים וירטואוזים״ – Jerusalem Post \n״המופע קרע את הקהל מצחוק״… – Times Of India \n“…שבעיים דקות מהפנטות ללא מילים” – Cleveland News \n “פסטיבל אינפנט\, סרביה- ״אקספרסיביות בלתי רגילה שחוצה את גבולות התיאטרון  מנימוקי חבר השופטים\, \n–מגזין ״מרתה יודעת״- פרינג’ במיטבו – “בועט\, חדשני\, חוויה מסעירה לכל החושים\, המתובלת במנה גדושה של פעלולים טכניים ופיזיים המבוצעים לעילא על ידי השחקנים“ \nקבוצת תיאטרון דוואי יוצרת ומקדמת תיאטרון ללא מלים. מאז הקמת הקבוצה ב-2015\, נוצר רפרטואר של כעשרה מופעים בתסגנון ליצנות תיאטרלית\, שהועלו בפסטיבלים לתיאטרון בארץ ובעולם. \n  \n[vc_separator type=’small’ position=’center’ color=’black’ thickness=” up=” down=”] \n  \n  \n \n  \n  \n 
URL:https://davai-group.org/event/night-in-paris/
LOCATION:DAVAI Theatre Studio\, Franzos St 12\, Tel Aviv-Yafo
ATTACH;FMTTYPE=image/jpeg:https://davai-group.org/wp-content/uploads/2024/12/avignon-ahronim.jpg
ORGANIZER;CN="Davai Clown Theatre":MAILTO:davai.group@gmail.com
GEO:32.05551725605;34.763571924569
X-APPLE-STRUCTURED-LOCATION;VALUE=URI;X-ADDRESS=DAVAI Theatre Studio Franzos St 12 Tel Aviv-Yafo;X-APPLE-RADIUS=500;X-TITLE=Franzos St 12:geo:34.763571924569,32.05551725605
END:VEVENT
BEGIN:VEVENT
DTSTART;TZID=Europe/Helsinki:20241229T110000
DTEND;TZID=Europe/Helsinki:20241229T120000
DTSTAMP:20260420T122219
CREATED:20241028T172346Z
LAST-MODIFIED:20241107T115138Z
UID:10000139-1735470000-1735473600@davai-group.org
SUMMARY:אחים סמארטפון (5+) @ סטודיו דוואי
DESCRIPTION:  \nאחים סמארטפון \nלאחים סמארטפון יש שמחה גדולה – הגיע דגם האחרון והנוצץ של סמארטפון! נלהבים ומאושרים האחים חוגגים את הצעצוע החדש כשהוא מחליק מידיהם ונשבר לריסים. האחים יצאים למסע אל עבר המסך הכבוי. איך יתמודדו בלעדיו עם החיים ואחד עם השני? קומדיה מאת האחים סמאטפון בליווי של מוזיקה מהסמארטפון ובעזרת ושאריות העולם האנלוגי שמצאו במחסן. \nהצגה בהשתתפות בובה וליצן מלאה בסלאפסטיק\, תיאטרון חפצים משובח\, מסרים חינוכיים\, והומור אנככיסטי פרוע… \n  \n  \n[vc_video link=’https://www.youtube.com/watch?v=Fo4Ys-aS7aE&ab_channel=DavaiTheatre’]
URL:https://davai-group.org/event/smartphone-29-december/
LOCATION:DAVAI Theatre Studio\, Franzos St 12\, Tel Aviv-Yafo
ATTACH;FMTTYPE=image/jpeg:https://davai-group.org/wp-content/uploads/2003/06/IMG_3839photomoto-scaled.jpg
ORGANIZER;CN="Davai Clown Theatre":MAILTO:davai.group@gmail.com
GEO:32.05551725605;34.763571924569
X-APPLE-STRUCTURED-LOCATION;VALUE=URI;X-ADDRESS=DAVAI Theatre Studio Franzos St 12 Tel Aviv-Yafo;X-APPLE-RADIUS=500;X-TITLE=Franzos St 12:geo:34.763571924569,32.05551725605
END:VEVENT
BEGIN:VEVENT
DTSTART;TZID=Europe/Helsinki:20241231T110000
DTEND;TZID=Europe/Helsinki:20241231T120000
DTSTAMP:20260420T122219
CREATED:20241028T170857Z
LAST-MODIFIED:20241103T103357Z
UID:10000138-1735642800-1735646400@davai-group.org
SUMMARY:אפצ׳י(3+) @ סטודיו דוואי
DESCRIPTION:אפצ’י הוא מופע של תיאטרון חזותי-פיזי ללא מילים הפונה לילדים הקטנים שבחבורה\, ויענג במיוחד את בני 3-6. \nשיחת טלפון חשובה מזרזת את הליצן להתארגן ולצאת מביתו כדי לדוג דג גדול. למרות הגשם המפתיע\, מחליט הליצן שזו הזדמנות שאסור לפספס ומתוך כל ההתארגנות המהירה שוכח לנעול  את נעליו וכך דורך על שלולית גדולה… האפצ’י הראשון לא מאחר להגיע וכך גם הבאים אחריו. מתוסכל\, חולה ומנוזל\, נשאר הליצן בביתו\, מוקף ברחמים עצמיים ובחפצים שמקבלים לפתע חיים ובחכה שכבר לא תתפוס היום דגים. מתוך כך\, מחליט לרפא את עצמו ולא להיכנע לרחמים העצמיים ובצורה משעשעת יוצר לעצמו תרופת פלא ולומד להתגבר לגמרי לבד על קשייו. *מבוסס על צינון אמיתי” יצירה\, בימוי\,עיצוב תפאורה\, עריכה מוסיקלית ומשחק: לושה גבריאלוב \n 
URL:https://davai-group.org/event/apchee-31-december/
LOCATION:DAVAI Theatre Studio\, Franzos St 12\, Tel Aviv-Yafo
ATTACH;FMTTYPE=image/jpeg:https://davai-group.org/wp-content/uploads/2021/12/apchi234.jpg
ORGANIZER;CN="Davai Clown Theatre":MAILTO:davai.group@gmail.com
GEO:32.05551725605;34.763571924569
X-APPLE-STRUCTURED-LOCATION;VALUE=URI;X-ADDRESS=DAVAI Theatre Studio Franzos St 12 Tel Aviv-Yafo;X-APPLE-RADIUS=500;X-TITLE=Franzos St 12:geo:34.763571924569,32.05551725605
END:VEVENT
END:VCALENDAR