BEGIN:VCALENDAR
VERSION:2.0
PRODID:-//Davai Group - ECPv6.15.18//NONSGML v1.0//EN
CALSCALE:GREGORIAN
METHOD:PUBLISH
X-ORIGINAL-URL:https://davai-group.org
X-WR-CALDESC:Events for Davai Group
REFRESH-INTERVAL;VALUE=DURATION:PT1H
X-Robots-Tag:noindex
X-PUBLISHED-TTL:PT1H
BEGIN:VTIMEZONE
TZID:Europe/Helsinki
BEGIN:DAYLIGHT
TZOFFSETFROM:+0200
TZOFFSETTO:+0300
TZNAME:EEST
DTSTART:20230326T010000
END:DAYLIGHT
BEGIN:STANDARD
TZOFFSETFROM:+0300
TZOFFSETTO:+0200
TZNAME:EET
DTSTART:20231029T010000
END:STANDARD
BEGIN:DAYLIGHT
TZOFFSETFROM:+0200
TZOFFSETTO:+0300
TZNAME:EEST
DTSTART:20240331T010000
END:DAYLIGHT
BEGIN:STANDARD
TZOFFSETFROM:+0300
TZOFFSETTO:+0200
TZNAME:EET
DTSTART:20241027T010000
END:STANDARD
BEGIN:DAYLIGHT
TZOFFSETFROM:+0200
TZOFFSETTO:+0300
TZNAME:EEST
DTSTART:20250330T010000
END:DAYLIGHT
BEGIN:STANDARD
TZOFFSETFROM:+0300
TZOFFSETTO:+0200
TZNAME:EET
DTSTART:20251026T010000
END:STANDARD
END:VTIMEZONE
BEGIN:VEVENT
DTSTART;TZID=Europe/Helsinki:20241101T200000
DTEND;TZID=Europe/Helsinki:20241101T213000
DTSTAMP:20260420T134640
CREATED:20240826T082144Z
LAST-MODIFIED:20241028T093852Z
UID:10000112-1730491200-1730496600@davai-group.org
SUMMARY:UNDER CONSTRUCTION(12+) @ Studio Davai
DESCRIPTION:מופע תיאטרון פיזי ללא מילים  \n\n\n\nשלושה רווקים מתעוררים בבוקר בדירתם הצפוצה והמתפרקת ומנסים להרתיח קומקום. \n\n\n\nהתוצאה – 80 דקות של הומור מטורף ללא מלים שסוחפות את הצופה לעולם אבסורדי\, בדיוני\, ואמיתי עד כדי דגדוג. \n\n\n\nהמופע הוצג בפסטיבלים בינלאומיים לתיאטרון במקסיקו\, ספרד\, הודו\, סרביה\, רוסיה וארה׳׳ב וזכה בפרס “קיפוד הזהב”. \n\n\n\n״מצחיק בטירוף\, תוצר דמיונם הפרוע של שלושה ליצנים וירטואוזים״ – Jerusalem Post \n״המופע קרע את הקהל מצחוק״… – Times Of India \n“…שבעיים דקות מהפנטות ללא מילים” – Cleveland News \n “פסטיבל אינפנט\, סרביה- ״אקספרסיביות בלתי רגילה שחוצה את גבולות התיאטרון  מנימוקי חבר השופטים\, \n–מגזין ״מרתה יודעת״- פרינג’ במיטבו – “בועט\, חדשני\, חוויה מסעירה לכל החושים\, המתובלת במנה גדושה של פעלולים טכניים ופיזיים המבוצעים לעילא על ידי השחקנים“ \nקבוצת תיאטרון דוואי יוצרת ומקדמת תיאטרון ללא מלים. מאז הקמת הקבוצה ב-2015\, נוצר רפרטואר של כעשרה מופעים בתסגנון ליצנות תיאטרלית\, שהועלו בפסטיבלים לתיאטרון בארץ ובעולם.
URL:https://davai-group.org/event/under-studio-1-november/
LOCATION:DAVAI Theatre Studio\, Franzos St 12\, Tel Aviv-Yafo
ATTACH;FMTTYPE=image/jpeg:https://davai-group.org/wp-content/uploads/2024/07/sold-out.jpg
ORGANIZER;CN="Davai Clown Theatre":MAILTO:davai.group@gmail.com
GEO:32.05551725605;34.763571924569
X-APPLE-STRUCTURED-LOCATION;VALUE=URI;X-ADDRESS=DAVAI Theatre Studio Franzos St 12 Tel Aviv-Yafo;X-APPLE-RADIUS=500;X-TITLE=Franzos St 12:geo:34.763571924569,32.05551725605
END:VEVENT
BEGIN:VEVENT
DTSTART;TZID=Europe/Helsinki:20241102T200000
DTEND;TZID=Europe/Helsinki:20241102T213000
DTSTAMP:20260420T134640
CREATED:20240826T082618Z
LAST-MODIFIED:20241102T091318Z
UID:10000113-1730577600-1730583000@davai-group.org
SUMMARY:UNDER CONSTRUCTION(12+) @ Studio Davai
DESCRIPTION:מופע תיאטרון פיזי ללא מילים  \n\n\n\nשלושה רווקים מתעוררים בבוקר בדירתם הצפוצה והמתפרקת ומנסים להרתיח קומקום. \n\n\n\nהתוצאה – 80 דקות של הומור מטורף ללא מלים שסוחפות את הצופה לעולם אבסורדי\, בדיוני\, ואמיתי עד כדי דגדוג. \n\n\n\nהמופע הוצג בפסטיבלים בינלאומיים לתיאטרון במקסיקו\, ספרד\, הודו\, סרביה\, רוסיה וארה׳׳ב וזכה בפרס “קיפוד הזהב”. \n\n\n\n״מצחיק בטירוף\, תוצר דמיונם הפרוע של שלושה ליצנים וירטואוזים״ – Jerusalem Post \n״המופע קרע את הקהל מצחוק״… – Times Of India \n“…שבעיים דקות מהפנטות ללא מילים” – Cleveland News \n “פסטיבל אינפנט\, סרביה- ״אקספרסיביות בלתי רגילה שחוצה את גבולות התיאטרון  מנימוקי חבר השופטים\, \n–מגזין ״מרתה יודעת״- פרינג’ במיטבו – “בועט\, חדשני\, חוויה מסעירה לכל החושים\, המתובלת במנה גדושה של פעלולים טכניים ופיזיים המבוצעים לעילא על ידי השחקנים“ \nקבוצת תיאטרון דוואי יוצרת ומקדמת תיאטרון ללא מלים. מאז הקמת הקבוצה ב-2015\, נוצר רפרטואר של כעשרה מופעים בתסגנון ליצנות תיאטרלית\, שהועלו בפסטיבלים לתיאטרון בארץ ובעולם.
URL:https://davai-group.org/event/under-studio-2-november/
LOCATION:DAVAI Theatre Studio\, Franzos St 12\, Tel Aviv-Yafo
ATTACH;FMTTYPE=image/png:https://davai-group.org/wp-content/uploads/2024/03/photo_2024-05-20-19.47.png
ORGANIZER;CN="Davai Clown Theatre":MAILTO:davai.group@gmail.com
GEO:32.05551725605;34.763571924569
X-APPLE-STRUCTURED-LOCATION;VALUE=URI;X-ADDRESS=DAVAI Theatre Studio Franzos St 12 Tel Aviv-Yafo;X-APPLE-RADIUS=500;X-TITLE=Franzos St 12:geo:34.763571924569,32.05551725605
END:VEVENT
BEGIN:VEVENT
DTSTART;TZID=Europe/Helsinki:20241114T203000
DTEND;TZID=Europe/Helsinki:20241114T220000
DTSTAMP:20260420T134640
CREATED:20240918T114512Z
LAST-MODIFIED:20241103T101551Z
UID:10000124-1731616200-1731621600@davai-group.org
SUMMARY:UNDER CONSTRUCTION(12+) @ Jerusalem Karon Theatre
DESCRIPTION:מופע תיאטרון פיזי ללא מילים  \n\n\n\nשלושה רווקים מתעוררים בבוקר בדירתם הצפוצה והמתפרקת ומנסים להרתיח קומקום. \n\n\n\nהתוצאה – 80 דקות של הומור מטורף ללא מלים שסוחפות את הצופה לעולם אבסורדי\, בדיוני\, ואמיתי עד כדי דגדוג. \n\n\n\nהמופע הוצג בפסטיבלים בינלאומיים לתיאטרון במקסיקו\, ספרד\, הודו\, סרביה\, רוסיה וארה׳׳ב וזכה בפרס “קיפוד הזהב”. \n\n\n\n״מצחיק בטירוף\, תוצר דמיונם הפרוע של שלושה ליצנים וירטואוזים״ – Jerusalem Post \n״המופע קרע את הקהל מצחוק״… – Times Of India \n“…שבעיים דקות מהפנטות ללא מילים” – Cleveland News \n “פסטיבל אינפנט\, סרביה- ״אקספרסיביות בלתי רגילה שחוצה את גבולות התיאטרון  מנימוקי חבר השופטים\, \n–מגזין ״מרתה יודעת״- פרינג’ במיטבו – “בועט\, חדשני\, חוויה מסעירה לכל החושים\, המתובלת במנה גדושה של פעלולים טכניים ופיזיים המבוצעים לעילא על ידי השחקנים“ \nקבוצת תיאטרון דוואי יוצרת ומקדמת תיאטרון ללא מלים. מאז הקמת הקבוצה ב-2015\, נוצר רפרטואר של כעשרה מופעים בתסגנון ליצנות תיאטרלית\, שהועלו בפסטיבלים לתיאטרון בארץ ובעולם.
URL:https://davai-group.org/event/under-karon-14-november/
LOCATION:Train Theater\, דרום גן פעמון הדרור\, בצמוד לסקייטפארק\, Jerusalem
ATTACH;FMTTYPE=image/jpeg:https://davai-group.org/wp-content/uploads/2024/08/BT9I0216photomoto-Large-e1724660464451.jpeg
ORGANIZER;CN="Davai Clown Theatre":MAILTO:davai.group@gmail.com
END:VEVENT
BEGIN:VEVENT
DTSTART;TZID=Europe/Helsinki:20241116T110000
DTEND;TZID=Europe/Helsinki:20241116T120000
DTSTAMP:20260420T134640
CREATED:20241001T092259Z
LAST-MODIFIED:20251029T110900Z
UID:10000131-1731754800-1731758400@davai-group.org
SUMMARY:סבתא פרידה (4+) @ סטודיו דוואי
DESCRIPTION:ברוכים הבאים לביתה של סבתא פרידה!הגברת המצחיקה והמטורללת הזאת הופכת את כל מלאכות הבית לקרקס\, והיא תשמח לעזרתכם! \n50 דקות\, לגילאי 4-10 והוריהם \nכתיבה\, בימוי\, משחק\, עריכה מוסיקלית\, עיצוב תפאורה: פיודור מקרובייעוץ דרמטורגי: לושה גבריאלובֿתלבושת: אנה איצקוביץ׳ניהול טכני: איליה גרצ׳יקוב \n  \n  \n[vc_video link=’https://youtu.be/KWmi5e7KwMs’]
URL:https://davai-group.org/event/frida-november-16/
LOCATION:DAVAI Theatre Studio\, Franzos St 12\, Tel Aviv-Yafo
ATTACH;FMTTYPE=image/jpeg:https://davai-group.org/wp-content/uploads/2024/10/fr-sold-scaled.jpg
ORGANIZER;CN="Davai Clown Theatre":MAILTO:davai.group@gmail.com
GEO:32.05551725605;34.763571924569
X-APPLE-STRUCTURED-LOCATION;VALUE=URI;X-ADDRESS=DAVAI Theatre Studio Franzos St 12 Tel Aviv-Yafo;X-APPLE-RADIUS=500;X-TITLE=Franzos St 12:geo:34.763571924569,32.05551725605
END:VEVENT
BEGIN:VEVENT
DTSTART;TZID=Europe/Helsinki:20241119T170000
DTEND;TZID=Europe/Helsinki:20241119T180000
DTSTAMP:20260420T134640
CREATED:20241113T100610Z
LAST-MODIFIED:20241113T100610Z
UID:10000148-1732035600-1732039200@davai-group.org
SUMMARY:הדבר העגול הזה(3+) @ כפר סבא
DESCRIPTION:החברים יוצאים להרפתקה בלב ים בחיפוש אחר השמש האבודה. בדרכם צוברים חוויות\, ויכוחים\, פרידה ולבסוף איחוד מרגש! \n“יצירתי\, קלאסי\, מתוק ומומלץ מאוד\, לצפייה משפחתית רב-גילאית.” מאקו \nהצגת ליצנות ללא מלים לכל המשפחה \nמופע ייחודי המגולל את סיפורם של שני חברים טובים אשר בטעות מפילים את השמש לים. הצמד יוצא להרפתקה בלב ים בחיפוש אחר השמש מעל ומתחת לפני המים… בדרכם צוברים חוויות\, ויכוחים\, פרידה ולבסוף איחוד מרגש! אבל לאן נעלמה השמש? כיצד ימצאו אותה? \nהמופע הוצג מעל 200 פעמים בישראל\, רוסיה\, אוקראינה\, אנגליה\, גרמניה\, תורכיה ואזרבייג׳אן. \nיוצרים ומבצעים: לושה גבריאלוב ופיודור מקרוב \nתלבושות: אולגה דומובה \nתפאורה: אוקסנה וליאוניד אליסוב \nמשך ההצגה: 50 דקות. \nלגילאים 3 ומעלה. מומלץ גם להורים. \nללא מלים. \n\n\n\n\n\n  \n  \n[vc_video link=’https://www.youtube.com/watch?v=SE7l5gE5XP0&ab_channel=DavaiClownTheatre-%D7%93%D7%95%D7%95%D7%90%D7%99%D7%AA%D7%99%D7%90%D7%98%D7%A8%D7%95%D7%9F%D7%9C%D7%99%D7%A6%D7%A0%D7%95%D7%AA’] \n 
URL:https://davai-group.org/event/round-kfar-saba-19-november/
LOCATION:בית רייזל\, גאולה 12\, כפר סבא
ATTACH;FMTTYPE=image/jpeg:https://davai-group.org/wp-content/uploads/2016/11/THAT-ROUND-THING-BY-DOR-KEDMI.jpg
ORGANIZER;CN="Davai Clown Theatre":MAILTO:davai.group@gmail.com
END:VEVENT
BEGIN:VEVENT
DTSTART;TZID=Europe/Helsinki:20241123T110000
DTEND;TZID=Europe/Helsinki:20241123T120000
DTSTAMP:20260420T134640
CREATED:20241110T124039Z
LAST-MODIFIED:20241110T153232Z
UID:10000147-1732359600-1732363200@davai-group.org
SUMMARY:Ухти-Тухти (3+) @ Studio Davai | guest show
DESCRIPTION: УХТИ- ТУХТИ \nЭту милейшую сказку написала Беатрикс Поттер – первая сказочница\, которая стала не только придумывать волшебные истории\, но и рисовать своих героев. Наверняка вам знаком непоседа Кролик Питер\, а теперь познакомьтесь\, пожалуйста\, с тетушкой Ухти-Тухти.  \nМы расскажем вам историю знакомства девочки Люси\, которая все время теряла свои вещи\, с самой лучшей лесной прачкой\, доброй и трудолюбивой ежихой по имени Ухти-Тухти.  \nВ этом спектакле мы научим ребят заботиться о своих вещах и расскажем\, как стирать их без стиральной машины. Так что можете захватить из дома пару грязных вещей\, вы удивитесь\, с каким удовольствием ваши дети примутся за настоящую стирку.  \nСпектакль идет на русском языке.  \nПродолжительность: 45 минут.
URL:https://davai-group.org/event/uhti-tuhti-23-november/
ATTACH;FMTTYPE=image/jpeg:https://davai-group.org/wp-content/uploads/2024/11/uhti-tuhti.jpg
END:VEVENT
END:VCALENDAR