BEGIN:VCALENDAR
VERSION:2.0
PRODID:-//Davai Group - ECPv6.15.18//NONSGML v1.0//EN
CALSCALE:GREGORIAN
METHOD:PUBLISH
X-ORIGINAL-URL:https://davai-group.org
X-WR-CALDESC:Events for Davai Group
REFRESH-INTERVAL;VALUE=DURATION:PT1H
X-Robots-Tag:noindex
X-PUBLISHED-TTL:PT1H
BEGIN:VTIMEZONE
TZID:Europe/Helsinki
BEGIN:DAYLIGHT
TZOFFSETFROM:+0200
TZOFFSETTO:+0300
TZNAME:EEST
DTSTART:20230326T010000
END:DAYLIGHT
BEGIN:STANDARD
TZOFFSETFROM:+0300
TZOFFSETTO:+0200
TZNAME:EET
DTSTART:20231029T010000
END:STANDARD
BEGIN:DAYLIGHT
TZOFFSETFROM:+0200
TZOFFSETTO:+0300
TZNAME:EEST
DTSTART:20240331T010000
END:DAYLIGHT
BEGIN:STANDARD
TZOFFSETFROM:+0300
TZOFFSETTO:+0200
TZNAME:EET
DTSTART:20241027T010000
END:STANDARD
BEGIN:DAYLIGHT
TZOFFSETFROM:+0200
TZOFFSETTO:+0300
TZNAME:EEST
DTSTART:20250330T010000
END:DAYLIGHT
BEGIN:STANDARD
TZOFFSETFROM:+0300
TZOFFSETTO:+0200
TZNAME:EET
DTSTART:20251026T010000
END:STANDARD
END:VTIMEZONE
BEGIN:VEVENT
DTSTART;TZID=Europe/Helsinki:20240803T110000
DTEND;TZID=Europe/Helsinki:20240803T120000
DTSTAMP:20260420T183247
CREATED:20240525T121215Z
LAST-MODIFIED:20240724T170027Z
UID:10000072-1722682800-1722686400@davai-group.org
SUMMARY:הדבר העגול הזה(3+) @ מוזיאון תל אביב
DESCRIPTION:  \n  \n  \n  \n  \n  \n  \n\n\n  \n  \n\n\nהחברים יוצאים להרפתקה בלב ים בחיפוש אחר השמש האבודה. בדרכם צוברים חוויות\, ויכוחים\, פרידה ולבסוף איחוד מרגש! \n“יצירתי\, קלאסי\, מתוק ומומלץ מאוד\, לצפייה משפחתית רב-גילאית.” מאקו \nהצגת ליצנות ללא מלים לכל המשפחה \nמופע ייחודי המגולל את סיפורם של שני חברים טובים אשר בטעות מפילים את השמש לים. הצמד יוצא להרפתקה בלב ים בחיפוש אחר השמש מעל ומתחת לפני המים… בדרכם צוברים חוויות\, ויכוחים\, פרידה ולבסוף איחוד מרגש! אבל לאן נעלמה השמש? כיצד ימצאו אותה? \nהמופע הוצג מעל 200 פעמים בישראל\, רוסיה\, אוקראינה\, אנגליה\, גרמניה\, תורכיה ואזרבייג׳אן. \nיוצרים ומבצעים: לושה גבריאלוב ופיודור מקרוב \nתלבושות: אולגה דומובה \nתפאורה: אוקסנה וליאוניד אליסוב \nמשך ההצגה: 50 דקות. \nלגילאים 3 ומעלה. מומלץ גם להורים. \nללא מלים. \n\n\n\n\n\n  \n  \n[vc_video link=’https://www.youtube.com/watch?v=SE7l5gE5XP0&ab_channel=DavaiClownTheatre-%D7%93%D7%95%D7%95%D7%90%D7%99%D7%AA%D7%99%D7%90%D7%98%D7%A8%D7%95%D7%9F%D7%9C%D7%99%D7%A6%D7%A0%D7%95%D7%AA’] \n 
URL:https://davai-group.org/event/round-august-3-museum/
LOCATION:מוזיאון תל אביב
ATTACH;FMTTYPE=image/jpeg:https://davai-group.org/wp-content/uploads/2016/11/THAT-ROUND-THING-BY-DOR-KEDMI.jpg
ORGANIZER;CN="Davai Clown Theatre":MAILTO:davai.group@gmail.com
END:VEVENT
BEGIN:VEVENT
DTSTART;TZID=Europe/Helsinki:20240809T203000
DTEND;TZID=Europe/Helsinki:20240809T213000
DTSTAMP:20260420T183247
CREATED:20240624T162945Z
LAST-MODIFIED:20240809T102956Z
UID:10000091-1723235400-1723239000@davai-group.org
SUMMARY:עומאר טריו(12+) @ סטודיו דוואי
DESCRIPTION:עומאר טריו – פרפרזה מוזיקלית בהשראת סיפורו של סמיאל בקט.\nשני עומארים מקיימים קונצרט ומחכים לעומאר השלישי. האם יבוא?\nהקונצרט כולל שירים מקוריים באנגלית ואולי בספרדית\, מוזיקה מקורית\, עיבוד אלטרנטיבי ליצירה הקלאסית של בטהובן\, עיבוד של שיר ילדים בשפה ערבית\, ביצוע חופשי של להיט עולמי שפת מקור\, תהיות מלנכוליות בנושא זהותֿ מטושטשת ורגעי שקט טעונים בהומור. \nקונטראבס שירה ופסנתר\, חצוצרה מסור וחותך ביצים ביצירה אחת. \n\n\n״הטריו של עומאר הוא ריטואל מוזיקלי עוצמתי ועתיק יומין\, המבוצע לאחר החשיכה\, וחוגג את אורה הפנימי של דת העומארים הסודית\, ברוח העומאריזם ועל פי העקרונות העומאריים הקדומים. בקונצרט ינגנו עומאר\, עומאר וכמובן… עומאר\, שירים מתוך הקנון העומארי המסורתי..אוסף לטיהור הנשמה המורכב מטקסטים עומאריסטים מקוריים\, לצד קטעים קלאסיים המקבלים פרשנות עומארית   חדשנית״ \nאלעד סדן\, פסנתרן \n\nֿ\n\nמשתתפים:\nעומאר גולדמן – ויטלי אזרין\nעומאר מאסטרו – אלעד סדן \nתמונות: ולדימיר פופוב \n  \n[vc_row][vc_column width=’1/3′] [/vc_column][vc_column width=’1/3′][/vc_column][vc_column width=’1/3′][/vc_column][/vc_row] \n  \n  \n  \n[vc_video link=’https://youtu.be/5I7lkHZhy_Y’]
URL:https://davai-group.org/event/omars-9-august/
LOCATION:DAVAI Theatre Studio\, Franzos St 12\, Tel Aviv-Yafo
ATTACH;FMTTYPE=image/jpeg:https://davai-group.org/wp-content/uploads/2024/06/1.jpg
ORGANIZER;CN="Davai Clown Theatre":MAILTO:davai.group@gmail.com
GEO:32.05551725605;34.763571924569
X-APPLE-STRUCTURED-LOCATION;VALUE=URI;X-ADDRESS=DAVAI Theatre Studio Franzos St 12 Tel Aviv-Yafo;X-APPLE-RADIUS=500;X-TITLE=Franzos St 12:geo:34.763571924569,32.05551725605
END:VEVENT
BEGIN:VEVENT
DTSTART;TZID=Europe/Helsinki:20240810T110000
DTEND;TZID=Europe/Helsinki:20240810T120000
DTSTAMP:20260420T183247
CREATED:20240716T141245Z
LAST-MODIFIED:20240809T103312Z
UID:10000099-1723287600-1723291200@davai-group.org
SUMMARY:אפצי(3+) @ סטודיו דוואי
DESCRIPTION:אפצ’י הוא מופע של תיאטרון חזותי-פיזי ללא מילים הפונה לילדים הקטנים שבחבורה\, ויענג במיוחד את בני 3-6. \nשיחת טלפון חשובה מזרזת את הליצן להתארגן ולצאת מביתו כדי לדוג דג גדול. למרות הגשם המפתיע\, מחליט הליצן שזו הזדמנות שאסור לפספס ומתוך כל ההתארגנות המהירה שוכח לנעול  את נעליו וכך דורך על שלולית גדולה… האפצ’י הראשון לא מאחר להגיע וכך גם הבאים אחריו. מתוסכל\, חולה ומנוזל\, נשאר הליצן בביתו\, מוקף ברחמים עצמיים ובחפצים שמקבלים לפתע חיים ובחכה שכבר לא תתפוס היום דגים. מתוך כך\, מחליט לרפא את עצמו ולא להיכנע לרחמים העצמיים ובצורה משעשעת יוצר לעצמו תרופת פלא ולומד להתגבר לגמרי לבד על קשייו. *מבוסס על צינון אמיתי” יצירה\, בימוי\,עיצוב תפאורה\, עריכה מוסיקלית ומשחק: לושה גבריאלוב \n 
URL:https://davai-group.org/event/apchee-10-august/
LOCATION:DAVAI Theatre Studio\, Franzos St 12\, Tel Aviv-Yafo
ATTACH;FMTTYPE=image/jpeg:https://davai-group.org/wp-content/uploads/2021/12/3098_813512735420518_3362834601489108160_n.jpg
ORGANIZER;CN="Davai Clown Theatre":MAILTO:davai.group@gmail.com
GEO:32.05551725605;34.763571924569
X-APPLE-STRUCTURED-LOCATION;VALUE=URI;X-ADDRESS=DAVAI Theatre Studio Franzos St 12 Tel Aviv-Yafo;X-APPLE-RADIUS=500;X-TITLE=Franzos St 12:geo:34.763571924569,32.05551725605
END:VEVENT
BEGIN:VEVENT
DTSTART;TZID=Europe/Helsinki:20240817T110000
DTEND;TZID=Europe/Helsinki:20240817T120000
DTSTAMP:20260420T183247
CREATED:20240806T184608Z
LAST-MODIFIED:20240813T182842Z
UID:10000101-1723892400-1723896000@davai-group.org
SUMMARY:טיטו והטעויות (3+) | הצגה אורחת
DESCRIPTION:  \n  \n  \nכשהיינו ילדים וילדות אמרו לנו להיזהר מטעויות ולהפסיק לעשות שטויות… \nליצן חובב שטויות וטעויות מושבע מגיע לחגוג יום הולדת לכל המי ומי במיוחד לילד הפנימי.\nזהו מופע ליצנות של שחקן אחד שלוקח אותנו איתו לאין ספור טעויות. \nמופע בשיתוף הקהל המשלב עבודת סלפסטיק מניפולציה של חפצים עבודת עם בובות ואומנויות קירקס. \n  באו\, במיוחד אם אתם חושבים שזו טעות להגיע.\nכי אם טועים אז מגיעים למקומות נפלאים. \nמופע לכל המשפחה. \nיצירתו של הליצן משה ‘טיטו’ טויטו צו’ודס הראשון. \nייעוץ וליווי אמנותי : דוש \n  \n  \n[vc_video link=’https://youtu.be/QsYgcJLB6ow’]
URL:https://davai-group.org/event/tito-17-august/
LOCATION:DAVAI Theatre Studio\, Franzos St 12\, Tel Aviv-Yafo
ATTACH;FMTTYPE=image/jpeg:https://davai-group.org/wp-content/uploads/2024/08/tito2.jpg
GEO:32.05551725605;34.763571924569
X-APPLE-STRUCTURED-LOCATION;VALUE=URI;X-ADDRESS=DAVAI Theatre Studio Franzos St 12 Tel Aviv-Yafo;X-APPLE-RADIUS=500;X-TITLE=Franzos St 12:geo:34.763571924569,32.05551725605
END:VEVENT
BEGIN:VEVENT
DTSTART;TZID=Europe/Helsinki:20240820T210000
DTEND;TZID=Europe/Helsinki:20240820T210000
DTSTAMP:20260420T183247
CREATED:20240811T221856Z
LAST-MODIFIED:20240811T222052Z
UID:10000103-1724187600-1724187600@davai-group.org
SUMMARY:אור(12+) @ תיאטרון הקרון
DESCRIPTION:русский ниже \n\n\n\nיצרתי את ההצגה הזאת בזמן שהצבא הרוסי החל להפציץ תחנות כוח באוקראינה . אוקראינה צללה לתוך קור וחושך כל העולם התחיל לתרום שמיכות וגנרטורים. מכאן הגיע השם להצגה-“אור”. אני\, כמו כולם\, תהיתי\, מה אני יכול לעשות כדי לעצור את המלחמה? הכל פשוט.. כדי להביס את החושך\, עליך להדליק את האור. יש את מי שידליק גפרור\, פנס\, נר\, חתיכת פחם\, יחשוב מחשבה טובה\, יזרוק חיוך. הנשק שלי הוא צחוק. צחוק הורג את הפחד צחוק מוליד טוב “אור” אלו המחשבות הטובות שלי על המלחמה הרעה . \n\n\n\nלושה גבריאלוב. \n\n\n\n*הצגה ללא מילים \n\n\n\n*הצגה ללא מילים \n\n  \n\nКогда создавался этот спектакль\, Российская армия начала бомбить электростанции Украины. Украина погрузилась в холод и тьму. Весь мир начал скидываться на одеяла и генераторы. Тут и пришло название для спектакля – “Свет”.  Я\, как и все\, задавался вопросом\, а что я то могу сделать\, чтобы война прекратилась? Все просто.. Чтобы победить тьму\, надо зажечь свет. Кто что может\, спичка\, фонарик\, свеча\, уголек\, добрая мысль\, улыбка. Моё оружие – смех. Смех убивает страх. Смех рождает добро. \n“Свет”  это мои добрые мысли о страшной войне… \nЛеша Гавриэлов \n*спектакль без слов \n\n  \n 
URL:https://davai-group.org/event/light-karon-festival/
LOCATION:תיאטרון הקרון
ATTACH;FMTTYPE=image/jpeg:https://davai-group.org/wp-content/uploads/2023/12/ARI_8422-Large.jpeg
ORGANIZER;CN="Davai Clown Theatre":MAILTO:davai.group@gmail.com
END:VEVENT
BEGIN:VEVENT
DTSTART;TZID=Europe/Helsinki:20240821T170000
DTEND;TZID=Europe/Helsinki:20240821T180000
DTSTAMP:20260420T183247
CREATED:20240528T095317Z
LAST-MODIFIED:20240612T024306Z
UID:10000074-1724259600-1724263200@davai-group.org
SUMMARY:המזיענים (4+) בפסטיבל אסיטאג׳@ בית ליסין
DESCRIPTION:מופע ספורט ליצני לכל המשפחה \n\n\n\nגבוה יותר\, רחוק יותר\, חזק יותר! \n\n\n\nשלושה נוודים מרופטים מגיעים לבמה שעליה כיכבו עוד במאה הקודמת\, ולמרבה הפתעתם\, מוצאים שם את הצלע הרביעית שחיפשו במשך כל השנים האלה! \n\n\n\nנשאר לנער אבק מהתלבושות ולקוות שכולם זוכרים את המופע! \n\n\n\nקבלו את נבחרת הליצנים האולימפית: \n\n\n\nואדים אקסטרים – מרסק הלבנים עומאר המוזר – הצולף בבלונים קסיאן הקפצן – הממריא לעננים זאק החזק – שכל דבר מרים \n\n\n\nמופע מצחיק\, צבעוני ודינמי\, חגיגה תיאטרלית בשיתוף הקהל. \n\n\n\nמשך: 45 ד׳ קהל יעד: מגיל 3 ועד בכלל כולל הכול שפה: ללא \n\n\n\n\n\n\n 
URL:https://davai-group.org/event/mazianim-august-lessin/
LOCATION:בית ליסין\, תל אביב
ATTACH;FMTTYPE=image/png:https://davai-group.org/wp-content/uploads/2024/03/750_0668-1-1.png
ORGANIZER;CN="Davai Clown Theatre":MAILTO:davai.group@gmail.com
END:VEVENT
END:VCALENDAR