BEGIN:VCALENDAR
VERSION:2.0
PRODID:-//Davai Group - ECPv6.15.18//NONSGML v1.0//EN
CALSCALE:GREGORIAN
METHOD:PUBLISH
X-WR-CALNAME:Davai Group
X-ORIGINAL-URL:https://davai-group.org
X-WR-CALDESC:Events for Davai Group
REFRESH-INTERVAL;VALUE=DURATION:PT1H
X-Robots-Tag:noindex
X-PUBLISHED-TTL:PT1H
BEGIN:VTIMEZONE
TZID:Europe/Helsinki
BEGIN:DAYLIGHT
TZOFFSETFROM:+0200
TZOFFSETTO:+0300
TZNAME:EEST
DTSTART:20250330T010000
END:DAYLIGHT
BEGIN:STANDARD
TZOFFSETFROM:+0300
TZOFFSETTO:+0200
TZNAME:EET
DTSTART:20251026T010000
END:STANDARD
BEGIN:DAYLIGHT
TZOFFSETFROM:+0200
TZOFFSETTO:+0300
TZNAME:EEST
DTSTART:20260329T010000
END:DAYLIGHT
BEGIN:STANDARD
TZOFFSETFROM:+0300
TZOFFSETTO:+0200
TZNAME:EET
DTSTART:20261025T010000
END:STANDARD
BEGIN:DAYLIGHT
TZOFFSETFROM:+0200
TZOFFSETTO:+0300
TZNAME:EEST
DTSTART:20270328T010000
END:DAYLIGHT
BEGIN:STANDARD
TZOFFSETFROM:+0300
TZOFFSETTO:+0200
TZNAME:EET
DTSTART:20271031T010000
END:STANDARD
END:VTIMEZONE
BEGIN:VEVENT
DTSTART;TZID=Europe/Helsinki:20260509T110000
DTEND;TZID=Europe/Helsinki:20260509T120000
DTSTAMP:20260419T235531
CREATED:20251229T131051Z
LAST-MODIFIED:20260303T145624Z
UID:10000319-1778324400-1778328000@davai-group.org
SUMMARY:אפצ׳י (3+) @ סטודיו דוואי
DESCRIPTION:אפצ’י \n\n\n\n*מבוסס על צינון אמיתי \n\n\n\n\n\n\n\nשיחת טלפון חשובה מזרזת את הליצן להתארגן ולצאת מביתו כדי לדוג דג גדול.  \n\n\n\nלמרות הגשם המפתיע\, מחליט הליצן שזו הזדמנות שאסור לפספס ומתוך כל ההתארגנות המהירה שוכח לנעול  את נעליו וכך דורך על שלולית גדולה…  \n\n\n\nהאפצ’י הראשון לא מאחר להגיע וכך גם הבאים אחריו.  \n\n\n\nמתוסכל\, חולה ומנוזל\, נשאר הליצן בביתו\, מוקף ברחמים עצמיים ובחפצים שמקבלים לפתע חיים ובחכה שכבר לא תתפוס היום דגים. מתוך כך\,  \n\n\n\nמחליט לרפא את עצמו ולא להיכנע לרחמים העצמיים ובצורה משעשעת יוצר לעצמו תרופת פלא ולומד להתגבר לגמרי לבד על קשייו.   \n\n\n\n\n\n\n\nאפצי הוא מופע של תיאטרון חזותי-פיזי ללא מילים הפונה לילדים הקטנים שבחבורה\, ויענג במיוחד את בני 3-6 \n\n\n\n\n\n\n\nיוצרים: \n\n\n\nיצירה\, בימוי\,עיצוב תפאורה\, עריכה מוסיקלית ומשחק: לושה גבריאלוב  \n\n\n\nתאורה: איליה גרצ׳יקוב \n\n\n\n\n\n\n[vc_video link=’https://www.youtube.com/watch?v=r3L9otmRp2c&ab_channel=DavaiTheatre’]
URL:https://davai-group.org/event/apchee-7-march/
LOCATION:DAVAI Theatre Studio\, Franzos St 12\, Tel Aviv-Yafo
ATTACH;FMTTYPE=image/jpeg:https://davai-group.org/wp-content/uploads/2021/12/11220132_702186963219763_5987811804387943074_n.jpg
ORGANIZER;CN="Davai Clown Theatre":MAILTO:davai.group@gmail.com
GEO:32.05551725605;34.763571924569
X-APPLE-STRUCTURED-LOCATION;VALUE=URI;X-ADDRESS=DAVAI Theatre Studio Franzos St 12 Tel Aviv-Yafo;X-APPLE-RADIUS=500;X-TITLE=Franzos St 12:geo:34.763571924569,32.05551725605
END:VEVENT
BEGIN:VEVENT
DTSTART;TZID=Europe/Helsinki:20260509T203000
DTEND;TZID=Europe/Helsinki:20260509T213000
DTSTAMP:20260419T235531
CREATED:20260419T133237Z
LAST-MODIFIED:20260419T193110Z
UID:10000351-1778358600-1778362200@davai-group.org
SUMMARY:טיטו והטעויות (16+) | הצגה אורחת
DESCRIPTION:טיטו והטעויות 16+ \n\n\n\n\n\n\n\nליצן ופילוסוף של טעויות מגיע באיחור של עשרות שנים למסיבת יום הולדת — ומגלה שהילדים כבר מזמן התבגרו. המופע נע בין סלפסטיק פרוע \n\n\n\nלווידויים אישיים\, בין קומדיה שחורה לחמלה. מופע ליצנות למבוגרים מצחיק\, חשוף\, ולא צפוי. \n\n\n\n\n\n\n\n\n\n\n\n\n\n\n\n\n\n\n\n \n\n\n\nאורך המופע: 50 דקותמגיל 16+ \n\n\n\nיוצר ומבצע: משה טיטו טויטו צ’ודס הראשוןתודה מיוחדת לדוש (דויד בראשי) ולרותם לוי וגה על התמיכה והליווי האמנותי. \n\n\n\n\n\n\n\n\n\nמהביקורות : \n\n\n\n\n\n\n“טיטו והטעויות” הוא מופע ליצנות שנון\, מצחיק ואנושי המצליח לרתק ולחבר את הילדים והמבוגרים כאחד.משה טויטו בדמותו הכנה והרגישה הפך טעויות ובלאגן לרגעי קסם\, גרם לצחוק משותף הנגע בכל הקהלים\,האלתורים היו חכמים ומדויקים וההתייחסות לקהל ולמרחב היתה מלאת תשומת לב וחמלה\,זה הוא מופע המזכיר לכולנו כמה יופי יש בטעות וכמה יצירתיות דרושה להפוך אותה להצלחה.
URL:https://davai-group.org/event/tito-9-may/
LOCATION:DAVAI Theatre Studio\, Franzos St 12\, Tel Aviv-Yafo
ATTACH;FMTTYPE=image/jpeg:https://davai-group.org/wp-content/uploads/2026/04/tito-2.jpg
GEO:32.05551725605;34.763571924569
X-APPLE-STRUCTURED-LOCATION;VALUE=URI;X-ADDRESS=DAVAI Theatre Studio Franzos St 12 Tel Aviv-Yafo;X-APPLE-RADIUS=500;X-TITLE=Franzos St 12:geo:34.763571924569,32.05551725605
END:VEVENT
BEGIN:VEVENT
DTSTART;TZID=Europe/Helsinki:20260523T203000
DTEND;TZID=Europe/Helsinki:20260523T213000
DTSTAMP:20260419T235531
CREATED:20260202T170309Z
LAST-MODIFIED:20260202T170437Z
UID:10000336-1779568200-1779571800@davai-group.org
SUMMARY:One Thing Show (12+) @ Studio Davai
DESCRIPTION:ONE THING SHOW 12+ \n\n\n\n\n\n\n\n סאגה אנושית מאת חפץ אחד\n\n\n\n\n\n\n\nעל הקו שבין יש ואין ובין דרמה לקומדיה נמצאת  ה״הצגה של חפץ אחד״ – \n\n\n\nהצגת תיאטרון ללא מילים וללא תפאורה\,  \n\n\n\nמופע פואטי על משמעות החיים בעזרת חפץ חסר משמעות מסע מכשף אל מקור היצירתיות וההמצאה\, \n\n\n\nשתצאו ממנו מלאי השראה שואב את הצופה לתוך עולם לירי\, רווי בהומור אבסורדי מבעד לגרוטסקה הליצנית\, \n\n\n\nהווירטואוזיות התנועתית והצחוק\, מבצבצות תובנות על העולם ועל האדם החי בתוכו. \n\n\n\n\n\n\n\n\n\n\n\n\n“יצירת מופת\, ליצנות וירטואוזית ופיוטית” שי בר יעקב\, 7 לילות \n\n\n\nהצגת מלאה בהומור\, יצירתיות וכשרון” גלי עמרן\, מרפסת \n\n\n\n\n\n\n\n\n\n\n\n\nזוכה פרס חבר השופטים וחביבת הקהל פסטיבל Clown Fest\, מוסקבה \n\n\n\n\n\n\n\n\n\nקרדיטים: \n\n\n\nמאת ובביצוע: ויטלי אזרין \n\n\n\nדרמטורגיה: לושה גבריאלוב \n\n\n\nמוזיקה: ולאד פובולצקי\, סרגיי בורקוב\, ויטלי אזרין \n\n\n\nתלבושות: טינה סינדלובסקי \n\n\n\n\n\n\n\nמידע כללי: \n\n\n\n משך המופע: 50 דקות ללא הפסקה \n\n\n\nשפה: ללא \n\n\n\n\n\n\n\n\n\n\n\n\n\n\n[vc_video link=’https://www.youtube.com/watch?v=_o1U_TUx3pM&ab_channel=DavaiTheatre’] \n\n\n\n\n\n\n[vc_video link=’https://youtube.com/shorts/MVH-ZlQEOMs?si=JmNuu5DaasHDtWKX’]
URL:https://davai-group.org/event/1thing-23-may/
LOCATION:DAVAI Theatre Studio\, Franzos St 12\, Tel Aviv-Yafo
ATTACH;FMTTYPE=image/jpeg:https://davai-group.org/wp-content/uploads/2007/06/MaximDinshteinPhotography_AX12813-scaled.jpg
ORGANIZER;CN="Davai Clown Theatre":MAILTO:davai.group@gmail.com
GEO:32.05551725605;34.763571924569
X-APPLE-STRUCTURED-LOCATION;VALUE=URI;X-ADDRESS=DAVAI Theatre Studio Franzos St 12 Tel Aviv-Yafo;X-APPLE-RADIUS=500;X-TITLE=Franzos St 12:geo:34.763571924569,32.05551725605
END:VEVENT
BEGIN:VEVENT
DTSTART;TZID=Europe/Helsinki:20260530T110000
DTEND;TZID=Europe/Helsinki:20260530T120000
DTSTAMP:20260419T235531
CREATED:20260309T113522Z
LAST-MODIFIED:20260331T121332Z
UID:10000348-1780138800-1780142400@davai-group.org
SUMMARY:סבתא פרידה (4+) @ סטודיו דוואי
DESCRIPTION:סבתא פרידה 4+  \n\n\n\n\n\n\n\nאי שם בדירה קטנה חיה לה סבתא בודדה ושמה פרידה. אין לה אף אחד\, רק דג זהב אחד קטן. אבל האם משעמם לה בחיים? הלוואי!  \n\n\n\nהחיים שלה זה לונה פארק\, רכבת הרים\, קרקס!  \n\n\n\nניקיון הבית הופך לג׳אגלינג\, החלפת נורה לאקרובטיקה\, צפייה בטלוויזיה למחול של זומבים וטיפול תרופתי בגב תפוס – למסע ביערות הגשם\, שם פוגשת פרידה את נסיך חלומותיה! \n\n\n\nחוץ מזה\, כן\, זאת סבתא בודדה בדירה קטנה עם דג זהב. \n\n\n\n\n\n\n\nההצגה היא מבול של הומור והפתעות\, מסע לתוך עולם מצחיק ותמים עם דמות מופרעת שמתחבבת מיד על הקטנים והגדולים ומשאירה אחריה מצב רוח טוב וריח של פופקורן. \n\n\n\n\n\n\n\n\n\n\n\n\n\nמידע כללי: \n\n\n\nשפה: עברית \n\n\n\nמשך ההצגה: 45 דק׳ \n\n\n\nלגילאי 4-10 והוריה \n\n\n\n\n\n\n\n\n\n\n\nיוצרים: \n\n\n\nכתיבה\, בימוי\, משחק\, עריכה מוסיקלית\, עיצוב\, כוריאוגרפיה: פיודור מקרובייעוץ בימתי: לושה גבריאלוב\, מריה נמירובסקיעיצוב תאורה: איליה גרצ׳יקובעיצוב סאונד: דניאל קורונקביץ׳ \n\n\n\n\n\n\n\n\n[vc_video link=’https://www.youtube.com/watch?v=KWmi5e7KwMs’]
URL:https://davai-group.org/event/frida-30-may/
LOCATION:DAVAI Theatre Studio\, Franzos St 12\, Tel Aviv-Yafo
ATTACH;FMTTYPE=image/jpeg:https://davai-group.org/wp-content/uploads/2025/01/frida.jpeg
ORGANIZER;CN="Davai Clown Theatre":MAILTO:davai.group@gmail.com
GEO:32.05551725605;34.763571924569
X-APPLE-STRUCTURED-LOCATION;VALUE=URI;X-ADDRESS=DAVAI Theatre Studio Franzos St 12 Tel Aviv-Yafo;X-APPLE-RADIUS=500;X-TITLE=Franzos St 12:geo:34.763571924569,32.05551725605
END:VEVENT
BEGIN:VEVENT
DTSTART;TZID=Europe/Helsinki:20260604T203000
DTEND;TZID=Europe/Helsinki:20260604T220000
DTSTAMP:20260419T235531
CREATED:20260114T124250Z
LAST-MODIFIED:20260303T145426Z
UID:10000331-1780605000-1780610400@davai-group.org
SUMMARY:Under Construction (12+) @ חיפה
DESCRIPTION:UNDER CONSTRUCTION 12+ \n\n\n\n\n\n\n\nמופע תיאטרון פיזי ללא מילים \n\n\n\n\n\n\n\nשלושה רווקים מתעוררים בבוקר בדירתם הצפוצה והמתפרקת ומנסים להרתיח קומקום. \n\n\n\nהתוצאה – 80 דקות של הומור מטורף ללא מלים שסוחפות את הצופה לעולם אבסורדי\, בדיוני\, ואמיתי עד כדי דגדוג. \n\n\n\n\n\n\n\nהמופע הוצג בפסטיבלים בינלאומיים לתיאטרון במקסיקו\, ספרד\, הודו\, סרביה\, רוסיה וארה׳׳ב וזכה בפרס קיפוד הזהב. \n\n\n\n\n\n\n\n\n\n\n Jerusalem Post: ״מצחיק בטירוף\, תוצר דמיונם הפרוע של שלושה ליצנים וירטואוזים״   \n\n\n\n Times Of India: ״המופע קרע את הקהל מצחוק״…  \n\n\n\nCleveland News: “…שבעיים דקות מהפנטות ללא מילים”  \n\n\n\n פסטיבל אינפנט\, סרביה: ״אקספרסיביות בלתי רגילה שחוצה את גבולות התיאטרון  מנימוקי חבר השופטים“ \n\n\n\nמגזין ״מרתה יודעת״: פרינג’ במיטבו – “בועט\, חדשני\, חוויה מסעירה לכל החושים\, המתובלת במנה גדושה של פעלולים  \n\n\n\nטכניים ופיזיים המבוצעים לעילא על ידי השחקנים. \n\n\n\n\n\n\n\n\n\n\n\n\n\n\n\n\n\n\nוצרים: \n\n\n\n\n\n\n\nבימוי\,ביצוע ומשחק:  \n\n\n\nלושה גבריאלוב\, פיודור מקרוב\, ויטלי אזרין \n\n\n\nמלחין: דניאל סינייסקי \n\n\n\nתאורה: איליה גרצ׳יקוב | דורון דודין \n\n\n\nסאונד: דניאל קורונקביץ׳ \n\n\n\nתלבושות: יסמין וולק \n\n\n\nתפאורה: לושה גבריאלוב \n\n\n\n\n\n\n\n\n\n\n\nומידע כללי: \n\n\n\n\n\n\n\nללא מילים \n\n\n\nמשך ההצגה: 80 דק׳ \n\n\n\nמתאים מגיל 12+* \n\n\n\n*בהצגה יש עירום חלקי \n\n\n\n\n\n\n\n\n\n\n\n\n\n\n\n\n\n\n[vc_video link=’https://www.youtube.com/watch?v=k168onFuDko&embeds_referring_euri=https%3A%2F%2Fdavai-group.org%2F&source_ve_path=Mjg2NjY’]
URL:https://davai-group.org/event/under-5-march-haifa/
LOCATION:בית הגפן\, הגפן 2\, חיפה
ATTACH;FMTTYPE=image/jpeg:https://davai-group.org/wp-content/uploads/2025/02/Under-haifa-1.jpg
ORGANIZER;CN="Davai Clown Theatre":MAILTO:davai.group@gmail.com
END:VEVENT
BEGIN:VEVENT
DTSTART;TZID=Europe/Helsinki:20260606T110000
DTEND;TZID=Europe/Helsinki:20260606T120000
DTSTAMP:20260419T235531
CREATED:20260419T192426Z
LAST-MODIFIED:20260419T193303Z
UID:10000352-1780743600-1780747200@davai-group.org
SUMMARY:טיטו והטעויות (4+) | הצגה אורחת
DESCRIPTION:טיטו והטעויות 4+ \n\n\n\n\n\n\n\nמופע ליצנות אינטראקטיבי לכל המשפחהמופע סוחף שבו ילדים והורים לא רק צופים – אלא משתתפים\, צוחקים\,ונכנסים לעולם שבו טעויות הן חלק מהקסם. \n\n\n\n\n\n\n\nעל המופע:כשהיינו ילדים אמרו לנו: “אל תטעה\, תיזהר\, תפסיק לעשות שטויות”אבל טיטו? הוא עושה בדיוק ההפך.טיטו מגיע לחגוג יום הולדת לכולם — ועם כל הטעויות שלו הוא יוצר מופע מצחיק\, מפתיע ומלא לב\, שבו הקהל הופך לחלק בלתי נפרד מהחוויה. \n\n\n\nזו חוויה שבה כולם בפנים — צוחקים\, משתתפים\, ומרגישים חלק מהקסם. \n\n\n\n\n\n\n\n\nהמופע “טיטו והטעויות” זכה בפרס קיפוד הזהב 2025 כהצגה הטובה \n\n\n\nיצירה וביצוע : משה טיטו וויטו צ’ודס הראשוןתודה מיוחדת לדוש (דויד בראשי) ולרותם לוי וגה על התמיכה והליווי האמנותי. \n\n\n\n\n\n\n\n\nמהביקורות : \n\n\n\n\n\n\n“טיטו והטעויות” הוא מופע ליצנות שנון\, מצחיק ואנושי המצליח לרתק ולחבר את הילדים והמבוגרים כאחד.משה טויטו בדמותו הכנה והרגישה הפך טעויות ובלאגן לרגעי קסם\, גרם לצחוק משותף הנגע בכל הקהלים\,האלתורים היו חכמים ומדויקים וההתייחסות לקהל ולמרחב היתה מלאת תשומת לב וחמלה\,זה הוא מופע המזכיר לכולנו כמה יופי יש בטעות וכמה יצירתיות דרושה להפוך אותה להצלחה.
URL:https://davai-group.org/event/tito-kids-6-june/
LOCATION:DAVAI Theatre Studio\, Franzos St 12\, Tel Aviv-Yafo
ATTACH;FMTTYPE=image/jpeg:https://davai-group.org/wp-content/uploads/2026/04/tito-kids-1.jpg
GEO:32.05551725605;34.763571924569
X-APPLE-STRUCTURED-LOCATION;VALUE=URI;X-ADDRESS=DAVAI Theatre Studio Franzos St 12 Tel Aviv-Yafo;X-APPLE-RADIUS=500;X-TITLE=Franzos St 12:geo:34.763571924569,32.05551725605
END:VEVENT
BEGIN:VEVENT
DTSTART;TZID=Europe/Helsinki:20260611T190000
DTEND;TZID=Europe/Helsinki:20260611T203000
DTSTAMP:20260419T235531
CREATED:20260129T130808Z
LAST-MODIFIED:20260204T125616Z
UID:10000333-1781204400-1781209800@davai-group.org
SUMMARY:Under Construction (12+) @ ערד
DESCRIPTION:11.06.2026 | 19:00 \n\n\n\n\n\n\n\nUnder Construction @ מתנ”ס ערד\n\n\n\n\n\n\n\n\nתעדכנו אותי ברגע שנפתחת המכירה\n\n\n\n\n\n\n\n\n\n\n\n\n\n\nUNDER CONSTRUCTION 12+ \n\n\n\n\n\n\n\nמופע תיאטרון פיזי ללא מילים \n\n\n\n\n\n\n\nשלושה רווקים מתעוררים בבוקר בדירתם הצפוצה והמתפרקת ומנסים להרתיח קומקום. \n\n\n\nהתוצאה – 80 דקות של הומור מטורף ללא מלים שסוחפות את הצופה לעולם אבסורדי\, בדיוני\, ואמיתי עד כדי דגדוג. \n\n\n\n\n\n\n\nהמופע הוצג בפסטיבלים בינלאומיים לתיאטרון במקסיקו\, ספרד\, הודו\, סרביה\, רוסיה וארה׳׳ב וזכה בפרס קיפוד הזהב. \n\n\n\n\n\n\n\n\n\n\n Jerusalem Post: ״מצחיק בטירוף\, תוצר דמיונם הפרוע של שלושה ליצנים וירטואוזים״   \n\n\n\n Times Of India: ״המופע קרע את הקהל מצחוק״…  \n\n\n\nCleveland News: “…שבעיים דקות מהפנטות ללא מילים”  \n\n\n\n פסטיבל אינפנט\, סרביה: ״אקספרסיביות בלתי רגילה שחוצה את גבולות התיאטרון  מנימוקי חבר השופטים“ \n\n\n\nמגזין ״מרתה יודעת״: פרינג’ במיטבו – “בועט\, חדשני\, חוויה מסעירה לכל החושים\, המתובלת במנה גדושה של פעלולים  \n\n\n\nטכניים ופיזיים המבוצעים לעילא על ידי השחקנים. \n\n\n\n\n\n\n\n\n\n\n\n\n\n\n\n\n\n\nוצרים: \n\n\n\n\n\n\n\nבימוי\,ביצוע ומשחק:  \n\n\n\nלושה גבריאלוב\, פיודור מקרוב\, ויטלי אזרין \n\n\n\nמלחין: דניאל סינייסקי \n\n\n\nתאורה: איליה גרצ׳יקוב | דורון דודין \n\n\n\nסאונד: דניאל קורונקביץ׳ \n\n\n\nתלבושות: יסמין וולק \n\n\n\nתפאורה: לושה גבריאלוב \n\n\n\n\n\n\n\n\n\n\n\nומידע כללי: \n\n\n\n\n\n\n\nללא מילים \n\n\n\nמשך ההצגה: 80 דק׳ \n\n\n\nמתאים מגיל 12+* \n\n\n\n*בהצגה יש עירום חלקי \n\n\n\n\n\n\n\n\n\n\n\n\n\n\n\n\n\n\n[vc_video link=’https://www.youtube.com/watch?v=k168onFuDko&embeds_referring_euri=https%3A%2F%2Fdavai-group.org%2F&source_ve_path=Mjg2NjY’]
URL:https://davai-group.org/event/under-11-july-arad/
LOCATION:מתנ”ס\, Elazar Ben Ya'ir St 28\, ערד
ATTACH;FMTTYPE=image/jpeg:https://davai-group.org/wp-content/uploads/2026/01/arad.jpg
ORGANIZER;CN="Davai Clown Theatre":MAILTO:davai.group@gmail.com
END:VEVENT
BEGIN:VEVENT
DTSTART;TZID=Europe/Helsinki:20260623T203000
DTEND;TZID=Europe/Helsinki:20260623T220000
DTSTAMP:20260419T235531
CREATED:20260113T113229Z
LAST-MODIFIED:20260308T220226Z
UID:10000329-1782246600-1782252000@davai-group.org
SUMMARY:Under Construction (12+) @ ראשון לציון
DESCRIPTION:UNDER CONSTRUCTION 12+ \n\n\n\n\n\n\n\nמופע תיאטרון פיזי ללא מילים \n\n\n\n\n\n\n\nשלושה רווקים מתעוררים בבוקר בדירתם הצפוצה והמתפרקת ומנסים להרתיח קומקום. \n\n\n\nהתוצאה – 80 דקות של הומור מטורף ללא מלים שסוחפות את הצופה לעולם אבסורדי\, בדיוני\, ואמיתי עד כדי דגדוג. \n\n\n\n\n\n\n\nהמופע הוצג בפסטיבלים בינלאומיים לתיאטרון במקסיקו\, ספרד\, הודו\, סרביה\, רוסיה וארה׳׳ב וזכה בפרס קיפוד הזהב. \n\n\n\n\n\n\n\n\n\n\n Jerusalem Post: ״מצחיק בטירוף\, תוצר דמיונם הפרוע של שלושה ליצנים וירטואוזים״   \n\n\n\n Times Of India: ״המופע קרע את הקהל מצחוק״…  \n\n\n\nCleveland News: “…שבעיים דקות מהפנטות ללא מילים”  \n\n\n\n פסטיבל אינפנט\, סרביה: ״אקספרסיביות בלתי רגילה שחוצה את גבולות התיאטרון  מנימוקי חבר השופטים“ \n\n\n\nמגזין ״מרתה יודעת״: פרינג’ במיטבו – “בועט\, חדשני\, חוויה מסעירה לכל החושים\, המתובלת במנה גדושה של פעלולים  \n\n\n\nטכניים ופיזיים המבוצעים לעילא על ידי השחקנים. \n\n\n\n\n\n\n\n\n\n\n\n\n\n\n\n\n\n\nוצרים: \n\n\n\n\n\n\n\nבימוי\,ביצוע ומשחק:  \n\n\n\nלושה גבריאלוב\, פיודור מקרוב\, ויטלי אזרין \n\n\n\nמלחין: דניאל סינייסקי \n\n\n\nתאורה: איליה גרצ׳יקוב | דורון דודין \n\n\n\nסאונד: דניאל קורונקביץ׳ \n\n\n\nתלבושות: יסמין וולק \n\n\n\nתפאורה: לושה גבריאלוב \n\n\n\n\n\n\n\n\n\n\n\nומידע כללי: \n\n\n\n\n\n\n\nללא מילים \n\n\n\nמשך ההצגה: 80 דק׳ \n\n\n\nמתאים מגיל 12+* \n\n\n\n*בהצגה יש עירום חלקי \n\n\n\n\n\n\n\n\n\n\n\n\n\n\n\n\n\n\n[vc_video link=’https://www.youtube.com/watch?v=k168onFuDko&embeds_referring_euri=https%3A%2F%2Fdavai-group.org%2F&source_ve_path=Mjg2NjY’]
URL:https://davai-group.org/event/under-26-february-rishon/
LOCATION:Mofet Cultural Center\, Rothschild St 60\, Rishon LeZion
ATTACH;FMTTYPE=image/jpeg:https://davai-group.org/wp-content/uploads/2026/01/under-rishon.jpg
ORGANIZER;CN="Davai Clown Theatre":MAILTO:davai.group@gmail.com
END:VEVENT
END:VCALENDAR